BEGIN:VCALENDAR
VERSION:2.0
PRODID:-//DANCE SOUL 舞魂街舞學校 - ECPv6.15.18//NONSGML v1.0//EN
CALSCALE:GREGORIAN
METHOD:PUBLISH
X-WR-CALNAME:DANCE SOUL 舞魂街舞學校
X-ORIGINAL-URL:https://www.dancesoul.com.tw
X-WR-CALDESC:Events for DANCE SOUL 舞魂街舞學校
REFRESH-INTERVAL;VALUE=DURATION:PT1H
X-Robots-Tag:noindex
X-PUBLISHED-TTL:PT1H
BEGIN:VTIMEZONE
TZID:Asia/Shanghai
BEGIN:STANDARD
TZOFFSETFROM:+0800
TZOFFSETTO:+0800
TZNAME:CST
DTSTART:20230101T000000
END:STANDARD
END:VTIMEZONE
BEGIN:VEVENT
DTSTART;TZID=Asia/Shanghai:20240202T150000
DTEND;TZID=Asia/Shanghai:20240202T160000
DTSTAMP:20260426T101357
CREATED:20240128T063000Z
LAST-MODIFIED:20240128T063000Z
UID:10019009-1706886000-1706889600@www.dancesoul.com.tw
SUMMARY:Street Jazz(初)-育暉
DESCRIPTION:
URL:https://www.dancesoul.com.tw/schedule/street-jazz%e5%88%9d-%e8%82%b2%e6%9a%89-8/
CATEGORIES:STREET JAZZ 初級,常態課_初級,課程
END:VEVENT
BEGIN:VEVENT
DTSTART;TZID=Asia/Shanghai:20240202T161000
DTEND;TZID=Asia/Shanghai:20240202T171000
DTSTAMP:20260426T101357
CREATED:20240128T063124Z
LAST-MODIFIED:20240128T063124Z
UID:10019010-1706890200-1706893800@www.dancesoul.com.tw
SUMMARY:Free Style(初)-Larry
DESCRIPTION:
URL:https://www.dancesoul.com.tw/schedule/free-style%e5%88%9d-larry-6/
CATEGORIES:Freestyle 初級,常態課_初級,課程
END:VEVENT
BEGIN:VEVENT
DTSTART;TZID=Asia/Shanghai:20240202T172000
DTEND;TZID=Asia/Shanghai:20240202T182000
DTSTAMP:20260426T101357
CREATED:20240128T063224Z
LAST-MODIFIED:20240128T063224Z
UID:10019011-1706894400-1706898000@www.dancesoul.com.tw
SUMMARY:Free Style(初)-少麟
DESCRIPTION:
URL:https://www.dancesoul.com.tw/schedule/free-style%e5%88%9d-%e5%b0%91%e9%ba%9f-3/
CATEGORIES:Freestyle 初級,常態課_初級,課程
END:VEVENT
BEGIN:VEVENT
DTSTART;TZID=Asia/Shanghai:20240202T183000
DTEND;TZID=Asia/Shanghai:20240202T193000
DTSTAMP:20260426T101357
CREATED:20240129T043256Z
LAST-MODIFIED:20240129T043256Z
UID:10019199-1706898600-1706902200@www.dancesoul.com.tw
SUMMARY:Street Jazz(初)-Cen妹
DESCRIPTION:
URL:https://www.dancesoul.com.tw/schedule/street-jazz%e5%88%9d-cen%e5%a6%b9-27/
CATEGORIES:STREET JAZZ 初級,常態課_初級,課程
END:VEVENT
BEGIN:VEVENT
DTSTART;TZID=Asia/Shanghai:20240202T194000
DTEND;TZID=Asia/Shanghai:20240202T204000
DTSTAMP:20260426T101357
CREATED:20240129T043513Z
LAST-MODIFIED:20240129T043513Z
UID:10019202-1706902800-1706906400@www.dancesoul.com.tw
SUMMARY:Hip Hop(初)-佐佐
DESCRIPTION:
URL:https://www.dancesoul.com.tw/schedule/hip-hop%e5%88%9d-%e4%bd%90%e4%bd%90-6/
CATEGORIES:Hip Hop 初級,常態課_初級,課程
END:VEVENT
BEGIN:VEVENT
DTSTART;TZID=Asia/Shanghai:20240202T205000
DTEND;TZID=Asia/Shanghai:20240202T215000
DTSTAMP:20260426T101357
CREATED:20240129T043703Z
LAST-MODIFIED:20240129T043703Z
UID:10019205-1706907000-1706910600@www.dancesoul.com.tw
SUMMARY:Jazz Funk-鈴鐺
DESCRIPTION:
URL:https://www.dancesoul.com.tw/schedule/jazz-funk-%e9%88%b4%e9%90%ba-14/
CATEGORIES:Jazz Funk,常態課_一般,課程
END:VEVENT
END:VCALENDAR