BEGIN:VCALENDAR
VERSION:2.0
PRODID:-//DANCE SOUL 舞魂街舞學校 - ECPv6.15.18//NONSGML v1.0//EN
CALSCALE:GREGORIAN
METHOD:PUBLISH
X-WR-CALNAME:DANCE SOUL 舞魂街舞學校
X-ORIGINAL-URL:https://www.dancesoul.com.tw
X-WR-CALDESC:Events for DANCE SOUL 舞魂街舞學校
REFRESH-INTERVAL;VALUE=DURATION:PT1H
X-Robots-Tag:noindex
X-PUBLISHED-TTL:PT1H
BEGIN:VTIMEZONE
TZID:Asia/Shanghai
BEGIN:STANDARD
TZOFFSETFROM:+0800
TZOFFSETTO:+0800
TZNAME:CST
DTSTART:20230101T000000
END:STANDARD
END:VTIMEZONE
BEGIN:VEVENT
DTSTART;TZID=Asia/Shanghai:20240203T132000
DTEND;TZID=Asia/Shanghai:20240203T142000
DTSTAMP:20260426T101450
CREATED:20240128T063351Z
LAST-MODIFIED:20240128T063351Z
UID:10019012-1706966400-1706970000@www.dancesoul.com.tw
SUMMARY:兒童街舞-薇臻
DESCRIPTION:
URL:https://www.dancesoul.com.tw/schedule/%e5%85%92%e7%ab%a5%e8%a1%97%e8%88%9e-%e8%96%87%e8%87%bb-2/
CATEGORIES:兒童街舞,兒童課,課程
END:VEVENT
BEGIN:VEVENT
DTSTART;TZID=Asia/Shanghai:20240203T143000
DTEND;TZID=Asia/Shanghai:20240203T153000
DTSTAMP:20260426T101450
CREATED:20240128T063856Z
LAST-MODIFIED:20240128T063856Z
UID:10019067-1706970600-1706974200@www.dancesoul.com.tw
SUMMARY:兒童MV-(ITZY - UNTOUCHABLE)-薇臻
DESCRIPTION:
URL:https://www.dancesoul.com.tw/schedule/%e5%85%92%e7%ab%a5mv-itzy-untouchable-%e8%96%87%e8%87%bb/
CATEGORIES:兒童MV,兒童課,課程
END:VEVENT
BEGIN:VEVENT
DTSTART;TZID=Asia/Shanghai:20240203T154000
DTEND;TZID=Asia/Shanghai:20240203T164000
DTSTAMP:20260426T101450
CREATED:20240128T064249Z
LAST-MODIFIED:20240128T064249Z
UID:10019070-1706974800-1706978400@www.dancesoul.com.tw
SUMMARY:兒童街舞-傘傘
DESCRIPTION:
URL:https://www.dancesoul.com.tw/schedule/%e5%85%92%e7%ab%a5%e8%a1%97%e8%88%9e-%e5%82%98%e5%82%98-28/
CATEGORIES:兒童街舞,兒童課,課程
END:VEVENT
BEGIN:VEVENT
DTSTART;TZID=Asia/Shanghai:20240203T165000
DTEND;TZID=Asia/Shanghai:20240203T175000
DTSTAMP:20260426T101450
CREATED:20240128T064512Z
LAST-MODIFIED:20240128T064512Z
UID:10019073-1706979000-1706982600@www.dancesoul.com.tw
SUMMARY:MV-(ITZY - UNTOUCHABLE)-怡妏
DESCRIPTION:
URL:https://www.dancesoul.com.tw/schedule/mv-itzy-untouchable-%e6%80%a1%e5%a6%8f/
CATEGORIES:MV課,課程
END:VEVENT
BEGIN:VEVENT
DTSTART;TZID=Asia/Shanghai:20240203T180000
DTEND;TZID=Asia/Shanghai:20240203T190000
DTSTAMP:20260426T101450
CREATED:20240128T064718Z
LAST-MODIFIED:20240128T064718Z
UID:10019076-1706983200-1706986800@www.dancesoul.com.tw
SUMMARY:Popping-紀威
DESCRIPTION:
URL:https://www.dancesoul.com.tw/schedule/popping-%e7%b4%80%e5%a8%81-36/
CATEGORIES:Poppin,常態課_一般,課程
END:VEVENT
BEGIN:VEVENT
DTSTART;TZID=Asia/Shanghai:20240203T191000
DTEND;TZID=Asia/Shanghai:20240203T201000
DTSTAMP:20260426T101450
CREATED:20240128T064951Z
LAST-MODIFIED:20240128T064951Z
UID:10019079-1706987400-1706991000@www.dancesoul.com.tw
SUMMARY:Hip Hop(初)-阿祥
DESCRIPTION:
URL:https://www.dancesoul.com.tw/schedule/hip-hop%e5%88%9d-%e9%98%bf%e7%a5%a5-9/
CATEGORIES:Hip Hop 初級,常態課_初級,課程
END:VEVENT
BEGIN:VEVENT
DTSTART;TZID=Asia/Shanghai:20240203T202000
DTEND;TZID=Asia/Shanghai:20240203T212000
DTSTAMP:20260426T101450
CREATED:20240128T065222Z
LAST-MODIFIED:20240128T065222Z
UID:10019082-1706991600-1706995200@www.dancesoul.com.tw
SUMMARY:基礎入門-雞蛋
DESCRIPTION:
URL:https://www.dancesoul.com.tw/schedule/%e5%9f%ba%e7%a4%8e%e5%85%a5%e9%96%80-%e9%9b%9e%e8%9b%8b-23/
CATEGORIES:基礎入門,常態課_初級,課程
END:VEVENT
END:VCALENDAR