BEGIN:VCALENDAR
VERSION:2.0
PRODID:-//DANCE SOUL 舞魂街舞學校 - ECPv6.15.18//NONSGML v1.0//EN
CALSCALE:GREGORIAN
METHOD:PUBLISH
X-WR-CALNAME:DANCE SOUL 舞魂街舞學校
X-ORIGINAL-URL:https://www.dancesoul.com.tw
X-WR-CALDESC:Events for DANCE SOUL 舞魂街舞學校
REFRESH-INTERVAL;VALUE=DURATION:PT1H
X-Robots-Tag:noindex
X-PUBLISHED-TTL:PT1H
BEGIN:VTIMEZONE
TZID:Asia/Shanghai
BEGIN:STANDARD
TZOFFSETFROM:+0800
TZOFFSETTO:+0800
TZNAME:CST
DTSTART:20230101T000000
END:STANDARD
END:VTIMEZONE
BEGIN:VEVENT
DTSTART;TZID=Asia/Shanghai:20240222T183000
DTEND;TZID=Asia/Shanghai:20240222T193000
DTSTAMP:20260426T012031
CREATED:20240129T042738Z
LAST-MODIFIED:20240129T042738Z
UID:10019189-1708626600-1708630200@www.dancesoul.com.tw
SUMMARY:Choreography-芭比
DESCRIPTION:
URL:https://www.dancesoul.com.tw/schedule/choreography-%e8%8a%ad%e6%af%94-18/2024-02-22/
CATEGORIES:Choreography,常態課_一般,課程
END:VEVENT
BEGIN:VEVENT
DTSTART;TZID=Asia/Shanghai:20240222T194000
DTEND;TZID=Asia/Shanghai:20240222T204000
DTSTAMP:20260426T012031
CREATED:20240129T042942Z
LAST-MODIFIED:20240129T042942Z
UID:10019193-1708630800-1708634400@www.dancesoul.com.tw
SUMMARY:Hip Hop-林彤
DESCRIPTION:
URL:https://www.dancesoul.com.tw/schedule/hip-hop-%e6%9e%97%e5%bd%a4-14/2024-02-22/
CATEGORIES:Hip Hop,常態課_一般,課程
END:VEVENT
BEGIN:VEVENT
DTSTART;TZID=Asia/Shanghai:20240222T205000
DTEND;TZID=Asia/Shanghai:20240222T215000
DTSTAMP:20260426T012031
CREATED:20240129T043129Z
LAST-MODIFIED:20240129T043129Z
UID:10019197-1708635000-1708638600@www.dancesoul.com.tw
SUMMARY:Jazz Funk-育暉
DESCRIPTION:
URL:https://www.dancesoul.com.tw/schedule/jazz-funk-%e8%82%b2%e6%9a%89-7/2024-02-22/
CATEGORIES:Jazz Funk,常態課_一般,課程
END:VEVENT
END:VCALENDAR