BEGIN:VCALENDAR
VERSION:2.0
PRODID:-//DANCE SOUL 舞魂街舞學校 - ECPv6.15.18//NONSGML v1.0//EN
CALSCALE:GREGORIAN
METHOD:PUBLISH
X-WR-CALNAME:DANCE SOUL 舞魂街舞學校
X-ORIGINAL-URL:https://www.dancesoul.com.tw
X-WR-CALDESC:Events for DANCE SOUL 舞魂街舞學校
REFRESH-INTERVAL;VALUE=DURATION:PT1H
X-Robots-Tag:noindex
X-PUBLISHED-TTL:PT1H
BEGIN:VTIMEZONE
TZID:Asia/Shanghai
BEGIN:STANDARD
TZOFFSETFROM:+0800
TZOFFSETTO:+0800
TZNAME:CST
DTSTART:20230101T000000
END:STANDARD
END:VTIMEZONE
BEGIN:VEVENT
DTSTART;TZID=Asia/Shanghai:20240225T132000
DTEND;TZID=Asia/Shanghai:20240225T142000
DTSTAMP:20260426T101450
CREATED:20240128T065547Z
LAST-MODIFIED:20240128T065547Z
UID:10019087-1708867200-1708870800@www.dancesoul.com.tw
SUMMARY:兒童街舞-羿芃
DESCRIPTION:
URL:https://www.dancesoul.com.tw/schedule/%e5%85%92%e7%ab%a5%e8%a1%97%e8%88%9e-%e7%be%bf%e8%8a%83-2/2024-02-25/
CATEGORIES:兒童街舞,兒童課,課程
END:VEVENT
BEGIN:VEVENT
DTSTART;TZID=Asia/Shanghai:20240225T143000
DTEND;TZID=Asia/Shanghai:20240225T153000
DTSTAMP:20260426T101450
CREATED:20240128T065815Z
LAST-MODIFIED:20240128T065815Z
UID:10019089-1708871400-1708875000@www.dancesoul.com.tw
SUMMARY:兒童MV-((G)I-DLE - Wife)-羿芃
DESCRIPTION:
URL:https://www.dancesoul.com.tw/schedule/%e5%85%92%e7%ab%a5mv-gi-dle-wife-%e7%be%bf%e8%8a%83/2024-02-25/
CATEGORIES:兒童MV,兒童課,課程
END:VEVENT
BEGIN:VEVENT
DTSTART;TZID=Asia/Shanghai:20240225T154000
DTEND;TZID=Asia/Shanghai:20240225T164000
DTSTAMP:20260426T101450
CREATED:20240128T070050Z
LAST-MODIFIED:20240128T070050Z
UID:10019093-1708875600-1708879200@www.dancesoul.com.tw
SUMMARY:兒童街舞-傘傘
DESCRIPTION:
URL:https://www.dancesoul.com.tw/schedule/%e5%85%92%e7%ab%a5%e8%a1%97%e8%88%9e-%e5%82%98%e5%82%98-31/2024-02-25/
CATEGORIES:兒童街舞,兒童課,課程
END:VEVENT
BEGIN:VEVENT
DTSTART;TZID=Asia/Shanghai:20240225T165000
DTEND;TZID=Asia/Shanghai:20240225T175000
DTSTAMP:20260426T101450
CREATED:20240128T070729Z
LAST-MODIFIED:20240128T070729Z
UID:10019096-1708879800-1708883400@www.dancesoul.com.tw
SUMMARY:MV-(ITZY - BORN TO BE)-瑜庭
DESCRIPTION:
URL:https://www.dancesoul.com.tw/schedule/mv-itzy-born-to-be-%e7%91%9c%e5%ba%ad-2/2024-02-25/
CATEGORIES:MV課,課程
END:VEVENT
BEGIN:VEVENT
DTSTART;TZID=Asia/Shanghai:20240225T180000
DTEND;TZID=Asia/Shanghai:20240225T190000
DTSTAMP:20260426T101450
CREATED:20240128T070932Z
LAST-MODIFIED:20240128T070932Z
UID:10019099-1708884000-1708887600@www.dancesoul.com.tw
SUMMARY:Street Jazz-育暉
DESCRIPTION:
URL:https://www.dancesoul.com.tw/schedule/street-jazz-%e8%82%b2%e6%9a%89-44/2024-02-25/
CATEGORIES:STREET JAZZ,常態課_一般,課程
END:VEVENT
BEGIN:VEVENT
DTSTART;TZID=Asia/Shanghai:20240225T191000
DTEND;TZID=Asia/Shanghai:20240225T201000
DTSTAMP:20260426T101450
CREATED:20240128T071225Z
LAST-MODIFIED:20240128T071225Z
UID:10019102-1708888200-1708891800@www.dancesoul.com.tw
SUMMARY:Free Style(初)-佳儒
DESCRIPTION:
URL:https://www.dancesoul.com.tw/schedule/free-style%e5%88%9d-%e4%bd%b3%e5%84%92-6/2024-02-25/
CATEGORIES:Freestyle 初級,常態課_初級,課程
END:VEVENT
END:VCALENDAR