BEGIN:VCALENDAR
VERSION:2.0
PRODID:-//DANCE SOUL 舞魂街舞學校 - ECPv6.15.18//NONSGML v1.0//EN
CALSCALE:GREGORIAN
METHOD:PUBLISH
X-WR-CALNAME:DANCE SOUL 舞魂街舞學校
X-ORIGINAL-URL:https://www.dancesoul.com.tw
X-WR-CALDESC:Events for DANCE SOUL 舞魂街舞學校
REFRESH-INTERVAL;VALUE=DURATION:PT1H
X-Robots-Tag:noindex
X-PUBLISHED-TTL:PT1H
BEGIN:VTIMEZONE
TZID:Asia/Shanghai
BEGIN:STANDARD
TZOFFSETFROM:+0800
TZOFFSETTO:+0800
TZNAME:CST
DTSTART:20230101T000000
END:STANDARD
END:VTIMEZONE
BEGIN:VEVENT
DTSTART;TZID=Asia/Shanghai:20240430T183000
DTEND;TZID=Asia/Shanghai:20240430T193000
DTSTAMP:20260422T200839
CREATED:20240326T092559Z
LAST-MODIFIED:20240326T092559Z
UID:10019409-1714501800-1714505400@www.dancesoul.com.tw
SUMMARY:Hip Hop(初)-阿禾
DESCRIPTION:
URL:https://www.dancesoul.com.tw/schedule/hip-hop%e5%88%9d-%e9%98%bf%e7%a6%be-48/2024-04-30/
CATEGORIES:Hip Hop 初級,常態課_初級,課程
END:VEVENT
BEGIN:VEVENT
DTSTART;TZID=Asia/Shanghai:20240430T194000
DTEND;TZID=Asia/Shanghai:20240430T204000
DTSTAMP:20260422T200839
CREATED:20240326T092749Z
LAST-MODIFIED:20240326T092749Z
UID:10019414-1714506000-1714509600@www.dancesoul.com.tw
SUMMARY:Street Jazz-Denis
DESCRIPTION:
URL:https://www.dancesoul.com.tw/schedule/street-jazz-denis-43/2024-04-30/
CATEGORIES:STREET JAZZ,常態課_一般,課程
END:VEVENT
BEGIN:VEVENT
DTSTART;TZID=Asia/Shanghai:20240430T205000
DTEND;TZID=Asia/Shanghai:20240430T215000
DTSTAMP:20260422T200839
CREATED:20240326T092839Z
LAST-MODIFIED:20240326T092839Z
UID:10019419-1714510200-1714513800@www.dancesoul.com.tw
SUMMARY:Choreography-少麟
DESCRIPTION:
URL:https://www.dancesoul.com.tw/schedule/choreography-%e5%b0%91%e9%ba%9f-6/2024-04-30/
CATEGORIES:Choreography,常態課_一般,課程
END:VEVENT
END:VCALENDAR