BEGIN:VCALENDAR
VERSION:2.0
PRODID:-//DANCE SOUL 舞魂街舞學校 - ECPv6.15.18//NONSGML v1.0//EN
CALSCALE:GREGORIAN
METHOD:PUBLISH
X-WR-CALNAME:DANCE SOUL 舞魂街舞學校
X-ORIGINAL-URL:https://www.dancesoul.com.tw
X-WR-CALDESC:Events for DANCE SOUL 舞魂街舞學校
REFRESH-INTERVAL;VALUE=DURATION:PT1H
X-Robots-Tag:noindex
X-PUBLISHED-TTL:PT1H
BEGIN:VTIMEZONE
TZID:Asia/Shanghai
BEGIN:STANDARD
TZOFFSETFROM:+0800
TZOFFSETTO:+0800
TZNAME:CST
DTSTART:20230101T000000
END:STANDARD
END:VTIMEZONE
BEGIN:VEVENT
DTSTART;TZID=Asia/Shanghai:20240507T183000
DTEND;TZID=Asia/Shanghai:20240507T193000
DTSTAMP:20260422T175821
CREATED:20240423T093308Z
LAST-MODIFIED:20240423T093308Z
UID:10019521-1715106600-1715110200@www.dancesoul.com.tw
SUMMARY:Hip Hop(初)-阿禾
DESCRIPTION:
URL:https://www.dancesoul.com.tw/schedule/hip-hop%e5%88%9d-%e9%98%bf%e7%a6%be-49/2024-05-07/
CATEGORIES:Hip Hop 初級,常態課_初級,課程
END:VEVENT
BEGIN:VEVENT
DTSTART;TZID=Asia/Shanghai:20240507T194000
DTEND;TZID=Asia/Shanghai:20240507T204000
DTSTAMP:20260422T175821
CREATED:20240423T093414Z
LAST-MODIFIED:20240423T093414Z
UID:10019525-1715110800-1715114400@www.dancesoul.com.tw
SUMMARY:Street Jazz-Denis
DESCRIPTION:
URL:https://www.dancesoul.com.tw/schedule/street-jazz-denis-44/2024-05-07/
CATEGORIES:STREET JAZZ,常態課_一般,課程
END:VEVENT
BEGIN:VEVENT
DTSTART;TZID=Asia/Shanghai:20240507T205000
DTEND;TZID=Asia/Shanghai:20240507T215000
DTSTAMP:20260422T175821
CREATED:20240423T093645Z
LAST-MODIFIED:20240423T093645Z
UID:10019529-1715115000-1715118600@www.dancesoul.com.tw
SUMMARY:Choreography-少麟
DESCRIPTION:
URL:https://www.dancesoul.com.tw/schedule/choreography-%e5%b0%91%e9%ba%9f-7/2024-05-07/
CATEGORIES:Choreography,常態課_一般,課程
END:VEVENT
END:VCALENDAR