BEGIN:VCALENDAR
VERSION:2.0
PRODID:-//DANCE SOUL 舞魂街舞學校 - ECPv6.15.18//NONSGML v1.0//EN
CALSCALE:GREGORIAN
METHOD:PUBLISH
X-ORIGINAL-URL:https://www.dancesoul.com.tw
X-WR-CALDESC:Events for DANCE SOUL 舞魂街舞學校
REFRESH-INTERVAL;VALUE=DURATION:PT1H
X-Robots-Tag:noindex
X-PUBLISHED-TTL:PT1H
BEGIN:VTIMEZONE
TZID:Asia/Shanghai
BEGIN:STANDARD
TZOFFSETFROM:+0800
TZOFFSETTO:+0800
TZNAME:CST
DTSTART:20230101T000000
END:STANDARD
END:VTIMEZONE
BEGIN:VEVENT
DTSTART;TZID=Asia/Shanghai:20240512T132000
DTEND;TZID=Asia/Shanghai:20240512T142000
DTSTAMP:20260422T123135
CREATED:20240423T085301Z
LAST-MODIFIED:20240423T085301Z
UID:10019486-1715520000-1715523600@www.dancesoul.com.tw
SUMMARY:兒童街舞-羿芃
DESCRIPTION:
URL:https://www.dancesoul.com.tw/schedule/%e5%85%92%e7%ab%a5%e8%a1%97%e8%88%9e-%e7%be%bf%e8%8a%83-5/2024-05-12/
CATEGORIES:兒童街舞,兒童課,課程
END:VEVENT
BEGIN:VEVENT
DTSTART;TZID=Asia/Shanghai:20240512T143000
DTEND;TZID=Asia/Shanghai:20240512T153000
DTSTAMP:20260422T123135
CREATED:20240423T085543Z
LAST-MODIFIED:20240423T085543Z
UID:10019490-1715524200-1715527800@www.dancesoul.com.tw
SUMMARY:兒童MV-(ILLIT – My World)-羿芃
DESCRIPTION:
URL:https://www.dancesoul.com.tw/schedule/%e5%85%92%e7%ab%a5mv-illit-my-world-%e7%be%bf%e8%8a%83/2024-05-12/
CATEGORIES:兒童MV,兒童課,課程
END:VEVENT
BEGIN:VEVENT
DTSTART;TZID=Asia/Shanghai:20240512T154000
DTEND;TZID=Asia/Shanghai:20240512T164000
DTSTAMP:20260422T123135
CREATED:20240423T092010Z
LAST-MODIFIED:20240423T092010Z
UID:10019494-1715528400-1715532000@www.dancesoul.com.tw
SUMMARY:兒童街舞-傘傘
DESCRIPTION:
URL:https://www.dancesoul.com.tw/schedule/%e5%85%92%e7%ab%a5%e8%a1%97%e8%88%9e-%e5%82%98%e5%82%98-37/2024-05-12/
CATEGORIES:兒童街舞,兒童課,課程
END:VEVENT
BEGIN:VEVENT
DTSTART;TZID=Asia/Shanghai:20240512T165000
DTEND;TZID=Asia/Shanghai:20240512T175000
DTSTAMP:20260422T123135
CREATED:20240423T092517Z
LAST-MODIFIED:20240423T092517Z
UID:10019498-1715532600-1715536200@www.dancesoul.com.tw
SUMMARY:MV-(솔라 Solar - GLAM SILVER)-瑜庭
DESCRIPTION:
URL:https://www.dancesoul.com.tw/schedule/mv-%ec%86%94%eb%9d%bc-solar-glam-silver-%e7%91%9c%e5%ba%ad/2024-05-12/
CATEGORIES:MV課,課程
END:VEVENT
BEGIN:VEVENT
DTSTART;TZID=Asia/Shanghai:20240512T180000
DTEND;TZID=Asia/Shanghai:20240512T190000
DTSTAMP:20260422T123135
CREATED:20240423T092622Z
LAST-MODIFIED:20240423T092622Z
UID:10019502-1715536800-1715540400@www.dancesoul.com.tw
SUMMARY:Street Jazz-育暉
DESCRIPTION:
URL:https://www.dancesoul.com.tw/schedule/street-jazz-%e8%82%b2%e6%9a%89-47/2024-05-12/
CATEGORIES:STREET JAZZ,常態課_一般,課程
END:VEVENT
BEGIN:VEVENT
DTSTART;TZID=Asia/Shanghai:20240512T191000
DTEND;TZID=Asia/Shanghai:20240512T201000
DTSTAMP:20260422T123135
CREATED:20240423T092753Z
LAST-MODIFIED:20240423T092753Z
UID:10019506-1715541000-1715544600@www.dancesoul.com.tw
SUMMARY:Hip Hop(初)-承翰
DESCRIPTION:
URL:https://www.dancesoul.com.tw/schedule/hip-hop%e5%88%9d-%e6%89%bf%e7%bf%b0-3/2024-05-12/
CATEGORIES:Hip Hop 初級,常態課_初級,課程
END:VEVENT
END:VCALENDAR