BEGIN:VCALENDAR
VERSION:2.0
PRODID:-//DANCE SOUL 舞魂街舞學校 - ECPv6.15.18//NONSGML v1.0//EN
CALSCALE:GREGORIAN
METHOD:PUBLISH
X-ORIGINAL-URL:https://www.dancesoul.com.tw
X-WR-CALDESC:Events for DANCE SOUL 舞魂街舞學校
REFRESH-INTERVAL;VALUE=DURATION:PT1H
X-Robots-Tag:noindex
X-PUBLISHED-TTL:PT1H
BEGIN:VTIMEZONE
TZID:Asia/Shanghai
BEGIN:STANDARD
TZOFFSETFROM:+0800
TZOFFSETTO:+0800
TZNAME:CST
DTSTART:20230101T000000
END:STANDARD
END:VTIMEZONE
BEGIN:VEVENT
DTSTART;TZID=Asia/Shanghai:20240619T183000
DTEND;TZID=Asia/Shanghai:20240619T193000
DTSTAMP:20260421T191853
CREATED:20240523T103716Z
LAST-MODIFIED:20240523T103716Z
UID:10019675-1718821800-1718825400@www.dancesoul.com.tw
SUMMARY:Street Jazz(初)-Kyle
DESCRIPTION:
URL:https://www.dancesoul.com.tw/schedule/street-jazz%e5%88%9d-kyle-13/2024-06-19/
CATEGORIES:STREET JAZZ 初級,常態課_初級,課程
END:VEVENT
BEGIN:VEVENT
DTSTART;TZID=Asia/Shanghai:20240619T194000
DTEND;TZID=Asia/Shanghai:20240619T204000
DTSTAMP:20260421T191853
CREATED:20240523T103814Z
LAST-MODIFIED:20240523T103814Z
UID:10019679-1718826000-1718829600@www.dancesoul.com.tw
SUMMARY:Street Jazz-Larry
DESCRIPTION:
URL:https://www.dancesoul.com.tw/schedule/street-jazz-larry-16/2024-06-19/
CATEGORIES:STREET JAZZ,常態課_一般,課程
END:VEVENT
BEGIN:VEVENT
DTSTART;TZID=Asia/Shanghai:20240619T205000
DTEND;TZID=Asia/Shanghai:20240619T215000
DTSTAMP:20260421T191853
CREATED:20240523T104015Z
LAST-MODIFIED:20240523T104015Z
UID:10019683-1718830200-1718833800@www.dancesoul.com.tw
SUMMARY:Free Style-承達
DESCRIPTION:
URL:https://www.dancesoul.com.tw/schedule/free-style-%e6%89%bf%e9%81%94-39/2024-06-19/
CATEGORIES:Freestyle,常態課_一般,課程
END:VEVENT
END:VCALENDAR