BEGIN:VCALENDAR
VERSION:2.0
PRODID:-//DANCE SOUL 舞魂街舞學校 - ECPv6.15.18//NONSGML v1.0//EN
CALSCALE:GREGORIAN
METHOD:PUBLISH
X-ORIGINAL-URL:https://www.dancesoul.com.tw
X-WR-CALDESC:Events for DANCE SOUL 舞魂街舞學校
REFRESH-INTERVAL;VALUE=DURATION:PT1H
X-Robots-Tag:noindex
X-PUBLISHED-TTL:PT1H
BEGIN:VTIMEZONE
TZID:Asia/Shanghai
BEGIN:STANDARD
TZOFFSETFROM:+0800
TZOFFSETTO:+0800
TZNAME:CST
DTSTART:20230101T000000
END:STANDARD
END:VTIMEZONE
BEGIN:VEVENT
DTSTART;TZID=Asia/Shanghai:20240705T150000
DTEND;TZID=Asia/Shanghai:20240705T160000
DTSTAMP:20260422T012520
CREATED:20240625T090147Z
LAST-MODIFIED:20240625T090147Z
UID:10019918-1720191600-1720195200@www.dancesoul.com.tw
SUMMARY:兒童MV-(NAYEON - ABCD)-昀珊
DESCRIPTION:
URL:https://www.dancesoul.com.tw/schedule/%e5%85%92%e7%ab%a5mv-nayeon-abcd-%e6%98%80%e7%8f%8a/2024-07-05/
CATEGORIES:兒童MV,兒童課,課程
END:VEVENT
BEGIN:VEVENT
DTSTART;TZID=Asia/Shanghai:20240705T161000
DTEND;TZID=Asia/Shanghai:20240705T171000
DTSTAMP:20260422T012520
CREATED:20240624T093755Z
LAST-MODIFIED:20240624T093755Z
UID:10019890-1720195800-1720199400@www.dancesoul.com.tw
SUMMARY:Jazz Funk(初)-Larry
DESCRIPTION:
URL:https://www.dancesoul.com.tw/schedule/jazz-funk%e5%88%9d-larry-3/2024-07-05/
CATEGORIES:Jazz Funk 初級,常態課_初級,課程
END:VEVENT
BEGIN:VEVENT
DTSTART;TZID=Asia/Shanghai:20240705T172000
DTEND;TZID=Asia/Shanghai:20240705T182000
DTSTAMP:20260422T012520
CREATED:20240624T094023Z
LAST-MODIFIED:20240624T094023Z
UID:10019894-1720200000-1720203600@www.dancesoul.com.tw
SUMMARY:Choreography-達達
DESCRIPTION:
URL:https://www.dancesoul.com.tw/schedule/choreography-%e9%81%94%e9%81%94/2024-07-05/
CATEGORIES:Choreography,常態課_一般,課程
END:VEVENT
BEGIN:VEVENT
DTSTART;TZID=Asia/Shanghai:20240705T183000
DTEND;TZID=Asia/Shanghai:20240705T193000
DTSTAMP:20260422T012520
CREATED:20240624T094129Z
LAST-MODIFIED:20240624T094129Z
UID:10019898-1720204200-1720207800@www.dancesoul.com.tw
SUMMARY:Street Jazz(初)-Cen妹
DESCRIPTION:
URL:https://www.dancesoul.com.tw/schedule/street-jazz%e5%88%9d-cen%e5%a6%b9-33/2024-07-05/
CATEGORIES:STREET JAZZ 初級,常態課_初級,課程
END:VEVENT
BEGIN:VEVENT
DTSTART;TZID=Asia/Shanghai:20240705T194000
DTEND;TZID=Asia/Shanghai:20240705T204000
DTSTAMP:20260422T012520
CREATED:20240624T094259Z
LAST-MODIFIED:20240624T094259Z
UID:10019902-1720208400-1720212000@www.dancesoul.com.tw
SUMMARY:Hip Hop(初)-佐佐
DESCRIPTION:
URL:https://www.dancesoul.com.tw/schedule/hip-hop%e5%88%9d-%e4%bd%90%e4%bd%90-12/2024-07-05/
CATEGORIES:Hip Hop 初級,常態課_初級,課程
END:VEVENT
BEGIN:VEVENT
DTSTART;TZID=Asia/Shanghai:20240705T205000
DTEND;TZID=Asia/Shanghai:20240705T215000
DTSTAMP:20260422T012520
CREATED:20240624T094352Z
LAST-MODIFIED:20240624T094352Z
UID:10019906-1720212600-1720216200@www.dancesoul.com.tw
SUMMARY:Jazz Funk-鈴鐺
DESCRIPTION:
URL:https://www.dancesoul.com.tw/schedule/jazz-funk-%e9%88%b4%e9%90%ba-20/2024-07-05/
CATEGORIES:Jazz Funk,常態課_一般,課程
END:VEVENT
END:VCALENDAR