BEGIN:VCALENDAR
VERSION:2.0
PRODID:-//DANCE SOUL 舞魂街舞學校 - ECPv6.15.18//NONSGML v1.0//EN
CALSCALE:GREGORIAN
METHOD:PUBLISH
X-WR-CALNAME:DANCE SOUL 舞魂街舞學校
X-ORIGINAL-URL:https://www.dancesoul.com.tw
X-WR-CALDESC:Events for DANCE SOUL 舞魂街舞學校
REFRESH-INTERVAL;VALUE=DURATION:PT1H
X-Robots-Tag:noindex
X-PUBLISHED-TTL:PT1H
BEGIN:VTIMEZONE
TZID:Asia/Shanghai
BEGIN:STANDARD
TZOFFSETFROM:+0800
TZOFFSETTO:+0800
TZNAME:CST
DTSTART:20230101T000000
END:STANDARD
END:VTIMEZONE
BEGIN:VEVENT
DTSTART;TZID=Asia/Shanghai:20240825T132000
DTEND;TZID=Asia/Shanghai:20240825T142000
DTSTAMP:20260421T192645
CREATED:20240726T110716Z
LAST-MODIFIED:20240726T110716Z
UID:10019966-1724592000-1724595600@www.dancesoul.com.tw
SUMMARY:兒童街舞-羿芃
DESCRIPTION:
URL:https://www.dancesoul.com.tw/schedule/%e5%85%92%e7%ab%a5%e8%a1%97%e8%88%9e-%e7%be%bf%e8%8a%83-8/2024-08-25/
CATEGORIES:兒童街舞,兒童課,課程
END:VEVENT
BEGIN:VEVENT
DTSTART;TZID=Asia/Shanghai:20240825T143000
DTEND;TZID=Asia/Shanghai:20240825T153000
DTSTAMP:20260421T192645
CREATED:20240726T111524Z
LAST-MODIFIED:20240726T111524Z
UID:10019970-1724596200-1724599800@www.dancesoul.com.tw
SUMMARY:兒童MV-((G)I-DLE - Klaxon)-羿芃
DESCRIPTION:
URL:https://www.dancesoul.com.tw/schedule/%e5%85%92%e7%ab%a5mv-gi-dle-klaxon-%e7%be%bf%e8%8a%83/2024-08-25/
CATEGORIES:兒童MV,兒童課,課程
END:VEVENT
BEGIN:VEVENT
DTSTART;TZID=Asia/Shanghai:20240825T154000
DTEND;TZID=Asia/Shanghai:20240825T164000
DTSTAMP:20260421T192645
CREATED:20240726T111702Z
LAST-MODIFIED:20240726T111702Z
UID:10019974-1724600400-1724604000@www.dancesoul.com.tw
SUMMARY:兒童 Street Jazz-傘傘
DESCRIPTION:
URL:https://www.dancesoul.com.tw/schedule/%e5%85%92%e7%ab%a5-street-jazz-%e5%82%98%e5%82%98-2/2024-08-25/
CATEGORIES:兒童 Street Jazz,兒童課,課程
END:VEVENT
BEGIN:VEVENT
DTSTART;TZID=Asia/Shanghai:20240825T165000
DTEND;TZID=Asia/Shanghai:20240825T175000
DTSTAMP:20260421T192645
CREATED:20240726T111812Z
LAST-MODIFIED:20240726T111812Z
UID:10019978-1724604600-1724608200@www.dancesoul.com.tw
SUMMARY:MV-(LISA - ROCKSTAR)-瑜庭
DESCRIPTION:
URL:https://www.dancesoul.com.tw/schedule/mv-lisa-rockstar-%e7%91%9c%e5%ba%ad/2024-08-25/
CATEGORIES:MV課,課程
END:VEVENT
BEGIN:VEVENT
DTSTART;TZID=Asia/Shanghai:20240825T180000
DTEND;TZID=Asia/Shanghai:20240825T190000
DTSTAMP:20260421T192645
CREATED:20240726T112005Z
LAST-MODIFIED:20240726T112330Z
UID:10019991-1724608800-1724612400@www.dancesoul.com.tw
SUMMARY:Jazz Funk-姿昀
DESCRIPTION:
URL:https://www.dancesoul.com.tw/schedule/jazz-funk-%e5%a7%bf%e6%98%80/2024-08-25/
CATEGORIES:Jazz Funk,常態課_一般,課程
END:VEVENT
BEGIN:VEVENT
DTSTART;TZID=Asia/Shanghai:20240825T191000
DTEND;TZID=Asia/Shanghai:20240825T201000
DTSTAMP:20260421T192645
CREATED:20240726T112141Z
LAST-MODIFIED:20240726T112141Z
UID:10019987-1724613000-1724616600@www.dancesoul.com.tw
SUMMARY:Hip Hop(初)-承翰
DESCRIPTION:
URL:https://www.dancesoul.com.tw/schedule/hip-hop%e5%88%9d-%e6%89%bf%e7%bf%b0-6/2024-08-25/
CATEGORIES:Hip Hop 初級,常態課_初級,課程
END:VEVENT
END:VCALENDAR