BEGIN:VCALENDAR
VERSION:2.0
PRODID:-//DANCE SOUL 舞魂街舞學校 - ECPv6.15.18//NONSGML v1.0//EN
CALSCALE:GREGORIAN
METHOD:PUBLISH
X-WR-CALNAME:DANCE SOUL 舞魂街舞學校
X-ORIGINAL-URL:https://www.dancesoul.com.tw
X-WR-CALDESC:Events for DANCE SOUL 舞魂街舞學校
REFRESH-INTERVAL;VALUE=DURATION:PT1H
X-Robots-Tag:noindex
X-PUBLISHED-TTL:PT1H
BEGIN:VTIMEZONE
TZID:Asia/Shanghai
BEGIN:STANDARD
TZOFFSETFROM:+0800
TZOFFSETTO:+0800
TZNAME:CST
DTSTART:20230101T000000
END:STANDARD
END:VTIMEZONE
BEGIN:VEVENT
DTSTART;TZID=Asia/Shanghai:20240901T132000
DTEND;TZID=Asia/Shanghai:20240901T142000
DTSTAMP:20260421T071942
CREATED:20240829T081729Z
LAST-MODIFIED:20240829T081729Z
UID:10020161-1725196800-1725200400@www.dancesoul.com.tw
SUMMARY:兒童街舞-羿芃
DESCRIPTION:
URL:https://www.dancesoul.com.tw/schedule/%e5%85%92%e7%ab%a5%e8%a1%97%e8%88%9e-%e7%be%bf%e8%8a%83-9/2024-09-01/
CATEGORIES:兒童街舞,兒童課,課程
END:VEVENT
BEGIN:VEVENT
DTSTART;TZID=Asia/Shanghai:20240901T143000
DTEND;TZID=Asia/Shanghai:20240901T153000
DTSTAMP:20260421T071942
CREATED:20240829T083116Z
LAST-MODIFIED:20240829T083116Z
UID:10020166-1725201000-1725204600@www.dancesoul.com.tw
SUMMARY:兒童MV-(XG - SOMETHING AIN'T RIGHT)-羿芃
DESCRIPTION:
URL:https://www.dancesoul.com.tw/schedule/%e5%85%92%e7%ab%a5mv-xg-something-aint-right-%e7%be%bf%e8%8a%83/2024-09-01/
CATEGORIES:兒童MV,兒童課,課程
END:VEVENT
BEGIN:VEVENT
DTSTART;TZID=Asia/Shanghai:20240901T154000
DTEND;TZID=Asia/Shanghai:20240901T164000
DTSTAMP:20260421T071942
CREATED:20240829T083425Z
LAST-MODIFIED:20240829T083425Z
UID:10020171-1725205200-1725208800@www.dancesoul.com.tw
SUMMARY:兒童 Street Jazz-羿芃
DESCRIPTION:
URL:https://www.dancesoul.com.tw/schedule/%e5%85%92%e7%ab%a5-street-jazz-%e7%be%bf%e8%8a%83/2024-09-01/
CATEGORIES:兒童 Street Jazz,兒童課,課程
END:VEVENT
BEGIN:VEVENT
DTSTART;TZID=Asia/Shanghai:20240901T165000
DTEND;TZID=Asia/Shanghai:20240901T175000
DTSTAMP:20260421T071942
CREATED:20240829T083535Z
LAST-MODIFIED:20240829T083535Z
UID:10020176-1725209400-1725213000@www.dancesoul.com.tw
SUMMARY:MV-(KATSEYE - Touch)-瑜庭
DESCRIPTION:
URL:https://www.dancesoul.com.tw/schedule/mv-katseye-touch-%e7%91%9c%e5%ba%ad/2024-09-01/
CATEGORIES:MV課,課程
END:VEVENT
BEGIN:VEVENT
DTSTART;TZID=Asia/Shanghai:20240901T180000
DTEND;TZID=Asia/Shanghai:20240901T190000
DTSTAMP:20260421T071942
CREATED:20240829T083705Z
LAST-MODIFIED:20240829T083705Z
UID:10020181-1725213600-1725217200@www.dancesoul.com.tw
SUMMARY:Jazz Funk-姿昀
DESCRIPTION:
URL:https://www.dancesoul.com.tw/schedule/jazz-funk-%e5%a7%bf%e6%98%80-2/2024-09-01/
CATEGORIES:Jazz Funk,常態課_一般,課程
END:VEVENT
BEGIN:VEVENT
DTSTART;TZID=Asia/Shanghai:20240901T191000
DTEND;TZID=Asia/Shanghai:20240901T201000
DTSTAMP:20260421T071942
CREATED:20240829T083808Z
LAST-MODIFIED:20240829T083808Z
UID:10020187-1725217800-1725221400@www.dancesoul.com.tw
SUMMARY:Hip Hop(初)-承翰
DESCRIPTION:
URL:https://www.dancesoul.com.tw/schedule/hip-hop%e5%88%9d-%e6%89%bf%e7%bf%b0-7/2024-09-01/
CATEGORIES:Hip Hop 初級,常態課_初級,課程
END:VEVENT
END:VCALENDAR