BEGIN:VCALENDAR
VERSION:2.0
PRODID:-//DANCE SOUL 舞魂街舞學校 - ECPv6.15.18//NONSGML v1.0//EN
CALSCALE:GREGORIAN
METHOD:PUBLISH
X-WR-CALNAME:DANCE SOUL 舞魂街舞學校
X-ORIGINAL-URL:https://www.dancesoul.com.tw
X-WR-CALDESC:Events for DANCE SOUL 舞魂街舞學校
REFRESH-INTERVAL;VALUE=DURATION:PT1H
X-Robots-Tag:noindex
X-PUBLISHED-TTL:PT1H
BEGIN:VTIMEZONE
TZID:Asia/Shanghai
BEGIN:STANDARD
TZOFFSETFROM:+0800
TZOFFSETTO:+0800
TZNAME:CST
DTSTART:20230101T000000
END:STANDARD
END:VTIMEZONE
BEGIN:VEVENT
DTSTART;TZID=Asia/Shanghai:20240917T183000
DTEND;TZID=Asia/Shanghai:20240917T193000
DTSTAMP:20260421T013251
CREATED:20240829T084409Z
LAST-MODIFIED:20240829T084409Z
UID:10020209-1726597800-1726601400@www.dancesoul.com.tw
SUMMARY:Free Style(初)-俊宏
DESCRIPTION:
URL:https://www.dancesoul.com.tw/schedule/free-style%e5%88%9d-%e4%bf%8a%e5%ae%8f-24/2024-09-17/
CATEGORIES:Freestyle 初級,常態課_初級,課程
END:VEVENT
BEGIN:VEVENT
DTSTART;TZID=Asia/Shanghai:20240917T194000
DTEND;TZID=Asia/Shanghai:20240917T204000
DTSTAMP:20260421T013251
CREATED:20240829T084517Z
LAST-MODIFIED:20240829T084517Z
UID:10020213-1726602000-1726605600@www.dancesoul.com.tw
SUMMARY:Street Jazz-Denis
DESCRIPTION:
URL:https://www.dancesoul.com.tw/schedule/street-jazz-denis-48/2024-09-17/
CATEGORIES:STREET JAZZ,常態課_一般,課程
END:VEVENT
BEGIN:VEVENT
DTSTART;TZID=Asia/Shanghai:20240917T205000
DTEND;TZID=Asia/Shanghai:20240917T215000
DTSTAMP:20260421T013251
CREATED:20240829T084703Z
LAST-MODIFIED:20240829T084703Z
UID:10020217-1726606200-1726609800@www.dancesoul.com.tw
SUMMARY:Choreography-少麟
DESCRIPTION:
URL:https://www.dancesoul.com.tw/schedule/choreography-%e5%b0%91%e9%ba%9f-12/2024-09-17/
CATEGORIES:Choreography,常態課_一般,課程
END:VEVENT
END:VCALENDAR