BEGIN:VCALENDAR
VERSION:2.0
PRODID:-//DANCE SOUL 舞魂街舞學校 - ECPv6.15.18//NONSGML v1.0//EN
CALSCALE:GREGORIAN
METHOD:PUBLISH
X-ORIGINAL-URL:https://www.dancesoul.com.tw
X-WR-CALDESC:Events for DANCE SOUL 舞魂街舞學校
REFRESH-INTERVAL;VALUE=DURATION:PT1H
X-Robots-Tag:noindex
X-PUBLISHED-TTL:PT1H
BEGIN:VTIMEZONE
TZID:Asia/Shanghai
BEGIN:STANDARD
TZOFFSETFROM:+0800
TZOFFSETTO:+0800
TZNAME:CST
DTSTART:20230101T000000
END:STANDARD
END:VTIMEZONE
BEGIN:VEVENT
DTSTART;TZID=Asia/Shanghai:20240918T183000
DTEND;TZID=Asia/Shanghai:20240918T193000
DTSTAMP:20260421T013724
CREATED:20240829T084810Z
LAST-MODIFIED:20240829T084810Z
UID:10020221-1726684200-1726687800@www.dancesoul.com.tw
SUMMARY:Street Jazz(初)-Kyle
DESCRIPTION:
URL:https://www.dancesoul.com.tw/schedule/street-jazz%e5%88%9d-kyle-18/2024-09-18/
CATEGORIES:STREET JAZZ 初級,常態課_初級,課程
END:VEVENT
BEGIN:VEVENT
DTSTART;TZID=Asia/Shanghai:20240918T194000
DTEND;TZID=Asia/Shanghai:20240918T204000
DTSTAMP:20260421T013724
CREATED:20240829T092725Z
LAST-MODIFIED:20240829T092725Z
UID:10020225-1726688400-1726692000@www.dancesoul.com.tw
SUMMARY:Street Jazz-Larry
DESCRIPTION:
URL:https://www.dancesoul.com.tw/schedule/street-jazz-larry-19/2024-09-18/
CATEGORIES:STREET JAZZ,常態課_一般,課程
END:VEVENT
BEGIN:VEVENT
DTSTART;TZID=Asia/Shanghai:20240918T205000
DTEND;TZID=Asia/Shanghai:20240918T215000
DTSTAMP:20260421T013724
CREATED:20240829T092826Z
LAST-MODIFIED:20240829T092826Z
UID:10020229-1726692600-1726696200@www.dancesoul.com.tw
SUMMARY:Free Style-承達
DESCRIPTION:
URL:https://www.dancesoul.com.tw/schedule/free-style-%e6%89%bf%e9%81%94-42/2024-09-18/
CATEGORIES:Freestyle,常態課_一般,課程
END:VEVENT
END:VCALENDAR