BEGIN:VCALENDAR
VERSION:2.0
PRODID:-//DANCE SOUL 舞魂街舞學校 - ECPv6.15.18//NONSGML v1.0//EN
CALSCALE:GREGORIAN
METHOD:PUBLISH
X-WR-CALNAME:DANCE SOUL 舞魂街舞學校
X-ORIGINAL-URL:https://www.dancesoul.com.tw
X-WR-CALDESC:Events for DANCE SOUL 舞魂街舞學校
REFRESH-INTERVAL;VALUE=DURATION:PT1H
X-Robots-Tag:noindex
X-PUBLISHED-TTL:PT1H
BEGIN:VTIMEZONE
TZID:Asia/Shanghai
BEGIN:STANDARD
TZOFFSETFROM:+0800
TZOFFSETTO:+0800
TZNAME:CST
DTSTART:20230101T000000
END:STANDARD
END:VTIMEZONE
BEGIN:VEVENT
DTSTART;TZID=Asia/Shanghai:20240919T183000
DTEND;TZID=Asia/Shanghai:20240919T193000
DTSTAMP:20260421T013310
CREATED:20240829T093006Z
LAST-MODIFIED:20240829T093006Z
UID:10020233-1726770600-1726774200@www.dancesoul.com.tw
SUMMARY:Choreography-芭比
DESCRIPTION:
URL:https://www.dancesoul.com.tw/schedule/choreography-%e8%8a%ad%e6%af%94-25/2024-09-19/
CATEGORIES:Choreography,常態課_一般,課程
END:VEVENT
BEGIN:VEVENT
DTSTART;TZID=Asia/Shanghai:20240919T194000
DTEND;TZID=Asia/Shanghai:20240919T204000
DTSTAMP:20260421T013310
CREATED:20240829T093139Z
LAST-MODIFIED:20240829T093139Z
UID:10020237-1726774800-1726778400@www.dancesoul.com.tw
SUMMARY:Hip Hop-林彤
DESCRIPTION:
URL:https://www.dancesoul.com.tw/schedule/hip-hop-%e6%9e%97%e5%bd%a4-21/2024-09-19/
CATEGORIES:Hip Hop,常態課_一般,課程
END:VEVENT
BEGIN:VEVENT
DTSTART;TZID=Asia/Shanghai:20240919T205000
DTEND;TZID=Asia/Shanghai:20240919T215000
DTSTAMP:20260421T013310
CREATED:20240829T093303Z
LAST-MODIFIED:20240829T093303Z
UID:10020241-1726779000-1726782600@www.dancesoul.com.tw
SUMMARY:Afro Style-巴豪
DESCRIPTION:
URL:https://www.dancesoul.com.tw/schedule/afro-style-%e5%b7%b4%e8%b1%aa-4/2024-09-19/
CATEGORIES:Afro Style,常態課_一般,課程
END:VEVENT
END:VCALENDAR