BEGIN:VCALENDAR
VERSION:2.0
PRODID:-//DANCE SOUL 舞魂街舞學校 - ECPv6.15.18//NONSGML v1.0//EN
CALSCALE:GREGORIAN
METHOD:PUBLISH
X-WR-CALNAME:DANCE SOUL 舞魂街舞學校
X-ORIGINAL-URL:https://www.dancesoul.com.tw
X-WR-CALDESC:Events for DANCE SOUL 舞魂街舞學校
REFRESH-INTERVAL;VALUE=DURATION:PT1H
X-Robots-Tag:noindex
X-PUBLISHED-TTL:PT1H
BEGIN:VTIMEZONE
TZID:Asia/Shanghai
BEGIN:STANDARD
TZOFFSETFROM:+0800
TZOFFSETTO:+0800
TZNAME:CST
DTSTART:20230101T000000
END:STANDARD
END:VTIMEZONE
BEGIN:VEVENT
DTSTART;TZID=Asia/Shanghai:20241005T132000
DTEND;TZID=Asia/Shanghai:20241005T142000
DTSTAMP:20260420T210529
CREATED:20240924T081208Z
LAST-MODIFIED:20240924T081208Z
UID:10020308-1728134400-1728138000@www.dancesoul.com.tw
SUMMARY:兒童街舞-薇臻
DESCRIPTION:
URL:https://www.dancesoul.com.tw/schedule/%e5%85%92%e7%ab%a5%e8%a1%97%e8%88%9e-%e8%96%87%e8%87%bb-11/2024-10-05/
CATEGORIES:兒童街舞,兒童課,課程
END:VEVENT
BEGIN:VEVENT
DTSTART;TZID=Asia/Shanghai:20241005T143000
DTEND;TZID=Asia/Shanghai:20241005T153000
DTSTAMP:20260420T210529
CREATED:20240924T081611Z
LAST-MODIFIED:20240924T081611Z
UID:10020312-1728138600-1728142200@www.dancesoul.com.tw
SUMMARY:兒童MV-(MEOVV - MEOW)-薇臻
DESCRIPTION:
URL:https://www.dancesoul.com.tw/schedule/%e5%85%92%e7%ab%a5mv-meovv-meow-%e8%96%87%e8%87%bb/2024-10-05/
CATEGORIES:兒童MV,兒童課,課程
END:VEVENT
BEGIN:VEVENT
DTSTART;TZID=Asia/Shanghai:20241005T154000
DTEND;TZID=Asia/Shanghai:20241005T164000
DTSTAMP:20260420T210529
CREATED:20240924T081744Z
LAST-MODIFIED:20240924T081744Z
UID:10020316-1728142800-1728146400@www.dancesoul.com.tw
SUMMARY:兒童基礎街舞-傘傘
DESCRIPTION:
URL:https://www.dancesoul.com.tw/schedule/%e5%85%92%e7%ab%a5%e5%9f%ba%e7%a4%8e%e8%a1%97%e8%88%9e-%e5%82%98%e5%82%98-4/2024-10-05/
CATEGORIES:兒童基礎街舞,兒童課,課程
END:VEVENT
BEGIN:VEVENT
DTSTART;TZID=Asia/Shanghai:20241005T165000
DTEND;TZID=Asia/Shanghai:20241005T175000
DTSTAMP:20260420T210529
CREATED:20240924T081846Z
LAST-MODIFIED:20240924T081846Z
UID:10020320-1728147000-1728150600@www.dancesoul.com.tw
SUMMARY:MV-(LE SSERAFIM - CRAZY)-怡妏
DESCRIPTION:
URL:https://www.dancesoul.com.tw/schedule/mv-le-sserafim-crazy-%e6%80%a1%e5%a6%8f/2024-10-05/
CATEGORIES:MV課,課程
END:VEVENT
BEGIN:VEVENT
DTSTART;TZID=Asia/Shanghai:20241005T180000
DTEND;TZID=Asia/Shanghai:20241005T190000
DTSTAMP:20260420T210529
CREATED:20240924T082012Z
LAST-MODIFIED:20240924T082012Z
UID:10020324-1728151200-1728154800@www.dancesoul.com.tw
SUMMARY:Popping-紀威
DESCRIPTION:
URL:https://www.dancesoul.com.tw/schedule/popping-%e7%b4%80%e5%a8%81-45/2024-10-05/
CATEGORIES:Poppin,常態課_一般,課程
END:VEVENT
BEGIN:VEVENT
DTSTART;TZID=Asia/Shanghai:20241005T191000
DTEND;TZID=Asia/Shanghai:20241005T201000
DTSTAMP:20260420T210529
CREATED:20240924T082110Z
LAST-MODIFIED:20240924T082110Z
UID:10020328-1728155400-1728159000@www.dancesoul.com.tw
SUMMARY:Choreography(初)-無盡
DESCRIPTION:
URL:https://www.dancesoul.com.tw/schedule/choreography%e5%88%9d-%e7%84%a1%e7%9b%a1-5/2024-10-05/
CATEGORIES:Choreography 初級,常態課_初級,課程
END:VEVENT
BEGIN:VEVENT
DTSTART;TZID=Asia/Shanghai:20241005T202000
DTEND;TZID=Asia/Shanghai:20241005T212000
DTSTAMP:20260420T210529
CREATED:20240924T082244Z
LAST-MODIFIED:20240924T082244Z
UID:10020332-1728159600-1728163200@www.dancesoul.com.tw
SUMMARY:基礎入門-雞蛋
DESCRIPTION:
URL:https://www.dancesoul.com.tw/schedule/%e5%9f%ba%e7%a4%8e%e5%85%a5%e9%96%80-%e9%9b%9e%e8%9b%8b-32/2024-10-05/
CATEGORIES:基礎入門,常態課_初級,課程
END:VEVENT
END:VCALENDAR