BEGIN:VCALENDAR
VERSION:2.0
PRODID:-//DANCE SOUL 舞魂街舞學校 - ECPv6.15.18//NONSGML v1.0//EN
CALSCALE:GREGORIAN
METHOD:PUBLISH
X-ORIGINAL-URL:https://www.dancesoul.com.tw
X-WR-CALDESC:Events for DANCE SOUL 舞魂街舞學校
REFRESH-INTERVAL;VALUE=DURATION:PT1H
X-Robots-Tag:noindex
X-PUBLISHED-TTL:PT1H
BEGIN:VTIMEZONE
TZID:Asia/Shanghai
BEGIN:STANDARD
TZOFFSETFROM:+0800
TZOFFSETTO:+0800
TZNAME:CST
DTSTART:20230101T000000
END:STANDARD
END:VTIMEZONE
BEGIN:VEVENT
DTSTART;TZID=Asia/Shanghai:20241009T183000
DTEND;TZID=Asia/Shanghai:20241009T193000
DTSTAMP:20260421T044344
CREATED:20240924T085154Z
LAST-MODIFIED:20240924T085154Z
UID:10020381-1728498600-1728502200@www.dancesoul.com.tw
SUMMARY:Street Jazz(初)-Kyle
DESCRIPTION:
URL:https://www.dancesoul.com.tw/schedule/street-jazz%e5%88%9d-kyle-19/2024-10-09/
CATEGORIES:STREET JAZZ 初級,常態課_初級,課程
END:VEVENT
BEGIN:VEVENT
DTSTART;TZID=Asia/Shanghai:20241009T194000
DTEND;TZID=Asia/Shanghai:20241009T204000
DTSTAMP:20260421T044344
CREATED:20240924T085245Z
LAST-MODIFIED:20240924T085245Z
UID:10020386-1728502800-1728506400@www.dancesoul.com.tw
SUMMARY:Street Jazz-Larry
DESCRIPTION:
URL:https://www.dancesoul.com.tw/schedule/street-jazz-larry-20/2024-10-09/
CATEGORIES:STREET JAZZ,常態課_一般,課程
END:VEVENT
BEGIN:VEVENT
DTSTART;TZID=Asia/Shanghai:20241009T205000
DTEND;TZID=Asia/Shanghai:20241009T215000
DTSTAMP:20260421T044344
CREATED:20240924T085420Z
LAST-MODIFIED:20240924T085420Z
UID:10020391-1728507000-1728510600@www.dancesoul.com.tw
SUMMARY:Free Style-承達
DESCRIPTION:
URL:https://www.dancesoul.com.tw/schedule/free-style-%e6%89%bf%e9%81%94-43/2024-10-09/
CATEGORIES:Freestyle,常態課_一般,課程
END:VEVENT
END:VCALENDAR