BEGIN:VCALENDAR
VERSION:2.0
PRODID:-//DANCE SOUL 舞魂街舞學校 - ECPv6.15.18//NONSGML v1.0//EN
CALSCALE:GREGORIAN
METHOD:PUBLISH
X-ORIGINAL-URL:https://www.dancesoul.com.tw
X-WR-CALDESC:Events for DANCE SOUL 舞魂街舞學校
REFRESH-INTERVAL;VALUE=DURATION:PT1H
X-Robots-Tag:noindex
X-PUBLISHED-TTL:PT1H
BEGIN:VTIMEZONE
TZID:Asia/Shanghai
BEGIN:STANDARD
TZOFFSETFROM:+0800
TZOFFSETTO:+0800
TZNAME:CST
DTSTART:20230101T000000
END:STANDARD
END:VTIMEZONE
BEGIN:VEVENT
DTSTART;TZID=Asia/Shanghai:20241020T132000
DTEND;TZID=Asia/Shanghai:20241020T142000
DTSTAMP:20260422T014049
CREATED:20240924T082337Z
LAST-MODIFIED:20240924T082337Z
UID:10020338-1729430400-1729434000@www.dancesoul.com.tw
SUMMARY:兒童街舞-羿芃
DESCRIPTION:
URL:https://www.dancesoul.com.tw/schedule/%e5%85%92%e7%ab%a5%e8%a1%97%e8%88%9e-%e7%be%bf%e8%8a%83-10/2024-10-20/
CATEGORIES:兒童街舞,兒童課,課程
END:VEVENT
BEGIN:VEVENT
DTSTART;TZID=Asia/Shanghai:20241020T143000
DTEND;TZID=Asia/Shanghai:20241020T153000
DTSTAMP:20260422T014049
CREATED:20240924T082525Z
LAST-MODIFIED:20240924T082525Z
UID:10020342-1729434600-1729438200@www.dancesoul.com.tw
SUMMARY:兒童MV-(LE SSERAFIM - CRAZY)-羿芃
DESCRIPTION:
URL:https://www.dancesoul.com.tw/schedule/%e5%85%92%e7%ab%a5mv-le-sserafim-crazy-%e7%be%bf%e8%8a%83/2024-10-20/
CATEGORIES:兒童MV,兒童課,課程
END:VEVENT
BEGIN:VEVENT
DTSTART;TZID=Asia/Shanghai:20241020T154000
DTEND;TZID=Asia/Shanghai:20241020T164000
DTSTAMP:20260422T014049
CREATED:20240924T082647Z
LAST-MODIFIED:20240924T082647Z
UID:10020346-1729438800-1729442400@www.dancesoul.com.tw
SUMMARY:兒童 Street Jazz-傘傘
DESCRIPTION:
URL:https://www.dancesoul.com.tw/schedule/%e5%85%92%e7%ab%a5-street-jazz-%e5%82%98%e5%82%98-3/2024-10-20/
CATEGORIES:兒童 Street Jazz,兒童課,課程
END:VEVENT
BEGIN:VEVENT
DTSTART;TZID=Asia/Shanghai:20241020T165000
DTEND;TZID=Asia/Shanghai:20241020T175000
DTSTAMP:20260422T014049
CREATED:20240924T082845Z
LAST-MODIFIED:20240924T082845Z
UID:10020350-1729443000-1729446600@www.dancesoul.com.tw
SUMMARY:MV-(TZUYU - Run Away)-瑜庭
DESCRIPTION:
URL:https://www.dancesoul.com.tw/schedule/mv-tzuyu-run-away-%e7%91%9c%e5%ba%ad/2024-10-20/
CATEGORIES:MV課,課程
END:VEVENT
END:VCALENDAR