BEGIN:VCALENDAR
VERSION:2.0
PRODID:-//DANCE SOUL 舞魂街舞學校 - ECPv6.15.18//NONSGML v1.0//EN
CALSCALE:GREGORIAN
METHOD:PUBLISH
X-WR-CALNAME:DANCE SOUL 舞魂街舞學校
X-ORIGINAL-URL:https://www.dancesoul.com.tw
X-WR-CALDESC:Events for DANCE SOUL 舞魂街舞學校
REFRESH-INTERVAL;VALUE=DURATION:PT1H
X-Robots-Tag:noindex
X-PUBLISHED-TTL:PT1H
BEGIN:VTIMEZONE
TZID:Asia/Shanghai
BEGIN:STANDARD
TZOFFSETFROM:+0800
TZOFFSETTO:+0800
TZNAME:CST
DTSTART:20230101T000000
END:STANDARD
END:VTIMEZONE
BEGIN:VEVENT
DTSTART;TZID=Asia/Shanghai:20241105T183000
DTEND;TZID=Asia/Shanghai:20241105T193000
DTSTAMP:20260420T180225
CREATED:20241028T080659Z
LAST-MODIFIED:20241028T080659Z
UID:10020543-1730831400-1730835000@www.dancesoul.com.tw
SUMMARY:MV-(當日Dance Soul IG 限動公布歌曲)-薇臻
DESCRIPTION:
URL:https://www.dancesoul.com.tw/schedule/mv-%e7%95%b6%e6%97%a5dance-soul-ig-%e9%99%90%e5%8b%95%e5%85%ac%e5%b8%83%e6%ad%8c%e6%9b%b2-%e8%96%87%e8%87%bb/2024-11-05/
CATEGORIES:MV課,課程
END:VEVENT
BEGIN:VEVENT
DTSTART;TZID=Asia/Shanghai:20241105T194000
DTEND;TZID=Asia/Shanghai:20241105T204000
DTSTAMP:20260420T180225
CREATED:20241028T080824Z
LAST-MODIFIED:20241028T080824Z
UID:10020547-1730835600-1730839200@www.dancesoul.com.tw
SUMMARY:Street Jazz-Denis
DESCRIPTION:
URL:https://www.dancesoul.com.tw/schedule/street-jazz-denis-50/2024-11-05/
CATEGORIES:STREET JAZZ,常態課_一般,課程
END:VEVENT
BEGIN:VEVENT
DTSTART;TZID=Asia/Shanghai:20241105T205000
DTEND;TZID=Asia/Shanghai:20241105T215000
DTSTAMP:20260420T180225
CREATED:20241028T080907Z
LAST-MODIFIED:20241028T080907Z
UID:10020551-1730839800-1730843400@www.dancesoul.com.tw
SUMMARY:Free Style(初)-俊宏
DESCRIPTION:
URL:https://www.dancesoul.com.tw/schedule/free-style%e5%88%9d-%e4%bf%8a%e5%ae%8f-27/2024-11-05/
CATEGORIES:Freestyle 初級,常態課_初級,課程
END:VEVENT
END:VCALENDAR