BEGIN:VCALENDAR
VERSION:2.0
PRODID:-//DANCE SOUL 舞魂街舞學校 - ECPv6.15.18//NONSGML v1.0//EN
CALSCALE:GREGORIAN
METHOD:PUBLISH
X-WR-CALNAME:DANCE SOUL 舞魂街舞學校
X-ORIGINAL-URL:https://www.dancesoul.com.tw
X-WR-CALDESC:Events for DANCE SOUL 舞魂街舞學校
REFRESH-INTERVAL;VALUE=DURATION:PT1H
X-Robots-Tag:noindex
X-PUBLISHED-TTL:PT1H
BEGIN:VTIMEZONE
TZID:Asia/Shanghai
BEGIN:STANDARD
TZOFFSETFROM:+0800
TZOFFSETTO:+0800
TZNAME:CST
DTSTART:20230101T000000
END:STANDARD
END:VTIMEZONE
BEGIN:VEVENT
DTSTART;TZID=Asia/Shanghai:20241109T132000
DTEND;TZID=Asia/Shanghai:20241109T142000
DTSTAMP:20260420T180327
CREATED:20241028T071133Z
LAST-MODIFIED:20241028T071133Z
UID:10020503-1731158400-1731162000@www.dancesoul.com.tw
SUMMARY:兒童街舞-薇臻
DESCRIPTION:
URL:https://www.dancesoul.com.tw/schedule/%e5%85%92%e7%ab%a5%e8%a1%97%e8%88%9e-%e8%96%87%e8%87%bb-12/2024-11-09/
CATEGORIES:兒童街舞,兒童課,課程
END:VEVENT
BEGIN:VEVENT
DTSTART;TZID=Asia/Shanghai:20241109T143000
DTEND;TZID=Asia/Shanghai:20241109T153000
DTSTAMP:20260420T180327
CREATED:20241028T071251Z
LAST-MODIFIED:20241028T071251Z
UID:10020507-1731162600-1731166200@www.dancesoul.com.tw
SUMMARY:兒童MV-(JENNIE - Mantra)-薇臻
DESCRIPTION:
URL:https://www.dancesoul.com.tw/schedule/%e5%85%92%e7%ab%a5mv-jennie-mantra-%e8%96%87%e8%87%bb/2024-11-09/
CATEGORIES:兒童MV,兒童課,課程
END:VEVENT
BEGIN:VEVENT
DTSTART;TZID=Asia/Shanghai:20241109T154000
DTEND;TZID=Asia/Shanghai:20241109T164000
DTSTAMP:20260420T180327
CREATED:20241028T071447Z
LAST-MODIFIED:20241028T071447Z
UID:10020511-1731166800-1731170400@www.dancesoul.com.tw
SUMMARY:兒童基礎街舞-傘傘
DESCRIPTION:
URL:https://www.dancesoul.com.tw/schedule/%e5%85%92%e7%ab%a5%e5%9f%ba%e7%a4%8e%e8%a1%97%e8%88%9e-%e5%82%98%e5%82%98-5/2024-11-09/
CATEGORIES:兒童基礎街舞,兒童課,課程
END:VEVENT
BEGIN:VEVENT
DTSTART;TZID=Asia/Shanghai:20241109T165000
DTEND;TZID=Asia/Shanghai:20241109T175000
DTSTAMP:20260420T180327
CREATED:20241028T071559Z
LAST-MODIFIED:20241028T071559Z
UID:10020515-1731171000-1731174600@www.dancesoul.com.tw
SUMMARY:MV-(JENNIE - Mantra)-姿昀
DESCRIPTION:
URL:https://www.dancesoul.com.tw/schedule/mv-jennie-mantra-%e5%a7%bf%e6%98%80/2024-11-09/
CATEGORIES:MV課,課程
END:VEVENT
BEGIN:VEVENT
DTSTART;TZID=Asia/Shanghai:20241109T180000
DTEND;TZID=Asia/Shanghai:20241109T190000
DTSTAMP:20260420T180327
CREATED:20241028T072427Z
LAST-MODIFIED:20241028T072427Z
UID:10020519-1731175200-1731178800@www.dancesoul.com.tw
SUMMARY:Popping-紀威
DESCRIPTION:
URL:https://www.dancesoul.com.tw/schedule/popping-%e7%b4%80%e5%a8%81-46/2024-11-09/
CATEGORIES:Poppin,常態課_一般,課程
END:VEVENT
BEGIN:VEVENT
DTSTART;TZID=Asia/Shanghai:20241109T191000
DTEND;TZID=Asia/Shanghai:20241109T201000
DTSTAMP:20260420T180327
CREATED:20241028T072518Z
LAST-MODIFIED:20241028T072518Z
UID:10020523-1731179400-1731183000@www.dancesoul.com.tw
SUMMARY:Choreography(初)-無盡
DESCRIPTION:
URL:https://www.dancesoul.com.tw/schedule/choreography%e5%88%9d-%e7%84%a1%e7%9b%a1-6/2024-11-09/
CATEGORIES:Choreography 初級,常態課_初級,課程
END:VEVENT
BEGIN:VEVENT
DTSTART;TZID=Asia/Shanghai:20241109T202000
DTEND;TZID=Asia/Shanghai:20241109T213000
DTSTAMP:20260420T180327
CREATED:20241028T072632Z
LAST-MODIFIED:20241028T072632Z
UID:10020527-1731183600-1731187800@www.dancesoul.com.tw
SUMMARY:基礎入門-雞蛋
DESCRIPTION:
URL:https://www.dancesoul.com.tw/schedule/%e5%9f%ba%e7%a4%8e%e5%85%a5%e9%96%80-%e9%9b%9e%e8%9b%8b-33/2024-11-09/
CATEGORIES:基礎入門,常態課_初級,課程
END:VEVENT
END:VCALENDAR