BEGIN:VCALENDAR
VERSION:2.0
PRODID:-//DANCE SOUL 舞魂街舞學校 - ECPv6.15.18//NONSGML v1.0//EN
CALSCALE:GREGORIAN
METHOD:PUBLISH
X-WR-CALNAME:DANCE SOUL 舞魂街舞學校
X-ORIGINAL-URL:https://www.dancesoul.com.tw
X-WR-CALDESC:Events for DANCE SOUL 舞魂街舞學校
REFRESH-INTERVAL;VALUE=DURATION:PT1H
X-Robots-Tag:noindex
X-PUBLISHED-TTL:PT1H
BEGIN:VTIMEZONE
TZID:Asia/Shanghai
BEGIN:STANDARD
TZOFFSETFROM:+0800
TZOFFSETTO:+0800
TZNAME:CST
DTSTART:20230101T000000
END:STANDARD
END:VTIMEZONE
BEGIN:VEVENT
DTSTART;TZID=Asia/Shanghai:20241207T132000
DTEND;TZID=Asia/Shanghai:20241207T142000
DTSTAMP:20260422T034201
CREATED:20241125T100450Z
LAST-MODIFIED:20241125T100450Z
UID:10020601-1733577600-1733581200@www.dancesoul.com.tw
SUMMARY:兒童街舞-薇臻
DESCRIPTION:
URL:https://www.dancesoul.com.tw/schedule/%e5%85%92%e7%ab%a5%e8%a1%97%e8%88%9e-%e8%96%87%e8%87%bb-13/2024-12-07/
CATEGORIES:Lyrical Jazz,Popping 初級,兒童街舞,兒童課,課程
END:VEVENT
BEGIN:VEVENT
DTSTART;TZID=Asia/Shanghai:20241207T143000
DTEND;TZID=Asia/Shanghai:20241207T153000
DTSTAMP:20260422T034201
CREATED:20241125T100959Z
LAST-MODIFIED:20241125T100959Z
UID:10020605-1733581800-1733585400@www.dancesoul.com.tw
SUMMARY:兒童MV-(BABYMONSTER - DRIP)-薇臻
DESCRIPTION:
URL:https://www.dancesoul.com.tw/schedule/%e5%85%92%e7%ab%a5mv-babymonster-drip-%e8%96%87%e8%87%bb/2024-12-07/
CATEGORIES:Popping 初級,兒童MV,兒童課,課程
END:VEVENT
BEGIN:VEVENT
DTSTART;TZID=Asia/Shanghai:20241207T154000
DTEND;TZID=Asia/Shanghai:20241207T164000
DTSTAMP:20260422T034201
CREATED:20241125T101237Z
LAST-MODIFIED:20241125T101237Z
UID:10020614-1733586000-1733589600@www.dancesoul.com.tw
SUMMARY:兒童基礎街舞-傘傘
DESCRIPTION:
URL:https://www.dancesoul.com.tw/schedule/%e5%85%92%e7%ab%a5%e5%9f%ba%e7%a4%8e%e8%a1%97%e8%88%9e-%e5%82%98%e5%82%98-6/2024-12-07/
CATEGORIES:Lyrical Jazz,Popping 初級,兒童基礎街舞,兒童課,課程
END:VEVENT
BEGIN:VEVENT
DTSTART;TZID=Asia/Shanghai:20241207T165000
DTEND;TZID=Asia/Shanghai:20241207T175000
DTSTAMP:20260422T034201
CREATED:20241125T102718Z
LAST-MODIFIED:20241125T102718Z
UID:10020640-1733590200-1733593800@www.dancesoul.com.tw
SUMMARY:MV-(Kiss of Life - Igloo)-姿昀
DESCRIPTION:
URL:https://www.dancesoul.com.tw/schedule/mv-kiss-of-life-igloo-%e5%a7%bf%e6%98%80/2024-12-07/
CATEGORIES:MV課,課程
END:VEVENT
BEGIN:VEVENT
DTSTART;TZID=Asia/Shanghai:20241207T180000
DTEND;TZID=Asia/Shanghai:20241207T190000
DTSTAMP:20260422T034201
CREATED:20241125T101332Z
LAST-MODIFIED:20241125T101332Z
UID:10020618-1733594400-1733598000@www.dancesoul.com.tw
SUMMARY:Popping-紀威
DESCRIPTION:
URL:https://www.dancesoul.com.tw/schedule/popping-%e7%b4%80%e5%a8%81-47/2024-12-07/
CATEGORIES:Poppin,常態課_一般,課程
END:VEVENT
BEGIN:VEVENT
DTSTART;TZID=Asia/Shanghai:20241207T191000
DTEND;TZID=Asia/Shanghai:20241207T201000
DTSTAMP:20260422T034201
CREATED:20241125T101547Z
LAST-MODIFIED:20241125T101547Z
UID:10020622-1733598600-1733602200@www.dancesoul.com.tw
SUMMARY:Choreography(初)-無盡
DESCRIPTION:
URL:https://www.dancesoul.com.tw/schedule/choreography%e5%88%9d-%e7%84%a1%e7%9b%a1-7/2024-12-07/
CATEGORIES:Choreography 初級,常態課_初級,課程
END:VEVENT
BEGIN:VEVENT
DTSTART;TZID=Asia/Shanghai:20241207T202000
DTEND;TZID=Asia/Shanghai:20241207T212000
DTSTAMP:20260422T034201
CREATED:20241125T101644Z
LAST-MODIFIED:20241125T101644Z
UID:10020626-1733602800-1733606400@www.dancesoul.com.tw
SUMMARY:基礎入門-雞蛋
DESCRIPTION:
URL:https://www.dancesoul.com.tw/schedule/%e5%9f%ba%e7%a4%8e%e5%85%a5%e9%96%80-%e9%9b%9e%e8%9b%8b-34/2024-12-07/
CATEGORIES:基礎入門,常態課_初級,課程
END:VEVENT
END:VCALENDAR