BEGIN:VCALENDAR
VERSION:2.0
PRODID:-//DANCE SOUL 舞魂街舞學校 - ECPv6.15.18//NONSGML v1.0//EN
CALSCALE:GREGORIAN
METHOD:PUBLISH
X-ORIGINAL-URL:https://www.dancesoul.com.tw
X-WR-CALDESC:Events for DANCE SOUL 舞魂街舞學校
REFRESH-INTERVAL;VALUE=DURATION:PT1H
X-Robots-Tag:noindex
X-PUBLISHED-TTL:PT1H
BEGIN:VTIMEZONE
TZID:Asia/Shanghai
BEGIN:STANDARD
TZOFFSETFROM:+0800
TZOFFSETTO:+0800
TZNAME:CST
DTSTART:20230101T000000
END:STANDARD
END:VTIMEZONE
BEGIN:VEVENT
DTSTART;TZID=Asia/Shanghai:20241211T183000
DTEND;TZID=Asia/Shanghai:20241211T193000
DTSTAMP:20260422T024525
CREATED:20241125T104645Z
LAST-MODIFIED:20241125T104645Z
UID:10020678-1733941800-1733945400@www.dancesoul.com.tw
SUMMARY:Street Jazz(初)-Kyle
DESCRIPTION:
URL:https://www.dancesoul.com.tw/schedule/street-jazz%e5%88%9d-kyle-21/2024-12-11/
CATEGORIES:STREET JAZZ 初級,常態課_初級,課程
END:VEVENT
BEGIN:VEVENT
DTSTART;TZID=Asia/Shanghai:20241211T194000
DTEND;TZID=Asia/Shanghai:20241211T204000
DTSTAMP:20260422T024525
CREATED:20241125T104940Z
LAST-MODIFIED:20241125T104940Z
UID:10020681-1733946000-1733949600@www.dancesoul.com.tw
SUMMARY:Street Jazz-Larry
DESCRIPTION:
URL:https://www.dancesoul.com.tw/schedule/street-jazz-larry-22/2024-12-11/
CATEGORIES:STREET JAZZ,常態課_一般,課程
END:VEVENT
BEGIN:VEVENT
DTSTART;TZID=Asia/Shanghai:20241211T205000
DTEND;TZID=Asia/Shanghai:20241211T215000
DTSTAMP:20260422T024525
CREATED:20241125T105734Z
LAST-MODIFIED:20241125T105734Z
UID:10020684-1733950200-1733953800@www.dancesoul.com.tw
SUMMARY:Free Style-承達
DESCRIPTION:
URL:https://www.dancesoul.com.tw/schedule/free-style-%e6%89%bf%e9%81%94-45/2024-12-11/
CATEGORIES:Freestyle,常態課_一般,課程
END:VEVENT
END:VCALENDAR