BEGIN:VCALENDAR
VERSION:2.0
PRODID:-//DANCE SOUL 舞魂街舞學校 - ECPv6.15.18//NONSGML v1.0//EN
CALSCALE:GREGORIAN
METHOD:PUBLISH
X-ORIGINAL-URL:https://www.dancesoul.com.tw
X-WR-CALDESC:Events for DANCE SOUL 舞魂街舞學校
REFRESH-INTERVAL;VALUE=DURATION:PT1H
X-Robots-Tag:noindex
X-PUBLISHED-TTL:PT1H
BEGIN:VTIMEZONE
TZID:Asia/Shanghai
BEGIN:STANDARD
TZOFFSETFROM:+0800
TZOFFSETTO:+0800
TZNAME:CST
DTSTART:20230101T000000
END:STANDARD
END:VTIMEZONE
BEGIN:VEVENT
DTSTART;TZID=Asia/Shanghai:20241226T183000
DTEND;TZID=Asia/Shanghai:20241226T193000
DTSTAMP:20260421T230441
CREATED:20241125T105835Z
LAST-MODIFIED:20241125T105835Z
UID:10020689-1735237800-1735241400@www.dancesoul.com.tw
SUMMARY:Choreography-芭比
DESCRIPTION:
URL:https://www.dancesoul.com.tw/schedule/choreography-%e8%8a%ad%e6%af%94-28/2024-12-26/
CATEGORIES:Choreography,常態課_一般,課程
END:VEVENT
BEGIN:VEVENT
DTSTART;TZID=Asia/Shanghai:20241226T194000
DTEND;TZID=Asia/Shanghai:20241226T204000
DTSTAMP:20260421T230441
CREATED:20241125T110316Z
LAST-MODIFIED:20241125T110815Z
UID:10020693-1735242000-1735245600@www.dancesoul.com.tw
SUMMARY:Hip Hop-林彤
DESCRIPTION:
URL:https://www.dancesoul.com.tw/schedule/hip-hop-%e6%9e%97%e5%bd%a4-24/2024-12-26/
CATEGORIES:Hip Hop,常態課_一般,課程
END:VEVENT
BEGIN:VEVENT
DTSTART;TZID=Asia/Shanghai:20241226T205000
DTEND;TZID=Asia/Shanghai:20241226T215000
DTSTAMP:20260421T230441
CREATED:20241125T110418Z
LAST-MODIFIED:20241125T110418Z
UID:10020746-1735246200-1735249800@www.dancesoul.com.tw
SUMMARY:Afro Style-巴豪
DESCRIPTION:
URL:https://www.dancesoul.com.tw/schedule/afro-style-%e5%b7%b4%e8%b1%aa-7/2024-12-26/
CATEGORIES:Afro Style,常態課_一般,課程
END:VEVENT
END:VCALENDAR