BEGIN:VCALENDAR
VERSION:2.0
PRODID:-//DANCE SOUL 舞魂街舞學校 - ECPv6.15.18//NONSGML v1.0//EN
CALSCALE:GREGORIAN
METHOD:PUBLISH
X-WR-CALNAME:DANCE SOUL 舞魂街舞學校
X-ORIGINAL-URL:https://www.dancesoul.com.tw
X-WR-CALDESC:Events for DANCE SOUL 舞魂街舞學校
REFRESH-INTERVAL;VALUE=DURATION:PT1H
X-Robots-Tag:noindex
X-PUBLISHED-TTL:PT1H
BEGIN:VTIMEZONE
TZID:Asia/Shanghai
BEGIN:STANDARD
TZOFFSETFROM:+0800
TZOFFSETTO:+0800
TZNAME:CST
DTSTART:20240101T000000
END:STANDARD
END:VTIMEZONE
BEGIN:VEVENT
DTSTART;TZID=Asia/Shanghai:20250104T132000
DTEND;TZID=Asia/Shanghai:20250104T142000
DTSTAMP:20260421T082501
CREATED:20241230T071935Z
LAST-MODIFIED:20241230T071935Z
UID:10020771-1735996800-1736000400@www.dancesoul.com.tw
SUMMARY:兒童街舞-薇臻
DESCRIPTION:
URL:https://www.dancesoul.com.tw/schedule/%e5%85%92%e7%ab%a5%e8%a1%97%e8%88%9e-%e8%96%87%e8%87%bb-14/2025-01-04/
CATEGORIES:Popping 初級,兒童街舞,兒童課,課程
END:VEVENT
BEGIN:VEVENT
DTSTART;TZID=Asia/Shanghai:20250104T143000
DTEND;TZID=Asia/Shanghai:20250104T153000
DTSTAMP:20260421T082501
CREATED:20241230T072047Z
LAST-MODIFIED:20241230T072047Z
UID:10020775-1736001000-1736004600@www.dancesoul.com.tw
SUMMARY:兒童MV-(MEOVV - BODY)-薇臻
DESCRIPTION:
URL:https://www.dancesoul.com.tw/schedule/%e5%85%92%e7%ab%a5mv-meovv-body-%e8%96%87%e8%87%bb/2025-01-04/
CATEGORIES:Popping 初級,兒童MV,兒童課,課程
END:VEVENT
BEGIN:VEVENT
DTSTART;TZID=Asia/Shanghai:20250104T154000
DTEND;TZID=Asia/Shanghai:20250104T164000
DTSTAMP:20260421T082501
CREATED:20241230T072353Z
LAST-MODIFIED:20241230T072353Z
UID:10020779-1736005200-1736008800@www.dancesoul.com.tw
SUMMARY:兒童Krump-Coffee
DESCRIPTION:
URL:https://www.dancesoul.com.tw/schedule/%e5%85%92%e7%ab%a5krump-coffee/2025-01-04/
CATEGORIES:Popping 初級,兒童Krump,兒童課,課程
END:VEVENT
BEGIN:VEVENT
DTSTART;TZID=Asia/Shanghai:20250104T165000
DTEND;TZID=Asia/Shanghai:20250104T175000
DTSTAMP:20260421T082501
CREATED:20241230T072458Z
LAST-MODIFIED:20241230T072458Z
UID:10020783-1736009400-1736013000@www.dancesoul.com.tw
SUMMARY:MV-(BABYMONSTER - DRIP)-凝琦
DESCRIPTION:
URL:https://www.dancesoul.com.tw/schedule/mv-babymonster-drip-%e5%87%9d%e7%90%a6/2025-01-04/
CATEGORIES:MV課,課程
END:VEVENT
BEGIN:VEVENT
DTSTART;TZID=Asia/Shanghai:20250104T182000
DTEND;TZID=Asia/Shanghai:20250104T192000
DTSTAMP:20260421T082501
CREATED:20241230T072732Z
LAST-MODIFIED:20241230T072732Z
UID:10020787-1736014800-1736018400@www.dancesoul.com.tw
SUMMARY:Popping-紀威
DESCRIPTION:
URL:https://www.dancesoul.com.tw/schedule/popping-%e7%b4%80%e5%a8%81-48/2025-01-04/
CATEGORIES:Poppin,常態課_一般,課程
END:VEVENT
BEGIN:VEVENT
DTSTART;TZID=Asia/Shanghai:20250104T192500
DTEND;TZID=Asia/Shanghai:20250104T202500
DTSTAMP:20260421T082501
CREATED:20241230T072824Z
LAST-MODIFIED:20241230T072824Z
UID:10020791-1736018700-1736022300@www.dancesoul.com.tw
SUMMARY:Choreography(初)-無盡
DESCRIPTION:
URL:https://www.dancesoul.com.tw/schedule/choreography%e5%88%9d-%e7%84%a1%e7%9b%a1-8/2025-01-04/
CATEGORIES:Choreography 初級,常態課_初級,課程
END:VEVENT
BEGIN:VEVENT
DTSTART;TZID=Asia/Shanghai:20250104T203000
DTEND;TZID=Asia/Shanghai:20250104T213000
DTSTAMP:20260421T082501
CREATED:20241230T073007Z
LAST-MODIFIED:20241230T073007Z
UID:10020795-1736022600-1736026200@www.dancesoul.com.tw
SUMMARY:基礎入門-雞蛋
DESCRIPTION:
URL:https://www.dancesoul.com.tw/schedule/%e5%9f%ba%e7%a4%8e%e5%85%a5%e9%96%80-%e9%9b%9e%e8%9b%8b-35/2025-01-04/
CATEGORIES:基礎入門,常態課_初級,課程
END:VEVENT
END:VCALENDAR