BEGIN:VCALENDAR
VERSION:2.0
PRODID:-//DANCE SOUL 舞魂街舞學校 - ECPv6.15.18//NONSGML v1.0//EN
CALSCALE:GREGORIAN
METHOD:PUBLISH
X-ORIGINAL-URL:https://www.dancesoul.com.tw
X-WR-CALDESC:Events for DANCE SOUL 舞魂街舞學校
REFRESH-INTERVAL;VALUE=DURATION:PT1H
X-Robots-Tag:noindex
X-PUBLISHED-TTL:PT1H
BEGIN:VTIMEZONE
TZID:Asia/Shanghai
BEGIN:STANDARD
TZOFFSETFROM:+0800
TZOFFSETTO:+0800
TZNAME:CST
DTSTART:20240101T000000
END:STANDARD
END:VTIMEZONE
BEGIN:VEVENT
DTSTART;TZID=Asia/Shanghai:20250206T143000
DTEND;TZID=Asia/Shanghai:20250206T153000
DTSTAMP:20260422T020931
CREATED:20250126T061737Z
LAST-MODIFIED:20250126T061737Z
UID:10021062-1738852200-1738855800@www.dancesoul.com.tw
SUMMARY:兒童MV-(當日Dance Soul IG 限動公布歌曲)-蕭蕭
DESCRIPTION:
URL:https://www.dancesoul.com.tw/schedule/%e5%85%92%e7%ab%a5mv-%e7%95%b6%e6%97%a5dance-soul-ig-%e9%99%90%e5%8b%95%e5%85%ac%e5%b8%83%e6%ad%8c%e6%9b%b2-%e8%95%ad%e8%95%ad-2/
CATEGORIES:Popping 初級,兒童MV,兒童課,課程
END:VEVENT
BEGIN:VEVENT
DTSTART;TZID=Asia/Shanghai:20250206T154000
DTEND;TZID=Asia/Shanghai:20250206T164000
DTSTAMP:20260422T020931
CREATED:20250126T061932Z
LAST-MODIFIED:20250126T061932Z
UID:10021063-1738856400-1738860000@www.dancesoul.com.tw
SUMMARY:Street Jazz(初)-羊羊
DESCRIPTION:
URL:https://www.dancesoul.com.tw/schedule/street-jazz%e5%88%9d-%e7%be%8a%e7%be%8a-2/
CATEGORIES:STREET JAZZ 初級,常態課_初級,課程
END:VEVENT
BEGIN:VEVENT
DTSTART;TZID=Asia/Shanghai:20250206T165000
DTEND;TZID=Asia/Shanghai:20250206T175000
DTSTAMP:20260422T020931
CREATED:20250126T062034Z
LAST-MODIFIED:20250126T062034Z
UID:10021064-1738860600-1738864200@www.dancesoul.com.tw
SUMMARY:Jazz Funk-米其林
DESCRIPTION:
URL:https://www.dancesoul.com.tw/schedule/jazz-funk-%e7%b1%b3%e5%85%b6%e6%9e%97-2/
CATEGORIES:Jazz Funk,Jazz Funk 初級,Waacking 初級,常態課_一般,課程
END:VEVENT
BEGIN:VEVENT
DTSTART;TZID=Asia/Shanghai:20250206T182000
DTEND;TZID=Asia/Shanghai:20250206T192000
DTSTAMP:20260422T020931
CREATED:20250126T120555Z
LAST-MODIFIED:20250126T120555Z
UID:10021109-1738866000-1738869600@www.dancesoul.com.tw
SUMMARY:Jazz Funk-瑜庭
DESCRIPTION:
URL:https://www.dancesoul.com.tw/schedule/jazz-funk-%e7%91%9c%e5%ba%ad-3/2025-02-06/
CATEGORIES:Jazz Funk,Jazz Funk 初級,Waacking 初級,常態課_一般,課程
END:VEVENT
BEGIN:VEVENT
DTSTART;TZID=Asia/Shanghai:20250206T192500
DTEND;TZID=Asia/Shanghai:20250206T202500
DTSTAMP:20260422T020931
CREATED:20250126T120859Z
LAST-MODIFIED:20250126T120859Z
UID:10021113-1738869900-1738873500@www.dancesoul.com.tw
SUMMARY:Choreography-芭比
DESCRIPTION:
URL:https://www.dancesoul.com.tw/schedule/choreography-%e8%8a%ad%e6%af%94-30/2025-02-06/
CATEGORIES:Choreography,常態課_一般,課程
END:VEVENT
BEGIN:VEVENT
DTSTART;TZID=Asia/Shanghai:20250206T203000
DTEND;TZID=Asia/Shanghai:20250206T213000
DTSTAMP:20260422T020931
CREATED:20250126T121018Z
LAST-MODIFIED:20250213T200818Z
UID:10021117-1738873800-1738877400@www.dancesoul.com.tw
SUMMARY:Hip Hop-林彤
DESCRIPTION:
URL:https://www.dancesoul.com.tw/schedule/hip-hop-%e6%9e%97%e5%bd%a4-26/2025-02-06/
CATEGORIES:Hip Hop,常態課_一般,課程
ATTACH;FMTTYPE=image/jpeg:https://www.dancesoul.com.tw/wp-content/uploads/2024/08/cropped-IMG_7076-scaled-1.jpg
END:VEVENT
BEGIN:VEVENT
DTSTART;TZID=Asia/Shanghai:20250206T213500
DTEND;TZID=Asia/Shanghai:20250206T223500
DTSTAMP:20260422T020931
CREATED:20250126T121205Z
LAST-MODIFIED:20250126T121205Z
UID:10021121-1738877700-1738881300@www.dancesoul.com.tw
SUMMARY:Choreography-巴豪
DESCRIPTION:
URL:https://www.dancesoul.com.tw/schedule/choreography-%e5%b7%b4%e8%b1%aa-2/2025-02-06/
CATEGORIES:Choreography,常態課_一般,課程
END:VEVENT
END:VCALENDAR