BEGIN:VCALENDAR
VERSION:2.0
PRODID:-//DANCE SOUL 舞魂街舞學校 - ECPv6.15.18//NONSGML v1.0//EN
CALSCALE:GREGORIAN
METHOD:PUBLISH
X-ORIGINAL-URL:https://www.dancesoul.com.tw
X-WR-CALDESC:Events for DANCE SOUL 舞魂街舞學校
REFRESH-INTERVAL;VALUE=DURATION:PT1H
X-Robots-Tag:noindex
X-PUBLISHED-TTL:PT1H
BEGIN:VTIMEZONE
TZID:Asia/Shanghai
BEGIN:STANDARD
TZOFFSETFROM:+0800
TZOFFSETTO:+0800
TZNAME:CST
DTSTART:20240101T000000
END:STANDARD
END:VTIMEZONE
BEGIN:VEVENT
DTSTART;TZID=Asia/Shanghai:20250207T080000
DTEND;TZID=Asia/Shanghai:20250207T170000
DTSTAMP:20260421T221510
CREATED:20250126T064343Z
LAST-MODIFIED:20250213T200552Z
UID:10021065-1738915200-1738947600@www.dancesoul.com.tw
SUMMARY:Waacking-宋靜
DESCRIPTION:
URL:https://www.dancesoul.com.tw/schedule/waacking-%e5%ae%8b%e9%9d%9c-2/
CATEGORIES:Waacking,常態課_一般,課程
ATTACH;FMTTYPE=image/jpeg:https://www.dancesoul.com.tw/wp-content/uploads/2024/11/IMG_0039.jpg
END:VEVENT
BEGIN:VEVENT
DTSTART;TZID=Asia/Shanghai:20250207T154000
DTEND;TZID=Asia/Shanghai:20250207T165000
DTSTAMP:20260421T221510
CREATED:20250126T064738Z
LAST-MODIFIED:20250213T200141Z
UID:10021066-1738942800-1738947000@www.dancesoul.com.tw
SUMMARY:Free Style(初)-Larry
DESCRIPTION:
URL:https://www.dancesoul.com.tw/schedule/free-style%e5%88%9d-larry-8/
CATEGORIES:Freestyle 初級,常態課_一般,常態課_初級,課程
ATTACH;FMTTYPE=image/png:https://www.dancesoul.com.tw/wp-content/uploads/2024/08/cropped-cropped-DSC08537-removebg-preview.png
END:VEVENT
BEGIN:VEVENT
DTSTART;TZID=Asia/Shanghai:20250207T165000
DTEND;TZID=Asia/Shanghai:20250207T175000
DTSTAMP:20260421T221510
CREATED:20250126T065053Z
LAST-MODIFIED:20250126T065053Z
UID:10021067-1738947000-1738950600@www.dancesoul.com.tw
SUMMARY:Choreography-兆瑀
DESCRIPTION:
URL:https://www.dancesoul.com.tw/schedule/choreography-%e5%85%86%e7%91%80-2/
CATEGORIES:Choreography,常態課_一般,課程
END:VEVENT
BEGIN:VEVENT
DTSTART;TZID=Asia/Shanghai:20250207T182000
DTEND;TZID=Asia/Shanghai:20250207T192000
DTSTAMP:20260421T221510
CREATED:20250126T121434Z
LAST-MODIFIED:20250126T121434Z
UID:10021125-1738952400-1738956000@www.dancesoul.com.tw
SUMMARY:Street Jazz(初)-Cen妹
DESCRIPTION:
URL:https://www.dancesoul.com.tw/schedule/street-jazz%e5%88%9d-cen%e5%a6%b9-40/2025-02-07/
CATEGORIES:STREET JAZZ 初級,常態課_初級,課程
END:VEVENT
BEGIN:VEVENT
DTSTART;TZID=Asia/Shanghai:20250207T192500
DTEND;TZID=Asia/Shanghai:20250207T202500
DTSTAMP:20260421T221510
CREATED:20250126T121634Z
LAST-MODIFIED:20250126T121634Z
UID:10021129-1738956300-1738959900@www.dancesoul.com.tw
SUMMARY:Hip Hop(初)-佐佐
DESCRIPTION:
URL:https://www.dancesoul.com.tw/schedule/hip-hop%e5%88%9d-%e4%bd%90%e4%bd%90-19/2025-02-07/
CATEGORIES:Hip Hop 初級,常態課_初級,課程
END:VEVENT
BEGIN:VEVENT
DTSTART;TZID=Asia/Shanghai:20250207T203000
DTEND;TZID=Asia/Shanghai:20250207T213000
DTSTAMP:20260421T221510
CREATED:20250126T121741Z
LAST-MODIFIED:20250213T201555Z
UID:10021133-1738960200-1738963800@www.dancesoul.com.tw
SUMMARY:Hip Hop(初)-佐佐
DESCRIPTION:
URL:https://www.dancesoul.com.tw/schedule/hip-hop%e5%88%9d-%e4%bd%90%e4%bd%90-20/2025-02-07/
CATEGORIES:Hip Hop 初級,常態課_初級,課程
ATTACH;FMTTYPE=image/png:https://www.dancesoul.com.tw/wp-content/uploads/2024/08/cropped-379633145_833939798333649_4821612741604793782_n-removebg-preview-1.png
END:VEVENT
END:VCALENDAR