BEGIN:VCALENDAR
VERSION:2.0
PRODID:-//DANCE SOUL 舞魂街舞學校 - ECPv6.15.18//NONSGML v1.0//EN
CALSCALE:GREGORIAN
METHOD:PUBLISH
X-WR-CALNAME:DANCE SOUL 舞魂街舞學校
X-ORIGINAL-URL:https://www.dancesoul.com.tw
X-WR-CALDESC:Events for DANCE SOUL 舞魂街舞學校
REFRESH-INTERVAL;VALUE=DURATION:PT1H
X-Robots-Tag:noindex
X-PUBLISHED-TTL:PT1H
BEGIN:VTIMEZONE
TZID:Asia/Shanghai
BEGIN:STANDARD
TZOFFSETFROM:+0800
TZOFFSETTO:+0800
TZNAME:CST
DTSTART:20240101T000000
END:STANDARD
END:VTIMEZONE
BEGIN:VEVENT
DTSTART;TZID=Asia/Shanghai:20250308T132000
DTEND;TZID=Asia/Shanghai:20250308T142000
DTSTAMP:20260420T174042
CREATED:20250223T080224Z
LAST-MODIFIED:20250223T080224Z
UID:10021142-1741440000-1741443600@www.dancesoul.com.tw
SUMMARY:兒童街舞-薇臻
DESCRIPTION:
URL:https://www.dancesoul.com.tw/schedule/%e5%85%92%e7%ab%a5%e8%a1%97%e8%88%9e-%e8%96%87%e8%87%bb-16/2025-03-08/
CATEGORIES:兒童街舞,兒童課,課程
END:VEVENT
BEGIN:VEVENT
DTSTART;TZID=Asia/Shanghai:20250308T143000
DTEND;TZID=Asia/Shanghai:20250308T153000
DTSTAMP:20260420T174042
CREATED:20250223T080359Z
LAST-MODIFIED:20250223T080539Z
UID:10021147-1741444200-1741447800@www.dancesoul.com.tw
SUMMARY:兒童MV-(JISOO - EARTHQUAKE)-薇臻
DESCRIPTION:
URL:https://www.dancesoul.com.tw/schedule/%e5%85%92%e7%ab%a5mv-jisoo-earthquake-%e8%96%87%e8%87%bb/2025-03-08/
CATEGORIES:兒童MV,兒童課,課程
END:VEVENT
BEGIN:VEVENT
DTSTART;TZID=Asia/Shanghai:20250308T154000
DTEND;TZID=Asia/Shanghai:20250308T165000
DTSTAMP:20260420T174042
CREATED:20250223T083831Z
LAST-MODIFIED:20250223T083831Z
UID:10021152-1741448400-1741452600@www.dancesoul.com.tw
SUMMARY:兒童Krump-Coffee
DESCRIPTION:
URL:https://www.dancesoul.com.tw/schedule/%e5%85%92%e7%ab%a5krump-coffee-3/2025-03-08/
CATEGORIES:兒童Krump,兒童課,課程
END:VEVENT
BEGIN:VEVENT
DTSTART;TZID=Asia/Shanghai:20250308T165000
DTEND;TZID=Asia/Shanghai:20250308T175000
DTSTAMP:20260420T174042
CREATED:20250223T084032Z
LAST-MODIFIED:20250223T084032Z
UID:10021157-1741452600-1741456200@www.dancesoul.com.tw
SUMMARY:MV-(IVE - ATTITUDE)-凝琦
DESCRIPTION:
URL:https://www.dancesoul.com.tw/schedule/mv-ive-attitude-%e5%87%9d%e7%90%a6/2025-03-08/
CATEGORIES:MV課,課程
END:VEVENT
BEGIN:VEVENT
DTSTART;TZID=Asia/Shanghai:20250308T182000
DTEND;TZID=Asia/Shanghai:20250308T192000
DTSTAMP:20260420T174042
CREATED:20250223T084639Z
LAST-MODIFIED:20250223T084639Z
UID:10021162-1741458000-1741461600@www.dancesoul.com.tw
SUMMARY:Popping-紀威
DESCRIPTION:
URL:https://www.dancesoul.com.tw/schedule/popping-%e7%b4%80%e5%a8%81-50/2025-03-08/
CATEGORIES:Poppin,常態課_一般,課程
END:VEVENT
BEGIN:VEVENT
DTSTART;TZID=Asia/Shanghai:20250308T192500
DTEND;TZID=Asia/Shanghai:20250308T202500
DTSTAMP:20260420T174042
CREATED:20250223T084748Z
LAST-MODIFIED:20250223T084748Z
UID:10021167-1741461900-1741465500@www.dancesoul.com.tw
SUMMARY:Choreography(初)-無盡
DESCRIPTION:
URL:https://www.dancesoul.com.tw/schedule/choreography%e5%88%9d-%e7%84%a1%e7%9b%a1-10/2025-03-08/
CATEGORIES:Choreography 初級,常態課_初級,課程
END:VEVENT
BEGIN:VEVENT
DTSTART;TZID=Asia/Shanghai:20250308T203000
DTEND;TZID=Asia/Shanghai:20250308T213000
DTSTAMP:20260420T174042
CREATED:20250223T092636Z
LAST-MODIFIED:20250223T092636Z
UID:10021172-1741465800-1741469400@www.dancesoul.com.tw
SUMMARY:基礎入門-雞蛋
DESCRIPTION:
URL:https://www.dancesoul.com.tw/schedule/%e5%9f%ba%e7%a4%8e%e5%85%a5%e9%96%80-%e9%9b%9e%e8%9b%8b-37/2025-03-08/
CATEGORIES:基礎入門,常態課_初級,課程
END:VEVENT
END:VCALENDAR