BEGIN:VCALENDAR
VERSION:2.0
PRODID:-//DANCE SOUL 舞魂街舞學校 - ECPv6.15.18//NONSGML v1.0//EN
CALSCALE:GREGORIAN
METHOD:PUBLISH
X-ORIGINAL-URL:https://www.dancesoul.com.tw
X-WR-CALDESC:Events for DANCE SOUL 舞魂街舞學校
REFRESH-INTERVAL;VALUE=DURATION:PT1H
X-Robots-Tag:noindex
X-PUBLISHED-TTL:PT1H
BEGIN:VTIMEZONE
TZID:Asia/Shanghai
BEGIN:STANDARD
TZOFFSETFROM:+0800
TZOFFSETTO:+0800
TZNAME:CST
DTSTART:20240101T000000
END:STANDARD
END:VTIMEZONE
BEGIN:VEVENT
DTSTART;TZID=Asia/Shanghai:20250327T182000
DTEND;TZID=Asia/Shanghai:20250327T192000
DTSTAMP:20260421T072129
CREATED:20250223T112407Z
LAST-MODIFIED:20250223T112407Z
UID:10021261-1743099600-1743103200@www.dancesoul.com.tw
SUMMARY:Jazz Funk-瑜庭
DESCRIPTION:
URL:https://www.dancesoul.com.tw/schedule/jazz-funk-%e7%91%9c%e5%ba%ad-4/2025-03-27/
CATEGORIES:Jazz Funk,常態課_一般,課程
END:VEVENT
BEGIN:VEVENT
DTSTART;TZID=Asia/Shanghai:20250327T192500
DTEND;TZID=Asia/Shanghai:20250327T202500
DTSTAMP:20260421T072129
CREATED:20250223T112650Z
LAST-MODIFIED:20250223T112650Z
UID:10021265-1743103500-1743107100@www.dancesoul.com.tw
SUMMARY:Hip Hop(初)-佐佐
DESCRIPTION:
URL:https://www.dancesoul.com.tw/schedule/hip-hop%e5%88%9d-%e4%bd%90%e4%bd%90-21/2025-03-27/
CATEGORIES:Hip Hop 初級,常態課_初級,課程
END:VEVENT
BEGIN:VEVENT
DTSTART;TZID=Asia/Shanghai:20250327T203000
DTEND;TZID=Asia/Shanghai:20250327T213000
DTSTAMP:20260421T072129
CREATED:20250223T112906Z
LAST-MODIFIED:20250223T112906Z
UID:10021269-1743107400-1743111000@www.dancesoul.com.tw
SUMMARY:Hip Hop-林彤
DESCRIPTION:
URL:https://www.dancesoul.com.tw/schedule/hip-hop-%e6%9e%97%e5%bd%a4-27/2025-03-27/
CATEGORIES:Hip Hop,常態課_一般,課程
END:VEVENT
BEGIN:VEVENT
DTSTART;TZID=Asia/Shanghai:20250327T213500
DTEND;TZID=Asia/Shanghai:20250327T223500
DTSTAMP:20260421T072129
CREATED:20250223T113323Z
LAST-MODIFIED:20250223T113323Z
UID:10021273-1743111300-1743114900@www.dancesoul.com.tw
SUMMARY:Choreography-巴豪
DESCRIPTION:
URL:https://www.dancesoul.com.tw/schedule/choreography-%e5%b7%b4%e8%b1%aa-3/2025-03-27/
CATEGORIES:Choreography,常態課_一般,課程
END:VEVENT
END:VCALENDAR