BEGIN:VCALENDAR
VERSION:2.0
PRODID:-//DANCE SOUL 舞魂街舞學校 - ECPv6.15.18//NONSGML v1.0//EN
CALSCALE:GREGORIAN
METHOD:PUBLISH
X-WR-CALNAME:DANCE SOUL 舞魂街舞學校
X-ORIGINAL-URL:https://www.dancesoul.com.tw
X-WR-CALDESC:Events for DANCE SOUL 舞魂街舞學校
REFRESH-INTERVAL;VALUE=DURATION:PT1H
X-Robots-Tag:noindex
X-PUBLISHED-TTL:PT1H
BEGIN:VTIMEZONE
TZID:Asia/Shanghai
BEGIN:STANDARD
TZOFFSETFROM:+0800
TZOFFSETTO:+0800
TZNAME:CST
DTSTART:20240101T000000
END:STANDARD
END:VTIMEZONE
BEGIN:VEVENT
DTSTART;TZID=Asia/Shanghai:20250330T023000
DTEND;TZID=Asia/Shanghai:20250330T153000
DTSTAMP:20260421T062704
CREATED:20250223T093707Z
LAST-MODIFIED:20250223T093707Z
UID:10021185-1743301800-1743348600@www.dancesoul.com.tw
SUMMARY:兒童MV-(BABYMONSER - BILLIONAIRE )-羿芃
DESCRIPTION:
URL:https://www.dancesoul.com.tw/schedule/%e5%85%92%e7%ab%a5mv-babymonser-billionaire-%e7%be%bf%e8%8a%83/2025-03-30/
CATEGORIES:兒童MV,兒童課,課程
END:VEVENT
BEGIN:VEVENT
DTSTART;TZID=Asia/Shanghai:20250330T132000
DTEND;TZID=Asia/Shanghai:20250330T142000
DTSTAMP:20260421T062704
CREATED:20250223T092752Z
LAST-MODIFIED:20250223T092752Z
UID:10021180-1743340800-1743344400@www.dancesoul.com.tw
SUMMARY:兒童街舞-羿芃
DESCRIPTION:
URL:https://www.dancesoul.com.tw/schedule/%e5%85%92%e7%ab%a5%e8%a1%97%e8%88%9e-%e7%be%bf%e8%8a%83-15/2025-03-30/
CATEGORIES:兒童街舞,兒童課,課程
END:VEVENT
BEGIN:VEVENT
DTSTART;TZID=Asia/Shanghai:20250330T154000
DTEND;TZID=Asia/Shanghai:20250330T164000
DTSTAMP:20260421T062704
CREATED:20250223T093941Z
LAST-MODIFIED:20250223T093941Z
UID:10021190-1743349200-1743352800@www.dancesoul.com.tw
SUMMARY:兒童 Street Jazz-傘傘
DESCRIPTION:
URL:https://www.dancesoul.com.tw/schedule/%e5%85%92%e7%ab%a5-street-jazz-%e5%82%98%e5%82%98-7/2025-03-30/
CATEGORIES:兒童 Street Jazz,兒童課,課程
END:VEVENT
BEGIN:VEVENT
DTSTART;TZID=Asia/Shanghai:20250330T165000
DTEND;TZID=Asia/Shanghai:20250330T175000
DTSTAMP:20260421T062704
CREATED:20250223T102620Z
LAST-MODIFIED:20250223T102620Z
UID:10021195-1743353400-1743357000@www.dancesoul.com.tw
SUMMARY:MV-(BABYMONSER - BILLIONAIRE)-瑜庭
DESCRIPTION:
URL:https://www.dancesoul.com.tw/schedule/mv-babymonser-billionaire-%e7%91%9c%e5%ba%ad/2025-03-30/
CATEGORIES:MV課,課程
END:VEVENT
BEGIN:VEVENT
DTSTART;TZID=Asia/Shanghai:20250330T182000
DTEND;TZID=Asia/Shanghai:20250330T182000
DTSTAMP:20260421T062704
CREATED:20250223T103104Z
LAST-MODIFIED:20250223T103104Z
UID:10021205-1743358800-1743358800@www.dancesoul.com.tw
SUMMARY:Jazz Funk-姿昀
DESCRIPTION:
URL:https://www.dancesoul.com.tw/schedule/jazz-funk-%e5%a7%bf%e6%98%80-9/2025-03-30/
CATEGORIES:Jazz Funk,常態課_一般,課程
END:VEVENT
BEGIN:VEVENT
DTSTART;TZID=Asia/Shanghai:20250330T192500
DTEND;TZID=Asia/Shanghai:20250330T202500
DTSTAMP:20260421T062704
CREATED:20250223T102747Z
LAST-MODIFIED:20250223T103238Z
UID:10021210-1743362700-1743366300@www.dancesoul.com.tw
SUMMARY:Hip Hop(初)-承翰
DESCRIPTION:
URL:https://www.dancesoul.com.tw/schedule/hip-hop%e5%88%9d-%e6%89%bf%e7%bf%b0-14/2025-03-30/
CATEGORIES:Hip Hop 初級,常態課_初級,課程
END:VEVENT
END:VCALENDAR