BEGIN:VCALENDAR
VERSION:2.0
PRODID:-//DANCE SOUL 舞魂街舞學校 - ECPv6.15.18//NONSGML v1.0//EN
CALSCALE:GREGORIAN
METHOD:PUBLISH
X-ORIGINAL-URL:https://www.dancesoul.com.tw
X-WR-CALDESC:Events for DANCE SOUL 舞魂街舞學校
REFRESH-INTERVAL;VALUE=DURATION:PT1H
X-Robots-Tag:noindex
X-PUBLISHED-TTL:PT1H
BEGIN:VTIMEZONE
TZID:Asia/Shanghai
BEGIN:STANDARD
TZOFFSETFROM:+0800
TZOFFSETTO:+0800
TZNAME:CST
DTSTART:20240101T000000
END:STANDARD
END:VTIMEZONE
BEGIN:VEVENT
DTSTART;TZID=Asia/Shanghai:20250413T132000
DTEND;TZID=Asia/Shanghai:20250413T142000
DTSTAMP:20260421T021830
CREATED:20250328T083512Z
LAST-MODIFIED:20250328T083512Z
UID:10021417-1744550400-1744554000@www.dancesoul.com.tw
SUMMARY:兒童街舞-羿芃
DESCRIPTION:
URL:https://www.dancesoul.com.tw/schedule/%e5%85%92%e7%ab%a5%e8%a1%97%e8%88%9e-%e7%be%bf%e8%8a%83-16/2025-04-13/
CATEGORIES:兒童街舞,兒童課,課程
END:VEVENT
BEGIN:VEVENT
DTSTART;TZID=Asia/Shanghai:20250413T143000
DTEND;TZID=Asia/Shanghai:20250413T153000
DTSTAMP:20260421T021830
CREATED:20250328T084126Z
LAST-MODIFIED:20250328T084126Z
UID:10021421-1744554600-1744558200@www.dancesoul.com.tw
SUMMARY:兒童MV-(LE SSERAFIM - HOT )-羿芃
DESCRIPTION:
URL:https://www.dancesoul.com.tw/schedule/%e5%85%92%e7%ab%a5mv-le-sserafim-hot-%e7%be%bf%e8%8a%83/2025-04-13/
CATEGORIES:兒童MV,兒童課,課程
END:VEVENT
BEGIN:VEVENT
DTSTART;TZID=Asia/Shanghai:20250413T154000
DTEND;TZID=Asia/Shanghai:20250413T164000
DTSTAMP:20260421T021830
CREATED:20250328T084420Z
LAST-MODIFIED:20250328T084420Z
UID:10021429-1744558800-1744562400@www.dancesoul.com.tw
SUMMARY:兒童 Street Jazz-傘傘
DESCRIPTION:
URL:https://www.dancesoul.com.tw/schedule/%e5%85%92%e7%ab%a5-street-jazz-%e5%82%98%e5%82%98-8/2025-04-13/
CATEGORIES:兒童 Street Jazz,兒童課,課程
END:VEVENT
BEGIN:VEVENT
DTSTART;TZID=Asia/Shanghai:20250413T165000
DTEND;TZID=Asia/Shanghai:20250413T175000
DTSTAMP:20260421T021830
CREATED:20250328T084242Z
LAST-MODIFIED:20250328T084242Z
UID:10021425-1744563000-1744566600@www.dancesoul.com.tw
SUMMARY:MV-(YEJI - Air)-瑜庭
DESCRIPTION:
URL:https://www.dancesoul.com.tw/schedule/mv-yeji-air-%e7%91%9c%e5%ba%ad/2025-04-13/
CATEGORIES:MV課,常態課_一般,課程
END:VEVENT
BEGIN:VEVENT
DTSTART;TZID=Asia/Shanghai:20250413T182000
DTEND;TZID=Asia/Shanghai:20250413T192000
DTSTAMP:20260421T021830
CREATED:20250328T084530Z
LAST-MODIFIED:20250328T084530Z
UID:10021433-1744568400-1744572000@www.dancesoul.com.tw
SUMMARY:Jazz Funk-姿昀
DESCRIPTION:
URL:https://www.dancesoul.com.tw/schedule/jazz-funk-%e5%a7%bf%e6%98%80-10/2025-04-13/
CATEGORIES:Jazz Funk,常態課_一般,課程
END:VEVENT
BEGIN:VEVENT
DTSTART;TZID=Asia/Shanghai:20250413T192500
DTEND;TZID=Asia/Shanghai:20250413T202500
DTSTAMP:20260421T021830
CREATED:20250328T084654Z
LAST-MODIFIED:20250328T084654Z
UID:10021437-1744572300-1744575900@www.dancesoul.com.tw
SUMMARY:Hip Hop(初)-承翰
DESCRIPTION:
URL:https://www.dancesoul.com.tw/schedule/hip-hop%e5%88%9d-%e6%89%bf%e7%bf%b0-15/2025-04-13/
CATEGORIES:Hip Hop 初級,常態課_初級,課程
END:VEVENT
END:VCALENDAR