BEGIN:VCALENDAR
VERSION:2.0
PRODID:-//DANCE SOUL 舞魂街舞學校 - ECPv6.15.18//NONSGML v1.0//EN
CALSCALE:GREGORIAN
METHOD:PUBLISH
X-ORIGINAL-URL:https://www.dancesoul.com.tw
X-WR-CALDESC:Events for DANCE SOUL 舞魂街舞學校
REFRESH-INTERVAL;VALUE=DURATION:PT1H
X-Robots-Tag:noindex
X-PUBLISHED-TTL:PT1H
BEGIN:VTIMEZONE
TZID:Asia/Shanghai
BEGIN:STANDARD
TZOFFSETFROM:+0800
TZOFFSETTO:+0800
TZNAME:CST
DTSTART:20240101T000000
END:STANDARD
END:VTIMEZONE
BEGIN:VEVENT
DTSTART;TZID=Asia/Shanghai:20250417T182000
DTEND;TZID=Asia/Shanghai:20250417T192000
DTSTAMP:20260421T074922
CREATED:20250328T080149Z
LAST-MODIFIED:20250328T080149Z
UID:10021359-1744914000-1744917600@www.dancesoul.com.tw
SUMMARY:Jazz Funk-瑜庭
DESCRIPTION:
URL:https://www.dancesoul.com.tw/schedule/jazz-funk-%e7%91%9c%e5%ba%ad-5/2025-04-17/
CATEGORIES:Jazz Funk,常態課_一般,課程
END:VEVENT
BEGIN:VEVENT
DTSTART;TZID=Asia/Shanghai:20250417T192500
DTEND;TZID=Asia/Shanghai:20250417T202500
DTSTAMP:20260421T074922
CREATED:20250328T080519Z
LAST-MODIFIED:20250328T080519Z
UID:10021363-1744917900-1744921500@www.dancesoul.com.tw
SUMMARY:Hip Hop(初)-佐佐
DESCRIPTION:
URL:https://www.dancesoul.com.tw/schedule/hip-hop%e5%88%9d-%e4%bd%90%e4%bd%90-22/2025-04-17/
CATEGORIES:Hip Hop 初級,常態課_初級,課程
END:VEVENT
BEGIN:VEVENT
DTSTART;TZID=Asia/Shanghai:20250417T203000
DTEND;TZID=Asia/Shanghai:20250417T213000
DTSTAMP:20260421T074922
CREATED:20250328T080624Z
LAST-MODIFIED:20250328T080624Z
UID:10021367-1744921800-1744925400@www.dancesoul.com.tw
SUMMARY:Hip Hop-林彤
DESCRIPTION:
URL:https://www.dancesoul.com.tw/schedule/hip-hop-%e6%9e%97%e5%bd%a4-28/2025-04-17/
END:VEVENT
BEGIN:VEVENT
DTSTART;TZID=Asia/Shanghai:20250417T213500
DTEND;TZID=Asia/Shanghai:20250417T223500
DTSTAMP:20260421T074922
CREATED:20250328T080803Z
LAST-MODIFIED:20250328T080803Z
UID:10021371-1744925700-1744929300@www.dancesoul.com.tw
SUMMARY:Choreography-巴豪
DESCRIPTION:
URL:https://www.dancesoul.com.tw/schedule/choreography-%e5%b7%b4%e8%b1%aa-4/2025-04-17/
CATEGORIES:Choreography,常態課_一般,課程
END:VEVENT
END:VCALENDAR