BEGIN:VCALENDAR
VERSION:2.0
PRODID:-//DANCE SOUL 舞魂街舞學校 - ECPv6.15.18//NONSGML v1.0//EN
CALSCALE:GREGORIAN
METHOD:PUBLISH
X-ORIGINAL-URL:https://www.dancesoul.com.tw
X-WR-CALDESC:Events for DANCE SOUL 舞魂街舞學校
REFRESH-INTERVAL;VALUE=DURATION:PT1H
X-Robots-Tag:noindex
X-PUBLISHED-TTL:PT1H
BEGIN:VTIMEZONE
TZID:Asia/Shanghai
BEGIN:STANDARD
TZOFFSETFROM:+0800
TZOFFSETTO:+0800
TZNAME:CST
DTSTART:20240101T000000
END:STANDARD
END:VTIMEZONE
BEGIN:VEVENT
DTSTART;TZID=Asia/Shanghai:20250531T132000
DTEND;TZID=Asia/Shanghai:20250531T142000
DTSTAMP:20260420T174405
CREATED:20250417T100338Z
LAST-MODIFIED:20250417T100338Z
UID:10021575-1748697600-1748701200@www.dancesoul.com.tw
SUMMARY:兒童街舞-薇臻
DESCRIPTION:
URL:https://www.dancesoul.com.tw/schedule/%e5%85%92%e7%ab%a5%e8%a1%97%e8%88%9e-%e8%96%87%e8%87%bb-18/2025-05-31/
CATEGORIES:兒童基礎街舞,兒童街舞,兒童課,常態課_一般,課程
END:VEVENT
BEGIN:VEVENT
DTSTART;TZID=Asia/Shanghai:20250531T143000
DTEND;TZID=Asia/Shanghai:20250531T153000
DTSTAMP:20260420T174405
CREATED:20250421T072732Z
LAST-MODIFIED:20250421T072732Z
UID:10021616-1748701800-1748705400@www.dancesoul.com.tw
SUMMARY:兒童MV-(YEJI-Air)-薇臻
DESCRIPTION:
URL:https://www.dancesoul.com.tw/schedule/%e5%85%92%e7%ab%a5mv-yeji-air-%e8%96%87%e8%87%bb/2025-05-31/
CATEGORIES:MV課,兒童MV,兒童課,課程
END:VEVENT
BEGIN:VEVENT
DTSTART;TZID=Asia/Shanghai:20250531T154000
DTEND;TZID=Asia/Shanghai:20250531T164000
DTSTAMP:20260420T174405
CREATED:20250417T100532Z
LAST-MODIFIED:20250515T045826Z
UID:10021580-1748706000-1748709600@www.dancesoul.com.tw
SUMMARY:兒童Krump-Coffee
DESCRIPTION:
URL:https://www.dancesoul.com.tw/schedule/%e5%85%92%e7%ab%a5krump-coffee-5/2025-05-31/
CATEGORIES:兒童Krump,兒童課,常態課_一般,課程
END:VEVENT
BEGIN:VEVENT
DTSTART;TZID=Asia/Shanghai:20250531T165000
DTEND;TZID=Asia/Shanghai:20250531T175000
DTSTAMP:20260420T174405
CREATED:20250421T073004Z
LAST-MODIFIED:20250421T073004Z
UID:10021621-1748710200-1748713800@www.dancesoul.com.tw
SUMMARY:MV-(YEJI-Air)-凝琦
DESCRIPTION:
URL:https://www.dancesoul.com.tw/schedule/mv-yeji-air-%e5%87%9d%e7%90%a6/2025-05-31/
CATEGORIES:MV課,課程
END:VEVENT
BEGIN:VEVENT
DTSTART;TZID=Asia/Shanghai:20250531T182000
DTEND;TZID=Asia/Shanghai:20250531T192000
DTSTAMP:20260420T174405
CREATED:20250417T100804Z
LAST-MODIFIED:20250515T050016Z
UID:10021585-1748715600-1748719200@www.dancesoul.com.tw
SUMMARY:Popping-紀威
DESCRIPTION:
URL:https://www.dancesoul.com.tw/schedule/popping-%e7%b4%80%e5%a8%81-52/2025-05-31/
CATEGORIES:Poppin,常態課_一般,課程
END:VEVENT
BEGIN:VEVENT
DTSTART;TZID=Asia/Shanghai:20250531T192500
DTEND;TZID=Asia/Shanghai:20250531T202500
DTSTAMP:20260420T174405
CREATED:20250417T101730Z
LAST-MODIFIED:20250515T050159Z
UID:10021590-1748719500-1748723100@www.dancesoul.com.tw
SUMMARY:Choreography(初)-無盡
DESCRIPTION:
URL:https://www.dancesoul.com.tw/schedule/choreography%e5%88%9d-%e7%84%a1%e7%9b%a1-12/2025-05-31/
CATEGORIES:Choreography 初級,常態課_初級,課程
END:VEVENT
BEGIN:VEVENT
DTSTART;TZID=Asia/Shanghai:20250531T203000
DTEND;TZID=Asia/Shanghai:20250531T213000
DTSTAMP:20260420T174405
CREATED:20250417T102000Z
LAST-MODIFIED:20250515T050254Z
UID:10021595-1748723400-1748727000@www.dancesoul.com.tw
SUMMARY:基礎入門-雞蛋
DESCRIPTION:
URL:https://www.dancesoul.com.tw/schedule/%e5%9f%ba%e7%a4%8e%e5%85%a5%e9%96%80-%e9%9b%9e%e8%9b%8b-39/2025-05-31/
CATEGORIES:基礎入門,常態課_初級,課程
END:VEVENT
END:VCALENDAR