BEGIN:VCALENDAR
VERSION:2.0
PRODID:-//DANCE SOUL 舞魂街舞學校 - ECPv6.15.18//NONSGML v1.0//EN
CALSCALE:GREGORIAN
METHOD:PUBLISH
X-ORIGINAL-URL:https://www.dancesoul.com.tw
X-WR-CALDESC:Events for DANCE SOUL 舞魂街舞學校
REFRESH-INTERVAL;VALUE=DURATION:PT1H
X-Robots-Tag:noindex
X-PUBLISHED-TTL:PT1H
BEGIN:VTIMEZONE
TZID:Asia/Shanghai
BEGIN:STANDARD
TZOFFSETFROM:+0800
TZOFFSETTO:+0800
TZNAME:CST
DTSTART:20240101T000000
END:STANDARD
END:VTIMEZONE
BEGIN:VEVENT
DTSTART;TZID=Asia/Shanghai:20250612T182000
DTEND;TZID=Asia/Shanghai:20250612T192000
DTSTAMP:20260421T050547
CREATED:20250417T095015Z
LAST-MODIFIED:20250515T044543Z
UID:10021706-1749752400-1749756000@www.dancesoul.com.tw
SUMMARY:Jazz Funk-瑜庭
DESCRIPTION:
URL:https://www.dancesoul.com.tw/schedule/jazz-funk-%e7%91%9c%e5%ba%ad-6/2025-06-12/
CATEGORIES:Jazz Funk,常態課_一般,課程
END:VEVENT
BEGIN:VEVENT
DTSTART;TZID=Asia/Shanghai:20250612T192500
DTEND;TZID=Asia/Shanghai:20250612T202500
DTSTAMP:20260421T050547
CREATED:20250417T095206Z
LAST-MODIFIED:20250515T044717Z
UID:10021710-1749756300-1749759900@www.dancesoul.com.tw
SUMMARY:Hip Hop(初)-佐佐
DESCRIPTION:
URL:https://www.dancesoul.com.tw/schedule/hip-hop%e5%88%9d-%e4%bd%90%e4%bd%90-23/2025-06-12/
CATEGORIES:Hip Hop 初級,常態課_初級,課程
END:VEVENT
BEGIN:VEVENT
DTSTART;TZID=Asia/Shanghai:20250612T203000
DTEND;TZID=Asia/Shanghai:20250612T213000
DTSTAMP:20260421T050547
CREATED:20250417T095336Z
LAST-MODIFIED:20250515T044810Z
UID:10021714-1749760200-1749763800@www.dancesoul.com.tw
SUMMARY:Hip Hop-林彤
DESCRIPTION:
URL:https://www.dancesoul.com.tw/schedule/hip-hop-%e6%9e%97%e5%bd%a4-29/2025-06-12/
CATEGORIES:Hip Hop,常態課_一般,課程
END:VEVENT
BEGIN:VEVENT
DTSTART;TZID=Asia/Shanghai:20250612T213500
DTEND;TZID=Asia/Shanghai:20250612T223500
DTSTAMP:20260421T050547
CREATED:20250417T095519Z
LAST-MODIFIED:20250515T044905Z
UID:10021718-1749764100-1749767700@www.dancesoul.com.tw
SUMMARY:Choreography-巴豪
DESCRIPTION:
URL:https://www.dancesoul.com.tw/schedule/choreography-%e5%b7%b4%e8%b1%aa-5/2025-06-12/
CATEGORIES:Choreography,常態課_一般,課程
END:VEVENT
END:VCALENDAR