BEGIN:VCALENDAR
VERSION:2.0
PRODID:-//DANCE SOUL 舞魂街舞學校 - ECPv6.15.18//NONSGML v1.0//EN
CALSCALE:GREGORIAN
METHOD:PUBLISH
X-WR-CALNAME:DANCE SOUL 舞魂街舞學校
X-ORIGINAL-URL:https://www.dancesoul.com.tw
X-WR-CALDESC:Events for DANCE SOUL 舞魂街舞學校
REFRESH-INTERVAL;VALUE=DURATION:PT1H
X-Robots-Tag:noindex
X-PUBLISHED-TTL:PT1H
BEGIN:VTIMEZONE
TZID:Asia/Shanghai
BEGIN:STANDARD
TZOFFSETFROM:+0800
TZOFFSETTO:+0800
TZNAME:CST
DTSTART:20240101T000000
END:STANDARD
END:VTIMEZONE
BEGIN:VEVENT
DTSTART;TZID=Asia/Shanghai:20250705T080000
DTEND;TZID=Asia/Shanghai:20250705T170000
DTSTAMP:20260422T014055
CREATED:20250623T131953Z
LAST-MODIFIED:20250725T084729Z
UID:10022030-1751702400-1751734800@www.dancesoul.com.tw
SUMMARY:兒童MV(初)-薇臻
DESCRIPTION:
URL:https://www.dancesoul.com.tw/schedule/%e5%85%92%e7%ab%a5%e8%a1%97%e8%88%9e-%e8%96%87%e8%87%bb-20/2025-07-05/1/
CATEGORIES:兒童街舞,兒童課
END:VEVENT
BEGIN:VEVENT
DTSTART;TZID=Asia/Shanghai:20250705T132000
DTEND;TZID=Asia/Shanghai:20250705T142000
DTSTAMP:20260422T014055
CREATED:20250623T131953Z
LAST-MODIFIED:20250725T084729Z
UID:10021970-1751721600-1751725200@www.dancesoul.com.tw
SUMMARY:兒童MV(初)-薇臻
DESCRIPTION:
URL:https://www.dancesoul.com.tw/schedule/%e5%85%92%e7%ab%a5%e8%a1%97%e8%88%9e-%e8%96%87%e8%87%bb-20/2025-07-05/2/
CATEGORIES:兒童街舞,兒童課
END:VEVENT
BEGIN:VEVENT
DTSTART;TZID=Asia/Shanghai:20250705T143000
DTEND;TZID=Asia/Shanghai:20250705T153000
DTSTAMP:20260422T014055
CREATED:20250623T132140Z
LAST-MODIFIED:20250623T132140Z
UID:10021974-1751725800-1751729400@www.dancesoul.com.tw
SUMMARY:兒童MV-(ITZY - Girls Will Be Girls)-薇臻
DESCRIPTION:
URL:https://www.dancesoul.com.tw/schedule/%e5%85%92%e7%ab%a5mv-itzy-girls-will-be-girls-%e8%96%87%e8%87%bb/2025-07-05/
CATEGORIES:兒童MV,兒童課
END:VEVENT
BEGIN:VEVENT
DTSTART;TZID=Asia/Shanghai:20250705T153000
DTEND;TZID=Asia/Shanghai:20250705T164000
DTSTAMP:20260422T014055
CREATED:20250623T132250Z
LAST-MODIFIED:20250623T132250Z
UID:10021978-1751729400-1751733600@www.dancesoul.com.tw
SUMMARY:兒童Krump-Coffee
DESCRIPTION:
URL:https://www.dancesoul.com.tw/schedule/%e5%85%92%e7%ab%a5krump-coffee-6/2025-07-05/
CATEGORIES:兒童Krump,兒童課
END:VEVENT
BEGIN:VEVENT
DTSTART;TZID=Asia/Shanghai:20250705T164000
DTEND;TZID=Asia/Shanghai:20250705T174000
DTSTAMP:20260422T014055
CREATED:20250901T055344Z
LAST-MODIFIED:20251202T055314Z
UID:10030718-1751733600-1751737200@www.dancesoul.com.tw
SUMMARY:MV(BABYMONSTER - ‘PSYCHO’)-凝琦
DESCRIPTION:
URL:https://www.dancesoul.com.tw/schedule/mvive-xoxz-%e5%87%9d%e7%90%a6/2025-07-05/
CATEGORIES:MV課,課程
END:VEVENT
BEGIN:VEVENT
DTSTART;TZID=Asia/Shanghai:20250705T165000
DTEND;TZID=Asia/Shanghai:20250705T175000
DTSTAMP:20260422T014055
CREATED:20250515T050454Z
LAST-MODIFIED:20250623T104653Z
UID:10021757-1751734200-1751737800@www.dancesoul.com.tw
SUMMARY:MV-凝琦
DESCRIPTION:
URL:https://www.dancesoul.com.tw/schedule/mv-%e5%87%9d%e7%90%a6/2025-07-05/
CATEGORIES:MV課
END:VEVENT
BEGIN:VEVENT
DTSTART;TZID=Asia/Shanghai:20250705T182000
DTEND;TZID=Asia/Shanghai:20250705T192000
DTSTAMP:20260422T014055
CREATED:20250623T132533Z
LAST-MODIFIED:20250725T090245Z
UID:10021986-1751739600-1751743200@www.dancesoul.com.tw
SUMMARY:Popping-紀威
DESCRIPTION:
URL:https://www.dancesoul.com.tw/schedule/popping-%e7%b4%80%e5%a8%81-53/2025-07-05/
CATEGORIES:Poppin
END:VEVENT
BEGIN:VEVENT
DTSTART;TZID=Asia/Shanghai:20250705T192500
DTEND;TZID=Asia/Shanghai:20250705T202500
DTSTAMP:20260422T014055
CREATED:20250623T132647Z
LAST-MODIFIED:20250725T090355Z
UID:10021990-1751743500-1751747100@www.dancesoul.com.tw
SUMMARY:Choreography(初)-無盡
DESCRIPTION:
URL:https://www.dancesoul.com.tw/schedule/choreography%e5%88%9d-%e7%84%a1%e7%9b%a1-13/2025-07-05/
CATEGORIES:Choreography,Choreography 初級
END:VEVENT
BEGIN:VEVENT
DTSTART;TZID=Asia/Shanghai:20250705T203000
DTEND;TZID=Asia/Shanghai:20250705T213000
DTSTAMP:20260422T014055
CREATED:20250623T132809Z
LAST-MODIFIED:20250725T090453Z
UID:10021994-1751747400-1751751000@www.dancesoul.com.tw
SUMMARY:基礎入門-雞蛋
DESCRIPTION:
URL:https://www.dancesoul.com.tw/schedule/%e5%9f%ba%e7%a4%8e%e5%85%a5%e9%96%80-%e9%9b%9e%e8%9b%8b-40/2025-07-05/
CATEGORIES:Hip Hop 初級,基礎入門
END:VEVENT
END:VCALENDAR