BEGIN:VCALENDAR
VERSION:2.0
PRODID:-//DANCE SOUL 舞魂街舞學校 - ECPv6.15.18//NONSGML v1.0//EN
CALSCALE:GREGORIAN
METHOD:PUBLISH
X-WR-CALNAME:DANCE SOUL 舞魂街舞學校
X-ORIGINAL-URL:https://www.dancesoul.com.tw
X-WR-CALDESC:Events for DANCE SOUL 舞魂街舞學校
REFRESH-INTERVAL;VALUE=DURATION:PT1H
X-Robots-Tag:noindex
X-PUBLISHED-TTL:PT1H
BEGIN:VTIMEZONE
TZID:Asia/Shanghai
BEGIN:STANDARD
TZOFFSETFROM:+0800
TZOFFSETTO:+0800
TZNAME:CST
DTSTART:20240101T000000
END:STANDARD
END:VTIMEZONE
BEGIN:VEVENT
DTSTART;TZID=Asia/Shanghai:20250706T132000
DTEND;TZID=Asia/Shanghai:20250706T142000
DTSTAMP:20260421T171532
CREATED:20250623T132909Z
LAST-MODIFIED:20250725T091913Z
UID:10021998-1751808000-1751811600@www.dancesoul.com.tw
SUMMARY:兒童街舞-羿芃
DESCRIPTION:
URL:https://www.dancesoul.com.tw/schedule/%e5%85%92%e7%ab%a5%e8%a1%97%e8%88%9e-%e7%be%bf%e8%8a%83-19/2025-07-06/
CATEGORIES:兒童街舞,兒童課
END:VEVENT
BEGIN:VEVENT
DTSTART;TZID=Asia/Shanghai:20250706T143000
DTEND;TZID=Asia/Shanghai:20250706T153000
DTSTAMP:20260421T171532
CREATED:20250623T133111Z
LAST-MODIFIED:20250623T134109Z
UID:10022022-1751812200-1751815800@www.dancesoul.com.tw
SUMMARY:兒童MV-(LE SSERAFIM-DIFFERENT)-羿芃
DESCRIPTION:
URL:https://www.dancesoul.com.tw/schedule/%e5%85%92%e7%ab%a5mv-le-sserafim-different-%e7%be%bf%e8%8a%83/2025-07-06/
CATEGORIES:兒童MV,兒童課
END:VEVENT
BEGIN:VEVENT
DTSTART;TZID=Asia/Shanghai:20250706T154000
DTEND;TZID=Asia/Shanghai:20250706T164000
DTSTAMP:20260421T171532
CREATED:20250623T133201Z
LAST-MODIFIED:20250725T092433Z
UID:10022026-1751816400-1751820000@www.dancesoul.com.tw
SUMMARY:兒童Street Jazz-傘傘
DESCRIPTION:
URL:https://www.dancesoul.com.tw/schedule/%e5%85%92%e7%ab%a5street-jazz-%e5%82%98%e5%82%98-3/2025-07-06/
CATEGORIES:兒童 Street Jazz,兒童課
END:VEVENT
BEGIN:VEVENT
DTSTART;TZID=Asia/Shanghai:20250706T165000
DTEND;TZID=Asia/Shanghai:20250706T175000
DTSTAMP:20260421T171532
CREATED:20250623T133307Z
LAST-MODIFIED:20250623T133307Z
UID:10022010-1751820600-1751824200@www.dancesoul.com.tw
SUMMARY:MV(ITZY - Girls Will Be Girls)-瑜庭
DESCRIPTION:
URL:https://www.dancesoul.com.tw/schedule/mvitzy-girls-will-be-girls-%e7%91%9c%e5%ba%ad/2025-07-06/
CATEGORIES:MV課
END:VEVENT
BEGIN:VEVENT
DTSTART;TZID=Asia/Shanghai:20250706T182000
DTEND;TZID=Asia/Shanghai:20250706T192000
DTSTAMP:20260421T171532
CREATED:20250623T133400Z
LAST-MODIFIED:20250725T092532Z
UID:10022014-1751826000-1751829600@www.dancesoul.com.tw
SUMMARY:Jazz Funk-姿昀
DESCRIPTION:
URL:https://www.dancesoul.com.tw/schedule/jazz-funk-%e5%a7%bf%e6%98%80-14/2025-07-06/
CATEGORIES:Jazz Funk
END:VEVENT
BEGIN:VEVENT
DTSTART;TZID=Asia/Shanghai:20250706T192500
DTEND;TZID=Asia/Shanghai:20250706T202500
DTSTAMP:20260421T171532
CREATED:20250623T133518Z
LAST-MODIFIED:20250623T133518Z
UID:10022018-1751829900-1751833500@www.dancesoul.com.tw
SUMMARY:Hip Hop(初)-Rod
DESCRIPTION:
URL:https://www.dancesoul.com.tw/schedule/hip-hop%e5%88%9d-rod-3/2025-07-06/
CATEGORIES:Hip Hop,Hip Hop 初級
END:VEVENT
END:VCALENDAR