BEGIN:VCALENDAR
VERSION:2.0
PRODID:-//DANCE SOUL 舞魂街舞學校 - ECPv6.15.18//NONSGML v1.0//EN
CALSCALE:GREGORIAN
METHOD:PUBLISH
X-WR-CALNAME:DANCE SOUL 舞魂街舞學校
X-ORIGINAL-URL:https://www.dancesoul.com.tw
X-WR-CALDESC:Events for DANCE SOUL 舞魂街舞學校
REFRESH-INTERVAL;VALUE=DURATION:PT1H
X-Robots-Tag:noindex
X-PUBLISHED-TTL:PT1H
BEGIN:VTIMEZONE
TZID:Asia/Shanghai
BEGIN:STANDARD
TZOFFSETFROM:+0800
TZOFFSETTO:+0800
TZNAME:CST
DTSTART:20240101T000000
END:STANDARD
END:VTIMEZONE
BEGIN:VEVENT
DTSTART;TZID=Asia/Shanghai:20250716T143000
DTEND;TZID=Asia/Shanghai:20250716T153000
DTSTAMP:20260422T075151
CREATED:20250623T121721Z
LAST-MODIFIED:20250725T080546Z
UID:10021873-1752676200-1752679800@www.dancesoul.com.tw
SUMMARY:基礎入門-無盡
DESCRIPTION:
URL:https://www.dancesoul.com.tw/schedule/%e5%9f%ba%e7%a4%8e%e5%85%a5%e9%96%80-%e7%84%a1%e7%9b%a1-9/2025-07-16/
CATEGORIES:基礎入門
END:VEVENT
BEGIN:VEVENT
DTSTART;TZID=Asia/Shanghai:20250716T154000
DTEND;TZID=Asia/Shanghai:20250716T164000
DTSTAMP:20260422T075151
CREATED:20250623T121833Z
LAST-MODIFIED:20250623T121833Z
UID:10021878-1752680400-1752684000@www.dancesoul.com.tw
SUMMARY:Free Style-雞蛋
DESCRIPTION:
URL:https://www.dancesoul.com.tw/schedule/free-style-%e9%9b%9e%e8%9b%8b/2025-07-16/
CATEGORIES:Freestyle
END:VEVENT
BEGIN:VEVENT
DTSTART;TZID=Asia/Shanghai:20250716T165000
DTEND;TZID=Asia/Shanghai:20250716T175000
DTSTAMP:20260422T075151
CREATED:20250623T122146Z
LAST-MODIFIED:20250623T123123Z
UID:10021883-1752684600-1752688200@www.dancesoul.com.tw
SUMMARY:Choreography-林彤x聖恩
DESCRIPTION:
URL:https://www.dancesoul.com.tw/schedule/choreography-%e6%9e%97%e5%bd%a4x%e8%81%96%e6%81%a9/2025-07-16/
CATEGORIES:Choreography,特別課程
END:VEVENT
BEGIN:VEVENT
DTSTART;TZID=Asia/Shanghai:20250716T182000
DTEND;TZID=Asia/Shanghai:20250716T192000
DTSTAMP:20260422T075151
CREATED:20250417T094623Z
LAST-MODIFIED:20250725T075554Z
UID:10022081-1752690000-1752693600@www.dancesoul.com.tw
SUMMARY:Krump-Coffee
DESCRIPTION:
URL:https://www.dancesoul.com.tw/schedule/krump-coffee-5/2025-07-16/
CATEGORIES:Krump,常態課_一般,課程
END:VEVENT
BEGIN:VEVENT
DTSTART;TZID=Asia/Shanghai:20250716T182000
DTEND;TZID=Asia/Shanghai:20250716T192000
DTSTAMP:20260422T075151
CREATED:20250623T122258Z
LAST-MODIFIED:20250623T122258Z
UID:10021888-1752690000-1752693600@www.dancesoul.com.tw
SUMMARY:Krump-Coffee
DESCRIPTION:
URL:https://www.dancesoul.com.tw/schedule/krump-coffee-6/2025-07-16/
CATEGORIES:Krump
END:VEVENT
BEGIN:VEVENT
DTSTART;TZID=Asia/Shanghai:20250716T192500
DTEND;TZID=Asia/Shanghai:20250716T202500
DTSTAMP:20260422T075151
CREATED:20250417T094436Z
LAST-MODIFIED:20250725T075734Z
UID:10022090-1752693900-1752697500@www.dancesoul.com.tw
SUMMARY:Street Jazz-Larry
DESCRIPTION:
URL:https://www.dancesoul.com.tw/schedule/street-jazz-larry-28/2025-07-16/
CATEGORIES:STREET JAZZ,常態課_一般,課程
END:VEVENT
BEGIN:VEVENT
DTSTART;TZID=Asia/Shanghai:20250716T192500
DTEND;TZID=Asia/Shanghai:20250716T202500
DTSTAMP:20260422T075151
CREATED:20250623T122409Z
LAST-MODIFIED:20250623T122409Z
UID:10021893-1752693900-1752697500@www.dancesoul.com.tw
SUMMARY:Street Jazz-Larry
DESCRIPTION:
URL:https://www.dancesoul.com.tw/schedule/street-jazz-larry-29/2025-07-16/
CATEGORIES:STREET JAZZ
END:VEVENT
BEGIN:VEVENT
DTSTART;TZID=Asia/Shanghai:20250716T203000
DTEND;TZID=Asia/Shanghai:20250716T213000
DTSTAMP:20260422T075151
CREATED:20250623T122515Z
LAST-MODIFIED:20250623T122515Z
UID:10021898-1752697800-1752701400@www.dancesoul.com.tw
SUMMARY:Street Jazz-Kyle
DESCRIPTION:
URL:https://www.dancesoul.com.tw/schedule/street-jazz-kyle-3/2025-07-16/
CATEGORIES:STREET JAZZ
END:VEVENT
BEGIN:VEVENT
DTSTART;TZID=Asia/Shanghai:20250716T213500
DTEND;TZID=Asia/Shanghai:20250716T223500
DTSTAMP:20260422T075151
CREATED:20250623T122629Z
LAST-MODIFIED:20250623T122629Z
UID:10021903-1752701700-1752705300@www.dancesoul.com.tw
SUMMARY:Free Style-承達
DESCRIPTION:
URL:https://www.dancesoul.com.tw/schedule/free-style-%e6%89%bf%e9%81%94-51/2025-07-16/
CATEGORIES:Freestyle
END:VEVENT
END:VCALENDAR