BEGIN:VCALENDAR
VERSION:2.0
PRODID:-//DANCE SOUL 舞魂街舞學校 - ECPv6.15.18//NONSGML v1.0//EN
CALSCALE:GREGORIAN
METHOD:PUBLISH
X-ORIGINAL-URL:https://www.dancesoul.com.tw
X-WR-CALDESC:Events for DANCE SOUL 舞魂街舞學校
REFRESH-INTERVAL;VALUE=DURATION:PT1H
X-Robots-Tag:noindex
X-PUBLISHED-TTL:PT1H
BEGIN:VTIMEZONE
TZID:Asia/Shanghai
BEGIN:STANDARD
TZOFFSETFROM:+0800
TZOFFSETTO:+0800
TZNAME:CST
DTSTART:20240101T000000
END:STANDARD
END:VTIMEZONE
BEGIN:VEVENT
DTSTART;TZID=Asia/Shanghai:20250728T143000
DTEND;TZID=Asia/Shanghai:20250728T153000
DTSTAMP:20260422T082447
CREATED:20250623T105031Z
LAST-MODIFIED:20250725T073812Z
UID:10021764-1753713000-1753716600@www.dancesoul.com.tw
SUMMARY:Choreography-品后
DESCRIPTION:
URL:https://www.dancesoul.com.tw/schedule/choreography-%e5%93%81%e5%90%8e/2025-07-28/
CATEGORIES:Choreography
END:VEVENT
BEGIN:VEVENT
DTSTART;TZID=Asia/Shanghai:20250728T154000
DTEND;TZID=Asia/Shanghai:20250728T164000
DTSTAMP:20260422T082447
CREATED:20250623T105357Z
LAST-MODIFIED:20250725T073854Z
UID:10021820-1753717200-1753720800@www.dancesoul.com.tw
SUMMARY:Street Jazz-羊羊
DESCRIPTION:
URL:https://www.dancesoul.com.tw/schedule/street-jazz-%e7%be%8a%e7%be%8a/2025-07-28/
CATEGORIES:STREET JAZZ
END:VEVENT
BEGIN:VEVENT
DTSTART;TZID=Asia/Shanghai:20250728T165000
DTEND;TZID=Asia/Shanghai:20250728T175000
DTSTAMP:20260422T082447
CREATED:20250623T105548Z
LAST-MODIFIED:20250623T105548Z
UID:10021824-1753721400-1753725000@www.dancesoul.com.tw
SUMMARY:Heels-姿昀x太陽
DESCRIPTION:
URL:https://www.dancesoul.com.tw/schedule/heels-%e5%a7%bf%e6%98%80x%e5%a4%aa%e9%99%bd/2025-07-28/
CATEGORIES:Heels,特別課程
END:VEVENT
BEGIN:VEVENT
DTSTART;TZID=Asia/Shanghai:20250728T192500
DTEND;TZID=Asia/Shanghai:20250728T202500
DTSTAMP:20260422T082447
CREATED:20250623T120211Z
LAST-MODIFIED:20250725T072353Z
UID:10021836-1753730700-1753734300@www.dancesoul.com.tw
SUMMARY:Heels-宋靜
DESCRIPTION:
URL:https://www.dancesoul.com.tw/schedule/heels-%e5%ae%8b%e9%9d%9c-2/2025-07-28/
CATEGORIES:Heels
END:VEVENT
BEGIN:VEVENT
DTSTART;TZID=Asia/Shanghai:20250728T203000
DTEND;TZID=Asia/Shanghai:20250728T213000
DTSTAMP:20260422T082447
CREATED:20250623T120332Z
LAST-MODIFIED:20250725T073323Z
UID:10021840-1753734600-1753738200@www.dancesoul.com.tw
SUMMARY:Jazz Funk-姿昀
DESCRIPTION:
URL:https://www.dancesoul.com.tw/schedule/jazz-funk-%e5%a7%bf%e6%98%80-13/2025-07-28/
CATEGORIES:Jazz Funk
END:VEVENT
END:VCALENDAR