BEGIN:VCALENDAR
VERSION:2.0
PRODID:-//DANCE SOUL 舞魂街舞學校 - ECPv6.15.18//NONSGML v1.0//EN
CALSCALE:GREGORIAN
METHOD:PUBLISH
X-WR-CALNAME:DANCE SOUL 舞魂街舞學校
X-ORIGINAL-URL:https://www.dancesoul.com.tw
X-WR-CALDESC:Events for DANCE SOUL 舞魂街舞學校
REFRESH-INTERVAL;VALUE=DURATION:PT1H
X-Robots-Tag:noindex
X-PUBLISHED-TTL:PT1H
BEGIN:VTIMEZONE
TZID:Asia/Shanghai
BEGIN:STANDARD
TZOFFSETFROM:+0800
TZOFFSETTO:+0800
TZNAME:CST
DTSTART:20240101T000000
END:STANDARD
END:VTIMEZONE
BEGIN:VEVENT
DTSTART;TZID=Asia/Shanghai:20250805T143000
DTEND;TZID=Asia/Shanghai:20250805T153000
DTSTAMP:20260420T180203
CREATED:20250623T120518Z
LAST-MODIFIED:20250725T074800Z
UID:10022055-1754404200-1754407800@www.dancesoul.com.tw
SUMMARY:Street Jazz-Cen妹
DESCRIPTION:
URL:https://www.dancesoul.com.tw/schedule/street-jazz-cen%e5%a6%b9/2025-08-05/
CATEGORIES:STREET JAZZ
END:VEVENT
BEGIN:VEVENT
DTSTART;TZID=Asia/Shanghai:20250805T154000
DTEND;TZID=Asia/Shanghai:20250805T164000
DTSTAMP:20260420T180203
CREATED:20250623T121009Z
LAST-MODIFIED:20250725T074903Z
UID:10022059-1754408400-1754412000@www.dancesoul.com.tw
SUMMARY:MV-俊宏
DESCRIPTION:
URL:https://www.dancesoul.com.tw/schedule/mv-%e4%bf%8a%e5%ae%8f/2025-08-05/
CATEGORIES:MV課
END:VEVENT
BEGIN:VEVENT
DTSTART;TZID=Asia/Shanghai:20250805T165000
DTEND;TZID=Asia/Shanghai:20250805T175000
DTSTAMP:20260420T180203
CREATED:20250725T075045Z
LAST-MODIFIED:20250725T075045Z
UID:10022063-1754412600-1754416200@www.dancesoul.com.tw
SUMMARY:MV-俊宏x薇臻
DESCRIPTION:
URL:https://www.dancesoul.com.tw/schedule/mv-%e4%bf%8a%e5%ae%8fx%e8%96%87%e8%87%bb/2025-08-05/
CATEGORIES:MV課,特別課程
END:VEVENT
BEGIN:VEVENT
DTSTART;TZID=Asia/Shanghai:20250805T182000
DTEND;TZID=Asia/Shanghai:20250805T192000
DTSTAMP:20260420T180203
CREATED:20250623T121300Z
LAST-MODIFIED:20250725T075226Z
UID:10022067-1754418000-1754421600@www.dancesoul.com.tw
SUMMARY:MV-薇臻
DESCRIPTION:
URL:https://www.dancesoul.com.tw/schedule/mv-%e8%96%87%e8%87%bb-3/2025-08-05/
CATEGORIES:MV課
END:VEVENT
BEGIN:VEVENT
DTSTART;TZID=Asia/Shanghai:20250805T192500
DTEND;TZID=Asia/Shanghai:20250805T202500
DTSTAMP:20260420T180203
CREATED:20250623T121421Z
LAST-MODIFIED:20250725T075312Z
UID:10022071-1754421900-1754425500@www.dancesoul.com.tw
SUMMARY:Street Jazz-Denis
DESCRIPTION:
URL:https://www.dancesoul.com.tw/schedule/street-jazz-denis-57/2025-08-05/
CATEGORIES:STREET JAZZ
END:VEVENT
BEGIN:VEVENT
DTSTART;TZID=Asia/Shanghai:20250805T203000
DTEND;TZID=Asia/Shanghai:20250805T213000
DTSTAMP:20260420T180204
CREATED:20250623T121559Z
LAST-MODIFIED:20250725T075356Z
UID:10022075-1754425800-1754429400@www.dancesoul.com.tw
SUMMARY:Free Style-俊宏
DESCRIPTION:
URL:https://www.dancesoul.com.tw/schedule/free-style-%e4%bf%8a%e5%ae%8f-28/2025-08-05/
CATEGORIES:Freestyle
END:VEVENT
END:VCALENDAR