BEGIN:VCALENDAR
VERSION:2.0
PRODID:-//DANCE SOUL 舞魂街舞學校 - ECPv6.15.18//NONSGML v1.0//EN
CALSCALE:GREGORIAN
METHOD:PUBLISH
X-WR-CALNAME:DANCE SOUL 舞魂街舞學校
X-ORIGINAL-URL:https://www.dancesoul.com.tw
X-WR-CALDESC:Events for DANCE SOUL 舞魂街舞學校
REFRESH-INTERVAL;VALUE=DURATION:PT1H
X-Robots-Tag:noindex
X-PUBLISHED-TTL:PT1H
BEGIN:VTIMEZONE
TZID:Asia/Shanghai
BEGIN:STANDARD
TZOFFSETFROM:+0800
TZOFFSETTO:+0800
TZNAME:CST
DTSTART:20240101T000000
END:STANDARD
END:VTIMEZONE
BEGIN:VEVENT
DTSTART;TZID=Asia/Shanghai:20250810T132000
DTEND;TZID=Asia/Shanghai:20250810T142000
DTSTAMP:20260420T191417
CREATED:20250623T132909Z
LAST-MODIFIED:20250725T091913Z
UID:10022217-1754832000-1754835600@www.dancesoul.com.tw
SUMMARY:兒童街舞-羿芃
DESCRIPTION:
URL:https://www.dancesoul.com.tw/schedule/%e5%85%92%e7%ab%a5%e8%a1%97%e8%88%9e-%e7%be%bf%e8%8a%83-19/2025-08-10/
CATEGORIES:兒童街舞,兒童課
END:VEVENT
BEGIN:VEVENT
DTSTART;TZID=Asia/Shanghai:20250810T143000
DTEND;TZID=Asia/Shanghai:20250810T153000
DTSTAMP:20260420T191417
CREATED:20250725T092140Z
LAST-MODIFIED:20250725T092140Z
UID:10022222-1754836200-1754839800@www.dancesoul.com.tw
SUMMARY:兒童MV(TWICE-THIS IS FOR)-羿芃
DESCRIPTION:
URL:https://www.dancesoul.com.tw/schedule/%e5%85%92%e7%ab%a5mvtwice-this-is-for-%e7%be%bf%e8%8a%83/2025-08-10/
CATEGORIES:MV課,兒童MV
END:VEVENT
BEGIN:VEVENT
DTSTART;TZID=Asia/Shanghai:20250810T154000
DTEND;TZID=Asia/Shanghai:20250810T164000
DTSTAMP:20260420T191417
CREATED:20250623T133201Z
LAST-MODIFIED:20250725T092433Z
UID:10022232-1754840400-1754844000@www.dancesoul.com.tw
SUMMARY:兒童Street Jazz-傘傘
DESCRIPTION:
URL:https://www.dancesoul.com.tw/schedule/%e5%85%92%e7%ab%a5street-jazz-%e5%82%98%e5%82%98-3/2025-08-10/
CATEGORIES:兒童 Street Jazz,兒童課
END:VEVENT
BEGIN:VEVENT
DTSTART;TZID=Asia/Shanghai:20250810T165000
DTEND;TZID=Asia/Shanghai:20250810T175000
DTSTAMP:20260420T191417
CREATED:20250725T092349Z
LAST-MODIFIED:20250725T092349Z
UID:10022227-1754844600-1754848200@www.dancesoul.com.tw
SUMMARY:MV(TWICE-THIS IS FOR)-瑜庭
DESCRIPTION:
URL:https://www.dancesoul.com.tw/schedule/mvtwice-this-is-for-%e7%91%9c%e5%ba%ad/2025-08-10/
CATEGORIES:MV課,課程
END:VEVENT
BEGIN:VEVENT
DTSTART;TZID=Asia/Shanghai:20250810T182000
DTEND;TZID=Asia/Shanghai:20250810T192000
DTSTAMP:20260420T191417
CREATED:20250623T133400Z
LAST-MODIFIED:20250725T092532Z
UID:10022237-1754850000-1754853600@www.dancesoul.com.tw
SUMMARY:Jazz Funk-姿昀
DESCRIPTION:
URL:https://www.dancesoul.com.tw/schedule/jazz-funk-%e5%a7%bf%e6%98%80-14/2025-08-10/
CATEGORIES:Jazz Funk
END:VEVENT
BEGIN:VEVENT
DTSTART;TZID=Asia/Shanghai:20250810T192500
DTEND;TZID=Asia/Shanghai:20250810T202500
DTSTAMP:20260420T191417
CREATED:20250725T092718Z
LAST-MODIFIED:20250725T092718Z
UID:10022242-1754853900-1754857500@www.dancesoul.com.tw
SUMMARY:Hip Hop-承翰
DESCRIPTION:
URL:https://www.dancesoul.com.tw/schedule/hip-hop-%e6%89%bf%e7%bf%b0/2025-08-10/
CATEGORIES:Hip Hop,常態課_一般,課程
END:VEVENT
END:VCALENDAR