BEGIN:VCALENDAR
VERSION:2.0
PRODID:-//DANCE SOUL 舞魂街舞學校 - ECPv6.15.18//NONSGML v1.0//EN
CALSCALE:GREGORIAN
METHOD:PUBLISH
X-ORIGINAL-URL:https://www.dancesoul.com.tw
X-WR-CALDESC:Events for DANCE SOUL 舞魂街舞學校
REFRESH-INTERVAL;VALUE=DURATION:PT1H
X-Robots-Tag:noindex
X-PUBLISHED-TTL:PT1H
BEGIN:VTIMEZONE
TZID:Asia/Shanghai
BEGIN:STANDARD
TZOFFSETFROM:+0800
TZOFFSETTO:+0800
TZNAME:CST
DTSTART:20240101T000000
END:STANDARD
END:VTIMEZONE
BEGIN:VEVENT
DTSTART;TZID=Asia/Shanghai:20250812T143000
DTEND;TZID=Asia/Shanghai:20250812T153000
DTSTAMP:20260421T042653
CREATED:20250623T120518Z
LAST-MODIFIED:20250725T074800Z
UID:10022056-1755009000-1755012600@www.dancesoul.com.tw
SUMMARY:Street Jazz-Cen妹
DESCRIPTION:
URL:https://www.dancesoul.com.tw/schedule/street-jazz-cen%e5%a6%b9/2025-08-12/
CATEGORIES:STREET JAZZ
END:VEVENT
BEGIN:VEVENT
DTSTART;TZID=Asia/Shanghai:20250812T154000
DTEND;TZID=Asia/Shanghai:20250812T164000
DTSTAMP:20260421T042653
CREATED:20250623T121009Z
LAST-MODIFIED:20250725T074903Z
UID:10022060-1755013200-1755016800@www.dancesoul.com.tw
SUMMARY:MV-俊宏
DESCRIPTION:
URL:https://www.dancesoul.com.tw/schedule/mv-%e4%bf%8a%e5%ae%8f/2025-08-12/
CATEGORIES:MV課
END:VEVENT
BEGIN:VEVENT
DTSTART;TZID=Asia/Shanghai:20250812T165000
DTEND;TZID=Asia/Shanghai:20250812T175000
DTSTAMP:20260421T042653
CREATED:20250725T075045Z
LAST-MODIFIED:20250725T075045Z
UID:10022064-1755017400-1755021000@www.dancesoul.com.tw
SUMMARY:MV-俊宏x薇臻
DESCRIPTION:
URL:https://www.dancesoul.com.tw/schedule/mv-%e4%bf%8a%e5%ae%8fx%e8%96%87%e8%87%bb/2025-08-12/
CATEGORIES:MV課,特別課程
END:VEVENT
BEGIN:VEVENT
DTSTART;TZID=Asia/Shanghai:20250812T182000
DTEND;TZID=Asia/Shanghai:20250812T192000
DTSTAMP:20260421T042653
CREATED:20250623T121300Z
LAST-MODIFIED:20250725T075226Z
UID:10022068-1755022800-1755026400@www.dancesoul.com.tw
SUMMARY:MV-薇臻
DESCRIPTION:
URL:https://www.dancesoul.com.tw/schedule/mv-%e8%96%87%e8%87%bb-3/2025-08-12/
CATEGORIES:MV課
END:VEVENT
BEGIN:VEVENT
DTSTART;TZID=Asia/Shanghai:20250812T192500
DTEND;TZID=Asia/Shanghai:20250812T202500
DTSTAMP:20260421T042653
CREATED:20250623T121421Z
LAST-MODIFIED:20250725T075312Z
UID:10022072-1755026700-1755030300@www.dancesoul.com.tw
SUMMARY:Street Jazz-Denis
DESCRIPTION:
URL:https://www.dancesoul.com.tw/schedule/street-jazz-denis-57/2025-08-12/
CATEGORIES:STREET JAZZ
END:VEVENT
BEGIN:VEVENT
DTSTART;TZID=Asia/Shanghai:20250812T203000
DTEND;TZID=Asia/Shanghai:20250812T213000
DTSTAMP:20260421T042653
CREATED:20250623T121559Z
LAST-MODIFIED:20250725T075356Z
UID:10022076-1755030600-1755034200@www.dancesoul.com.tw
SUMMARY:Free Style-俊宏
DESCRIPTION:
URL:https://www.dancesoul.com.tw/schedule/free-style-%e4%bf%8a%e5%ae%8f-28/2025-08-12/
CATEGORIES:Freestyle
END:VEVENT
END:VCALENDAR