BEGIN:VCALENDAR
VERSION:2.0
PRODID:-//DANCE SOUL 舞魂街舞學校 - ECPv6.15.18//NONSGML v1.0//EN
CALSCALE:GREGORIAN
METHOD:PUBLISH
X-WR-CALNAME:DANCE SOUL 舞魂街舞學校
X-ORIGINAL-URL:https://www.dancesoul.com.tw
X-WR-CALDESC:Events for DANCE SOUL 舞魂街舞學校
REFRESH-INTERVAL;VALUE=DURATION:PT1H
X-Robots-Tag:noindex
X-PUBLISHED-TTL:PT1H
BEGIN:VTIMEZONE
TZID:Asia/Shanghai
BEGIN:STANDARD
TZOFFSETFROM:+0800
TZOFFSETTO:+0800
TZNAME:CST
DTSTART:20240101T000000
END:STANDARD
END:VTIMEZONE
BEGIN:VEVENT
DTSTART;TZID=Asia/Shanghai:20250816T132000
DTEND;TZID=Asia/Shanghai:20250816T142000
DTSTAMP:20260421T042324
CREATED:20250725T084212Z
LAST-MODIFIED:20250725T084514Z
UID:10022188-1755350400-1755354000@www.dancesoul.com.tw
SUMMARY:兒童MV(初)(izna-BEEP)-薇臻
DESCRIPTION:
URL:https://www.dancesoul.com.tw/schedule/%e5%85%92%e7%ab%a5mv%e5%88%9dizna-beep-%e8%96%87%e8%87%bb/2025-08-16/
CATEGORIES:MV課,兒童MV,課程
END:VEVENT
BEGIN:VEVENT
DTSTART;TZID=Asia/Shanghai:20250816T143000
DTEND;TZID=Asia/Shanghai:20250816T153000
DTSTAMP:20260421T042324
CREATED:20250725T084348Z
LAST-MODIFIED:20250725T084348Z
UID:10022183-1755354600-1755358200@www.dancesoul.com.tw
SUMMARY:兒童MV(aespa-DIRTY WORK)-薇臻
DESCRIPTION:
URL:https://www.dancesoul.com.tw/schedule/%e5%85%92%e7%ab%a5mvaespa-dirty-work-%e8%96%87%e8%87%bb/2025-08-16/
CATEGORIES:MV課,兒童MV,課程
END:VEVENT
BEGIN:VEVENT
DTSTART;TZID=Asia/Shanghai:20250816T154000
DTEND;TZID=Asia/Shanghai:20250816T164000
DTSTAMP:20260421T042324
CREATED:20250725T085918Z
LAST-MODIFIED:20250725T085918Z
UID:10022193-1755358800-1755362400@www.dancesoul.com.tw
SUMMARY:兒童Popping-勁宏
DESCRIPTION:
URL:https://www.dancesoul.com.tw/schedule/%e5%85%92%e7%ab%a5popping-%e5%8b%81%e5%ae%8f/2025-08-16/
CATEGORIES:Poppin,兒童課,課程
END:VEVENT
BEGIN:VEVENT
DTSTART;TZID=Asia/Shanghai:20250816T164000
DTEND;TZID=Asia/Shanghai:20250816T174000
DTSTAMP:20260421T042324
CREATED:20250901T055344Z
LAST-MODIFIED:20251202T055314Z
UID:10030724-1755362400-1755366000@www.dancesoul.com.tw
SUMMARY:MV(BABYMONSTER - ‘PSYCHO’)-凝琦
DESCRIPTION:
URL:https://www.dancesoul.com.tw/schedule/mvive-xoxz-%e5%87%9d%e7%90%a6/2025-08-16/
CATEGORIES:MV課,課程
END:VEVENT
BEGIN:VEVENT
DTSTART;TZID=Asia/Shanghai:20250816T165000
DTEND;TZID=Asia/Shanghai:20250816T175000
DTSTAMP:20260421T042325
CREATED:20250725T090159Z
LAST-MODIFIED:20250725T090159Z
UID:10022198-1755363000-1755366600@www.dancesoul.com.tw
SUMMARY:MV(KATSEYE-Gabriela)-凝琦(丁丁代課)
DESCRIPTION:
URL:https://www.dancesoul.com.tw/schedule/mvkatseye-gabriela-%e5%87%9d%e7%90%a6%e4%b8%81%e4%b8%81%e4%bb%a3%e8%aa%b2/2025-08-16/
CATEGORIES:MV課,課程
END:VEVENT
BEGIN:VEVENT
DTSTART;TZID=Asia/Shanghai:20250816T182000
DTEND;TZID=Asia/Shanghai:20250816T192000
DTSTAMP:20260421T042325
CREATED:20250623T132533Z
LAST-MODIFIED:20250725T090245Z
UID:10022203-1755368400-1755372000@www.dancesoul.com.tw
SUMMARY:Popping-紀威
DESCRIPTION:
URL:https://www.dancesoul.com.tw/schedule/popping-%e7%b4%80%e5%a8%81-53/2025-08-16/
CATEGORIES:Poppin
END:VEVENT
BEGIN:VEVENT
DTSTART;TZID=Asia/Shanghai:20250816T192500
DTEND;TZID=Asia/Shanghai:20250816T202500
DTSTAMP:20260421T042325
CREATED:20250623T132647Z
LAST-MODIFIED:20250725T090355Z
UID:10022208-1755372300-1755375900@www.dancesoul.com.tw
SUMMARY:Choreography(初)-無盡
DESCRIPTION:
URL:https://www.dancesoul.com.tw/schedule/choreography%e5%88%9d-%e7%84%a1%e7%9b%a1-13/2025-08-16/
CATEGORIES:Choreography,Choreography 初級
END:VEVENT
BEGIN:VEVENT
DTSTART;TZID=Asia/Shanghai:20250816T203000
DTEND;TZID=Asia/Shanghai:20250816T213000
DTSTAMP:20260421T042325
CREATED:20250623T132809Z
LAST-MODIFIED:20250725T090453Z
UID:10022213-1755376200-1755379800@www.dancesoul.com.tw
SUMMARY:基礎入門-雞蛋
DESCRIPTION:
URL:https://www.dancesoul.com.tw/schedule/%e5%9f%ba%e7%a4%8e%e5%85%a5%e9%96%80-%e9%9b%9e%e8%9b%8b-40/2025-08-16/
CATEGORIES:Hip Hop 初級,基礎入門
END:VEVENT
END:VCALENDAR