BEGIN:VCALENDAR
VERSION:2.0
PRODID:-//DANCE SOUL 舞魂街舞學校 - ECPv6.15.18//NONSGML v1.0//EN
CALSCALE:GREGORIAN
METHOD:PUBLISH
X-WR-CALNAME:DANCE SOUL 舞魂街舞學校
X-ORIGINAL-URL:https://www.dancesoul.com.tw
X-WR-CALDESC:Events for DANCE SOUL 舞魂街舞學校
REFRESH-INTERVAL;VALUE=DURATION:PT1H
X-Robots-Tag:noindex
X-PUBLISHED-TTL:PT1H
BEGIN:VTIMEZONE
TZID:Asia/Shanghai
BEGIN:STANDARD
TZOFFSETFROM:+0800
TZOFFSETTO:+0800
TZNAME:CST
DTSTART:20240101T000000
END:STANDARD
END:VTIMEZONE
BEGIN:VEVENT
DTSTART;TZID=Asia/Shanghai:20250818T143000
DTEND;TZID=Asia/Shanghai:20250818T153000
DTSTAMP:20260421T062709
CREATED:20250623T105031Z
LAST-MODIFIED:20250725T073812Z
UID:10022045-1755527400-1755531000@www.dancesoul.com.tw
SUMMARY:Choreography-品后
DESCRIPTION:
URL:https://www.dancesoul.com.tw/schedule/choreography-%e5%93%81%e5%90%8e/2025-08-18/
CATEGORIES:Choreography
END:VEVENT
BEGIN:VEVENT
DTSTART;TZID=Asia/Shanghai:20250818T154000
DTEND;TZID=Asia/Shanghai:20250818T164000
DTSTAMP:20260421T062709
CREATED:20250623T105357Z
LAST-MODIFIED:20250725T073854Z
UID:10022049-1755531600-1755535200@www.dancesoul.com.tw
SUMMARY:Street Jazz-羊羊
DESCRIPTION:
URL:https://www.dancesoul.com.tw/schedule/street-jazz-%e7%be%8a%e7%be%8a/2025-08-18/
CATEGORIES:STREET JAZZ
END:VEVENT
BEGIN:VEVENT
DTSTART;TZID=Asia/Shanghai:20250818T165000
DTEND;TZID=Asia/Shanghai:20250818T175000
DTSTAMP:20260421T062709
CREATED:20250725T074201Z
LAST-MODIFIED:20250725T074201Z
UID:10022053-1755535800-1755539400@www.dancesoul.com.tw
SUMMARY:Choreography-承達x無盡
DESCRIPTION:
URL:https://www.dancesoul.com.tw/schedule/choreography-%e6%89%bf%e9%81%94x%e7%84%a1%e7%9b%a1/2025-08-18/
CATEGORIES:Choreography,特別課程
END:VEVENT
BEGIN:VEVENT
DTSTART;TZID=Asia/Shanghai:20250818T182000
DTEND;TZID=Asia/Shanghai:20250818T192000
DTSTAMP:20260421T062709
CREATED:20250623T110449Z
LAST-MODIFIED:20250828T093555Z
UID:10022037-1755541200-1755544800@www.dancesoul.com.tw
SUMMARY:Twerk（初）-碗公
DESCRIPTION:
URL:https://www.dancesoul.com.tw/schedule/twerk%ef%bc%88%e5%88%9d%ef%bc%89-%e7%a2%97%e5%85%ac/2025-08-18/
CATEGORIES:Twerk 初級
END:VEVENT
BEGIN:VEVENT
DTSTART;TZID=Asia/Shanghai:20250818T192500
DTEND;TZID=Asia/Shanghai:20250818T202500
DTSTAMP:20260421T062709
CREATED:20250623T120211Z
LAST-MODIFIED:20250725T072353Z
UID:10022033-1755545100-1755548700@www.dancesoul.com.tw
SUMMARY:Heels-宋靜
DESCRIPTION:
URL:https://www.dancesoul.com.tw/schedule/heels-%e5%ae%8b%e9%9d%9c-2/2025-08-18/
CATEGORIES:Heels
END:VEVENT
BEGIN:VEVENT
DTSTART;TZID=Asia/Shanghai:20250818T203000
DTEND;TZID=Asia/Shanghai:20250818T213000
DTSTAMP:20260421T062709
CREATED:20250623T120332Z
LAST-MODIFIED:20250725T073323Z
UID:10022041-1755549000-1755552600@www.dancesoul.com.tw
SUMMARY:Jazz Funk-姿昀
DESCRIPTION:
URL:https://www.dancesoul.com.tw/schedule/jazz-funk-%e5%a7%bf%e6%98%80-13/2025-08-18/
CATEGORIES:Jazz Funk
END:VEVENT
END:VCALENDAR