BEGIN:VCALENDAR
VERSION:2.0
PRODID:-//DANCE SOUL 舞魂街舞學校 - ECPv6.15.18//NONSGML v1.0//EN
CALSCALE:GREGORIAN
METHOD:PUBLISH
X-WR-CALNAME:DANCE SOUL 舞魂街舞學校
X-ORIGINAL-URL:https://www.dancesoul.com.tw
X-WR-CALDESC:Events for DANCE SOUL 舞魂街舞學校
REFRESH-INTERVAL;VALUE=DURATION:PT1H
X-Robots-Tag:noindex
X-PUBLISHED-TTL:PT1H
BEGIN:VTIMEZONE
TZID:Asia/Shanghai
BEGIN:STANDARD
TZOFFSETFROM:+0800
TZOFFSETTO:+0800
TZNAME:CST
DTSTART:20240101T000000
END:STANDARD
END:VTIMEZONE
BEGIN:VEVENT
DTSTART;TZID=Asia/Shanghai:20250820T143000
DTEND;TZID=Asia/Shanghai:20250820T153000
DTSTAMP:20260421T114246
CREATED:20250623T121721Z
LAST-MODIFIED:20250725T080546Z
UID:10022111-1755700200-1755703800@www.dancesoul.com.tw
SUMMARY:基礎入門-無盡
DESCRIPTION:
URL:https://www.dancesoul.com.tw/schedule/%e5%9f%ba%e7%a4%8e%e5%85%a5%e9%96%80-%e7%84%a1%e7%9b%a1-9/2025-08-20/
CATEGORIES:基礎入門
END:VEVENT
BEGIN:VEVENT
DTSTART;TZID=Asia/Shanghai:20250820T154000
DTEND;TZID=Asia/Shanghai:20250820T164000
DTSTAMP:20260421T114246
CREATED:20250725T080447Z
LAST-MODIFIED:20250725T080447Z
UID:10022107-1755704400-1755708000@www.dancesoul.com.tw
SUMMARY:Hip Hop-Rod
DESCRIPTION:
URL:https://www.dancesoul.com.tw/schedule/hip-hop-rod/2025-08-20/
CATEGORIES:Hip Hop,常態課_一般,課程
END:VEVENT
BEGIN:VEVENT
DTSTART;TZID=Asia/Shanghai:20250820T165000
DTEND;TZID=Asia/Shanghai:20250820T175000
DTSTAMP:20260421T114246
CREATED:20250725T080003Z
LAST-MODIFIED:20250725T080003Z
UID:10022099-1755708600-1755712200@www.dancesoul.com.tw
SUMMARY:Choreography-羅毅
DESCRIPTION:
URL:https://www.dancesoul.com.tw/schedule/choreography-%e7%be%85%e6%af%85/2025-08-20/
CATEGORIES:Choreography,常態課_一般,課程
END:VEVENT
BEGIN:VEVENT
DTSTART;TZID=Asia/Shanghai:20250820T182000
DTEND;TZID=Asia/Shanghai:20250820T192000
DTSTAMP:20260421T114246
CREATED:20250417T094623Z
LAST-MODIFIED:20250725T075554Z
UID:10022086-1755714000-1755717600@www.dancesoul.com.tw
SUMMARY:Krump-Coffee
DESCRIPTION:
URL:https://www.dancesoul.com.tw/schedule/krump-coffee-5/2025-08-20/
CATEGORIES:Krump,常態課_一般,課程
END:VEVENT
BEGIN:VEVENT
DTSTART;TZID=Asia/Shanghai:20250820T192500
DTEND;TZID=Asia/Shanghai:20250820T202500
DTSTAMP:20260421T114246
CREATED:20250417T094436Z
LAST-MODIFIED:20250725T075734Z
UID:10022095-1755717900-1755721500@www.dancesoul.com.tw
SUMMARY:Street Jazz-Larry
DESCRIPTION:
URL:https://www.dancesoul.com.tw/schedule/street-jazz-larry-28/2025-08-20/
CATEGORIES:STREET JAZZ,常態課_一般,課程
END:VEVENT
BEGIN:VEVENT
DTSTART;TZID=Asia/Shanghai:20250820T203000
DTEND;TZID=Asia/Shanghai:20250820T213000
DTSTAMP:20260421T114246
CREATED:20250725T080152Z
LAST-MODIFIED:20250725T080152Z
UID:10022103-1755721800-1755725400@www.dancesoul.com.tw
SUMMARY:Free Style-承達
DESCRIPTION:
URL:https://www.dancesoul.com.tw/schedule/free-style-%e6%89%bf%e9%81%94-52/2025-08-20/
CATEGORIES:Freestyle,常態課_一般,課程
END:VEVENT
END:VCALENDAR