BEGIN:VCALENDAR
VERSION:2.0
PRODID:-//DANCE SOUL 舞魂街舞學校 - ECPv6.15.18//NONSGML v1.0//EN
CALSCALE:GREGORIAN
METHOD:PUBLISH
X-WR-CALNAME:DANCE SOUL 舞魂街舞學校
X-ORIGINAL-URL:https://www.dancesoul.com.tw
X-WR-CALDESC:Events for DANCE SOUL 舞魂街舞學校
REFRESH-INTERVAL;VALUE=DURATION:PT1H
X-Robots-Tag:noindex
X-PUBLISHED-TTL:PT1H
BEGIN:VTIMEZONE
TZID:Asia/Shanghai
BEGIN:STANDARD
TZOFFSETFROM:+0800
TZOFFSETTO:+0800
TZNAME:CST
DTSTART:20240101T000000
END:STANDARD
END:VTIMEZONE
BEGIN:VEVENT
DTSTART;TZID=Asia/Shanghai:20250821T143000
DTEND;TZID=Asia/Shanghai:20250821T153000
DTSTAMP:20260421T114240
CREATED:20250623T122838Z
LAST-MODIFIED:20250725T080850Z
UID:10022115-1755786600-1755790200@www.dancesoul.com.tw
SUMMARY:Jazz Funk-米其林
DESCRIPTION:
URL:https://www.dancesoul.com.tw/schedule/jazz-funk-%e7%b1%b3%e5%85%b6%e6%9e%97-3/2025-08-21/
CATEGORIES:Jazz Funk
END:VEVENT
BEGIN:VEVENT
DTSTART;TZID=Asia/Shanghai:20250821T154000
DTEND;TZID=Asia/Shanghai:20250821T164000
DTSTAMP:20260421T114240
CREATED:20250623T123015Z
LAST-MODIFIED:20250725T080946Z
UID:10022119-1755790800-1755794400@www.dancesoul.com.tw
SUMMARY:Street Jazz-小翁
DESCRIPTION:
URL:https://www.dancesoul.com.tw/schedule/street-jazz-%e5%b0%8f%e7%bf%81/2025-08-21/
CATEGORIES:STREET JAZZ
END:VEVENT
BEGIN:VEVENT
DTSTART;TZID=Asia/Shanghai:20250821T165000
DTEND;TZID=Asia/Shanghai:20250821T175000
DTSTAMP:20260421T114240
CREATED:20250725T081305Z
LAST-MODIFIED:20250725T081305Z
UID:10022123-1755795000-1755798600@www.dancesoul.com.tw
SUMMARY:Choreography-姿昀xKylex宜蓁
DESCRIPTION:
URL:https://www.dancesoul.com.tw/schedule/choreography-%e5%a7%bf%e6%98%80xkylex%e5%ae%9c%e8%93%81/2025-08-21/
CATEGORIES:Choreography,特別課程
END:VEVENT
BEGIN:VEVENT
DTSTART;TZID=Asia/Shanghai:20250821T182000
DTEND;TZID=Asia/Shanghai:20250821T192000
DTSTAMP:20260421T114240
CREATED:20250623T123413Z
LAST-MODIFIED:20250725T081555Z
UID:10022127-1755800400-1755804000@www.dancesoul.com.tw
SUMMARY:Jazz Funk-瑜庭
DESCRIPTION:
URL:https://www.dancesoul.com.tw/schedule/jazz-funk-%e7%91%9c%e5%ba%ad-7/2025-08-21/
CATEGORIES:Jazz Funk
END:VEVENT
BEGIN:VEVENT
DTSTART;TZID=Asia/Shanghai:20250821T192500
DTEND;TZID=Asia/Shanghai:20250821T202500
DTSTAMP:20260421T114240
CREATED:20250623T123638Z
LAST-MODIFIED:20250725T081646Z
UID:10022131-1755804300-1755807900@www.dancesoul.com.tw
SUMMARY:Hip Hop-佐佐
DESCRIPTION:
URL:https://www.dancesoul.com.tw/schedule/hip-hop-%e4%bd%90%e4%bd%90/2025-08-21/
CATEGORIES:Hip Hop
END:VEVENT
BEGIN:VEVENT
DTSTART;TZID=Asia/Shanghai:20250821T203000
DTEND;TZID=Asia/Shanghai:20250821T213000
DTSTAMP:20260421T114240
CREATED:20250623T123744Z
LAST-MODIFIED:20250725T081741Z
UID:10022135-1755808200-1755811800@www.dancesoul.com.tw
SUMMARY:Hip Hop-林彤
DESCRIPTION:
URL:https://www.dancesoul.com.tw/schedule/hip-hop-%e6%9e%97%e5%bd%a4-30/2025-08-21/
CATEGORIES:Hip Hop
END:VEVENT
BEGIN:VEVENT
DTSTART;TZID=Asia/Shanghai:20250821T213500
DTEND;TZID=Asia/Shanghai:20250821T223500
DTSTAMP:20260421T114240
CREATED:20250623T123930Z
LAST-MODIFIED:20250725T081853Z
UID:10022139-1755812100-1755815700@www.dancesoul.com.tw
SUMMARY:Choreography-巴豪
DESCRIPTION:
URL:https://www.dancesoul.com.tw/schedule/choreography-%e5%b7%b4%e8%b1%aa-6/2025-08-21/
CATEGORIES:Choreography
END:VEVENT
END:VCALENDAR