BEGIN:VCALENDAR
VERSION:2.0
PRODID:-//DANCE SOUL 舞魂街舞學校 - ECPv6.15.18//NONSGML v1.0//EN
CALSCALE:GREGORIAN
METHOD:PUBLISH
X-ORIGINAL-URL:https://www.dancesoul.com.tw
X-WR-CALDESC:Events for DANCE SOUL 舞魂街舞學校
REFRESH-INTERVAL;VALUE=DURATION:PT1H
X-Robots-Tag:noindex
X-PUBLISHED-TTL:PT1H
BEGIN:VTIMEZONE
TZID:Asia/Shanghai
BEGIN:STANDARD
TZOFFSETFROM:+0800
TZOFFSETTO:+0800
TZNAME:CST
DTSTART:20240101T000000
END:STANDARD
END:VTIMEZONE
BEGIN:VEVENT
DTSTART;TZID=Asia/Shanghai:20250913T132000
DTEND;TZID=Asia/Shanghai:20250913T142000
DTSTAMP:20260422T035958
CREATED:20250828T110222Z
LAST-MODIFIED:20250901T054527Z
UID:10027262-1757769600-1757773200@www.dancesoul.com.tw
SUMMARY:兒童MV(初)(izna-GOLDEN)-薇臻
DESCRIPTION:
URL:https://www.dancesoul.com.tw/schedule/%e5%85%92%e7%ab%a5%e8%a1%97%e8%88%9e-%e8%96%87%e8%87%bb-21/2025-09-13/
CATEGORIES:兒童街舞,兒童課
END:VEVENT
BEGIN:VEVENT
DTSTART;TZID=Asia/Shanghai:20250913T132000
DTEND;TZID=Asia/Shanghai:20250913T142000
DTSTAMP:20260422T035958
CREATED:20251201T070320Z
LAST-MODIFIED:20260315T072345Z
UID:10031398-1757769600-1757773200@www.dancesoul.com.tw
SUMMARY:兒童MV(初)(i-dle - 'Mona(Feat.skaiwater)')-薇臻
DESCRIPTION:
URL:https://www.dancesoul.com.tw/schedule/%e5%85%92%e7%ab%a5%e8%a1%97%e8%88%9e-%e8%96%87%e8%87%bb-21-2-2-2/2025-09-13/
CATEGORIES:兒童街舞,兒童課
END:VEVENT
BEGIN:VEVENT
DTSTART;TZID=Asia/Shanghai:20250913T143000
DTEND;TZID=Asia/Shanghai:20250913T153000
DTSTAMP:20260422T035958
CREATED:20250901T054940Z
LAST-MODIFIED:20250901T054940Z
UID:10027523-1757773800-1757777400@www.dancesoul.com.tw
SUMMARY:兒童MV(BABYMONSTER-HOT SAUCE)-薇臻
DESCRIPTION:
URL:https://www.dancesoul.com.tw/schedule/%e5%85%92%e7%ab%a5mvbabymonster-hot-sauce-%e8%96%87%e8%87%bb/2025-09-13/
CATEGORIES:MV課,兒童MV,課程
END:VEVENT
BEGIN:VEVENT
DTSTART;TZID=Asia/Shanghai:20250913T143000
DTEND;TZID=Asia/Shanghai:20250913T153000
DTSTAMP:20260422T035958
CREATED:20251202T055414Z
LAST-MODIFIED:20260315T072223Z
UID:10031367-1757773800-1757777400@www.dancesoul.com.tw
SUMMARY:兒童MV(IVE - 'BANG BANG')-薇臻
DESCRIPTION:
URL:https://www.dancesoul.com.tw/schedule/%e5%85%92%e7%ab%a5mvbabymonster-hot-sauce-%e8%96%87%e8%87%bb-2/2025-09-13/
CATEGORIES:MV課,兒童MV,課程
END:VEVENT
BEGIN:VEVENT
DTSTART;TZID=Asia/Shanghai:20250913T164000
DTEND;TZID=Asia/Shanghai:20250913T174000
DTSTAMP:20260422T035958
CREATED:20250901T055344Z
LAST-MODIFIED:20251202T055314Z
UID:10027785-1757781600-1757785200@www.dancesoul.com.tw
SUMMARY:MV(BABYMONSTER - ‘PSYCHO’)-凝琦
DESCRIPTION:
URL:https://www.dancesoul.com.tw/schedule/mvive-xoxz-%e5%87%9d%e7%90%a6/2025-09-13/
CATEGORIES:MV課,課程
END:VEVENT
BEGIN:VEVENT
DTSTART;TZID=Asia/Shanghai:20250913T164000
DTEND;TZID=Asia/Shanghai:20250913T174000
DTSTAMP:20260422T035958
CREATED:20260315T072002Z
LAST-MODIFIED:20260315T072518Z
UID:10031429-1757781600-1757785200@www.dancesoul.com.tw
SUMMARY:MV(IVE - ‘BANG BANG’)-薇臻
DESCRIPTION:
URL:https://www.dancesoul.com.tw/schedule/mvive-xoxz-%e5%87%9d%e7%90%a6-2-2/2025-09-13/
CATEGORIES:MV課,課程
END:VEVENT
BEGIN:VEVENT
DTSTART;TZID=Asia/Shanghai:20250913T182000
DTEND;TZID=Asia/Shanghai:20250913T192000
DTSTAMP:20260422T035958
CREATED:20250901T055441Z
LAST-MODIFIED:20250901T055457Z
UID:10028046-1757787600-1757791200@www.dancesoul.com.tw
SUMMARY:Popping-紀威
DESCRIPTION:
URL:https://www.dancesoul.com.tw/schedule/popping-%e7%b4%80%e5%a8%81-54/2025-09-13/
CATEGORIES:Poppin,常態課_一般,課程
END:VEVENT
END:VCALENDAR