BEGIN:VCALENDAR
VERSION:2.0
PRODID:-//DANCE SOUL 舞魂街舞學校 - ECPv6.15.18//NONSGML v1.0//EN
CALSCALE:GREGORIAN
METHOD:PUBLISH
X-ORIGINAL-URL:https://www.dancesoul.com.tw
X-WR-CALDESC:Events for DANCE SOUL 舞魂街舞學校
REFRESH-INTERVAL;VALUE=DURATION:PT1H
X-Robots-Tag:noindex
X-PUBLISHED-TTL:PT1H
BEGIN:VTIMEZONE
TZID:Asia/Shanghai
BEGIN:STANDARD
TZOFFSETFROM:+0800
TZOFFSETTO:+0800
TZNAME:CST
DTSTART:20240101T000000
END:STANDARD
END:VTIMEZONE
BEGIN:VEVENT
DTSTART;TZID=Asia/Shanghai:20250701T165000
DTEND;TZID=Asia/Shanghai:20250701T175000
DTSTAMP:20260425T211830
CREATED:20250623T121143Z
LAST-MODIFIED:20250623T121143Z
UID:10021851-1751388600-1751392200@www.dancesoul.com.tw
SUMMARY:MV-凝琦x薇臻
DESCRIPTION:
URL:https://www.dancesoul.com.tw/schedule/mv-%e5%87%9d%e7%90%a6x%e8%96%87%e8%87%bb/2025-07-01/
CATEGORIES:MV課,特別課程
END:VEVENT
BEGIN:VEVENT
DTSTART;TZID=Asia/Shanghai:20250702T165000
DTEND;TZID=Asia/Shanghai:20250702T175000
DTSTAMP:20260425T211830
CREATED:20250623T122146Z
LAST-MODIFIED:20250623T123123Z
UID:10021881-1751475000-1751478600@www.dancesoul.com.tw
SUMMARY:Choreography-林彤x聖恩
DESCRIPTION:
URL:https://www.dancesoul.com.tw/schedule/choreography-%e6%9e%97%e5%bd%a4x%e8%81%96%e6%81%a9/2025-07-02/
CATEGORIES:Choreography,特別課程
END:VEVENT
BEGIN:VEVENT
DTSTART;TZID=Asia/Shanghai:20250703T165000
DTEND;TZID=Asia/Shanghai:20250703T175000
DTSTAMP:20260425T211830
CREATED:20250623T123251Z
LAST-MODIFIED:20250623T123251Z
UID:10021916-1751561400-1751565000@www.dancesoul.com.tw
SUMMARY:Choreography-俊宏xCoffee
DESCRIPTION:
URL:https://www.dancesoul.com.tw/schedule/choreography-%e4%bf%8a%e5%ae%8fxcoffee/2025-07-03/
CATEGORIES:Choreography,特別課程
END:VEVENT
BEGIN:VEVENT
DTSTART;TZID=Asia/Shanghai:20250704T165000
DTEND;TZID=Asia/Shanghai:20250704T175000
DTSTAMP:20260425T211830
CREATED:20250623T131047Z
LAST-MODIFIED:20250623T131047Z
UID:10021954-1751647800-1751651400@www.dancesoul.com.tw
SUMMARY:Choreography-Larryx巴豪
DESCRIPTION:ㄓ
URL:https://www.dancesoul.com.tw/schedule/choreography-larryx%e5%b7%b4%e8%b1%aa/2025-07-04/
CATEGORIES:Choreography,特別課程
END:VEVENT
BEGIN:VEVENT
DTSTART;TZID=Asia/Shanghai:20250707T165000
DTEND;TZID=Asia/Shanghai:20250707T175000
DTSTAMP:20260425T211830
CREATED:20250623T105548Z
LAST-MODIFIED:20250623T105548Z
UID:10021821-1751907000-1751910600@www.dancesoul.com.tw
SUMMARY:Heels-姿昀x太陽
DESCRIPTION:
URL:https://www.dancesoul.com.tw/schedule/heels-%e5%a7%bf%e6%98%80x%e5%a4%aa%e9%99%bd/2025-07-07/
CATEGORIES:Heels,特別課程
END:VEVENT
BEGIN:VEVENT
DTSTART;TZID=Asia/Shanghai:20250708T165000
DTEND;TZID=Asia/Shanghai:20250708T175000
DTSTAMP:20260425T211830
CREATED:20250623T121143Z
LAST-MODIFIED:20250623T121143Z
UID:10021852-1751993400-1751997000@www.dancesoul.com.tw
SUMMARY:MV-凝琦x薇臻
DESCRIPTION:
URL:https://www.dancesoul.com.tw/schedule/mv-%e5%87%9d%e7%90%a6x%e8%96%87%e8%87%bb/2025-07-08/
CATEGORIES:MV課,特別課程
END:VEVENT
BEGIN:VEVENT
DTSTART;TZID=Asia/Shanghai:20250709T165000
DTEND;TZID=Asia/Shanghai:20250709T175000
DTSTAMP:20260425T211830
CREATED:20250623T122146Z
LAST-MODIFIED:20250623T123123Z
UID:10021882-1752079800-1752083400@www.dancesoul.com.tw
SUMMARY:Choreography-林彤x聖恩
DESCRIPTION:
URL:https://www.dancesoul.com.tw/schedule/choreography-%e6%9e%97%e5%bd%a4x%e8%81%96%e6%81%a9/2025-07-09/
CATEGORIES:Choreography,特別課程
END:VEVENT
BEGIN:VEVENT
DTSTART;TZID=Asia/Shanghai:20250710T165000
DTEND;TZID=Asia/Shanghai:20250710T175000
DTSTAMP:20260425T211830
CREATED:20250623T123251Z
LAST-MODIFIED:20250623T123251Z
UID:10021917-1752166200-1752169800@www.dancesoul.com.tw
SUMMARY:Choreography-俊宏xCoffee
DESCRIPTION:
URL:https://www.dancesoul.com.tw/schedule/choreography-%e4%bf%8a%e5%ae%8fxcoffee/2025-07-10/
CATEGORIES:Choreography,特別課程
END:VEVENT
BEGIN:VEVENT
DTSTART;TZID=Asia/Shanghai:20250711T165000
DTEND;TZID=Asia/Shanghai:20250711T175000
DTSTAMP:20260425T211830
CREATED:20250623T131047Z
LAST-MODIFIED:20250623T131047Z
UID:10021955-1752252600-1752256200@www.dancesoul.com.tw
SUMMARY:Choreography-Larryx巴豪
DESCRIPTION:ㄓ
URL:https://www.dancesoul.com.tw/schedule/choreography-larryx%e5%b7%b4%e8%b1%aa/2025-07-11/
CATEGORIES:Choreography,特別課程
END:VEVENT
BEGIN:VEVENT
DTSTART;TZID=Asia/Shanghai:20250714T165000
DTEND;TZID=Asia/Shanghai:20250714T175000
DTSTAMP:20260425T211830
CREATED:20250623T105548Z
LAST-MODIFIED:20250623T105548Z
UID:10021822-1752511800-1752515400@www.dancesoul.com.tw
SUMMARY:Heels-姿昀x太陽
DESCRIPTION:
URL:https://www.dancesoul.com.tw/schedule/heels-%e5%a7%bf%e6%98%80x%e5%a4%aa%e9%99%bd/2025-07-14/
CATEGORIES:Heels,特別課程
END:VEVENT
BEGIN:VEVENT
DTSTART;TZID=Asia/Shanghai:20250715T165000
DTEND;TZID=Asia/Shanghai:20250715T175000
DTSTAMP:20260425T211830
CREATED:20250623T121143Z
LAST-MODIFIED:20250623T121143Z
UID:10021853-1752598200-1752601800@www.dancesoul.com.tw
SUMMARY:MV-凝琦x薇臻
DESCRIPTION:
URL:https://www.dancesoul.com.tw/schedule/mv-%e5%87%9d%e7%90%a6x%e8%96%87%e8%87%bb/2025-07-15/
CATEGORIES:MV課,特別課程
END:VEVENT
BEGIN:VEVENT
DTSTART;TZID=Asia/Shanghai:20250716T165000
DTEND;TZID=Asia/Shanghai:20250716T175000
DTSTAMP:20260425T211830
CREATED:20250623T122146Z
LAST-MODIFIED:20250623T123123Z
UID:10021883-1752684600-1752688200@www.dancesoul.com.tw
SUMMARY:Choreography-林彤x聖恩
DESCRIPTION:
URL:https://www.dancesoul.com.tw/schedule/choreography-%e6%9e%97%e5%bd%a4x%e8%81%96%e6%81%a9/2025-07-16/
CATEGORIES:Choreography,特別課程
END:VEVENT
BEGIN:VEVENT
DTSTART;TZID=Asia/Shanghai:20250717T165000
DTEND;TZID=Asia/Shanghai:20250717T175000
DTSTAMP:20260425T211830
CREATED:20250623T123251Z
LAST-MODIFIED:20250623T123251Z
UID:10021918-1752771000-1752774600@www.dancesoul.com.tw
SUMMARY:Choreography-俊宏xCoffee
DESCRIPTION:
URL:https://www.dancesoul.com.tw/schedule/choreography-%e4%bf%8a%e5%ae%8fxcoffee/2025-07-17/
CATEGORIES:Choreography,特別課程
END:VEVENT
BEGIN:VEVENT
DTSTART;TZID=Asia/Shanghai:20250718T165000
DTEND;TZID=Asia/Shanghai:20250718T175000
DTSTAMP:20260425T211830
CREATED:20250623T131047Z
LAST-MODIFIED:20250623T131047Z
UID:10021956-1752857400-1752861000@www.dancesoul.com.tw
SUMMARY:Choreography-Larryx巴豪
DESCRIPTION:ㄓ
URL:https://www.dancesoul.com.tw/schedule/choreography-larryx%e5%b7%b4%e8%b1%aa/2025-07-18/
CATEGORIES:Choreography,特別課程
END:VEVENT
BEGIN:VEVENT
DTSTART;TZID=Asia/Shanghai:20250721T165000
DTEND;TZID=Asia/Shanghai:20250721T175000
DTSTAMP:20260425T211830
CREATED:20250623T105548Z
LAST-MODIFIED:20250623T105548Z
UID:10021823-1753116600-1753120200@www.dancesoul.com.tw
SUMMARY:Heels-姿昀x太陽
DESCRIPTION:
URL:https://www.dancesoul.com.tw/schedule/heels-%e5%a7%bf%e6%98%80x%e5%a4%aa%e9%99%bd/2025-07-21/
CATEGORIES:Heels,特別課程
END:VEVENT
BEGIN:VEVENT
DTSTART;TZID=Asia/Shanghai:20250722T165000
DTEND;TZID=Asia/Shanghai:20250722T175000
DTSTAMP:20260425T211830
CREATED:20250623T121143Z
LAST-MODIFIED:20250623T121143Z
UID:10021854-1753203000-1753206600@www.dancesoul.com.tw
SUMMARY:MV-凝琦x薇臻
DESCRIPTION:
URL:https://www.dancesoul.com.tw/schedule/mv-%e5%87%9d%e7%90%a6x%e8%96%87%e8%87%bb/2025-07-22/
CATEGORIES:MV課,特別課程
END:VEVENT
BEGIN:VEVENT
DTSTART;TZID=Asia/Shanghai:20250723T165000
DTEND;TZID=Asia/Shanghai:20250723T175000
DTSTAMP:20260425T211830
CREATED:20250623T122146Z
LAST-MODIFIED:20250623T123123Z
UID:10021884-1753289400-1753293000@www.dancesoul.com.tw
SUMMARY:Choreography-林彤x聖恩
DESCRIPTION:
URL:https://www.dancesoul.com.tw/schedule/choreography-%e6%9e%97%e5%bd%a4x%e8%81%96%e6%81%a9/2025-07-23/
CATEGORIES:Choreography,特別課程
END:VEVENT
BEGIN:VEVENT
DTSTART;TZID=Asia/Shanghai:20250724T165000
DTEND;TZID=Asia/Shanghai:20250724T175000
DTSTAMP:20260425T211830
CREATED:20250623T123251Z
LAST-MODIFIED:20250623T123251Z
UID:10021919-1753375800-1753379400@www.dancesoul.com.tw
SUMMARY:Choreography-俊宏xCoffee
DESCRIPTION:
URL:https://www.dancesoul.com.tw/schedule/choreography-%e4%bf%8a%e5%ae%8fxcoffee/2025-07-24/
CATEGORIES:Choreography,特別課程
END:VEVENT
BEGIN:VEVENT
DTSTART;TZID=Asia/Shanghai:20250725T165000
DTEND;TZID=Asia/Shanghai:20250725T175000
DTSTAMP:20260425T211830
CREATED:20250623T131047Z
LAST-MODIFIED:20250623T131047Z
UID:10021957-1753462200-1753465800@www.dancesoul.com.tw
SUMMARY:Choreography-Larryx巴豪
DESCRIPTION:ㄓ
URL:https://www.dancesoul.com.tw/schedule/choreography-larryx%e5%b7%b4%e8%b1%aa/2025-07-25/
CATEGORIES:Choreography,特別課程
END:VEVENT
BEGIN:VEVENT
DTSTART;TZID=Asia/Shanghai:20250728T165000
DTEND;TZID=Asia/Shanghai:20250728T175000
DTSTAMP:20260425T211830
CREATED:20250623T105548Z
LAST-MODIFIED:20250623T105548Z
UID:10021824-1753721400-1753725000@www.dancesoul.com.tw
SUMMARY:Heels-姿昀x太陽
DESCRIPTION:
URL:https://www.dancesoul.com.tw/schedule/heels-%e5%a7%bf%e6%98%80x%e5%a4%aa%e9%99%bd/2025-07-28/
CATEGORIES:Heels,特別課程
END:VEVENT
BEGIN:VEVENT
DTSTART;TZID=Asia/Shanghai:20250729T165000
DTEND;TZID=Asia/Shanghai:20250729T175000
DTSTAMP:20260425T211830
CREATED:20250623T121143Z
LAST-MODIFIED:20250623T121143Z
UID:10021855-1753807800-1753811400@www.dancesoul.com.tw
SUMMARY:MV-凝琦x薇臻
DESCRIPTION:
URL:https://www.dancesoul.com.tw/schedule/mv-%e5%87%9d%e7%90%a6x%e8%96%87%e8%87%bb/2025-07-29/
CATEGORIES:MV課,特別課程
END:VEVENT
BEGIN:VEVENT
DTSTART;TZID=Asia/Shanghai:20250730T165000
DTEND;TZID=Asia/Shanghai:20250730T175000
DTSTAMP:20260425T211830
CREATED:20250623T122146Z
LAST-MODIFIED:20250623T123123Z
UID:10021885-1753894200-1753897800@www.dancesoul.com.tw
SUMMARY:Choreography-林彤x聖恩
DESCRIPTION:
URL:https://www.dancesoul.com.tw/schedule/choreography-%e6%9e%97%e5%bd%a4x%e8%81%96%e6%81%a9/2025-07-30/
CATEGORIES:Choreography,特別課程
END:VEVENT
BEGIN:VEVENT
DTSTART;TZID=Asia/Shanghai:20250731T165000
DTEND;TZID=Asia/Shanghai:20250731T175000
DTSTAMP:20260425T211830
CREATED:20250623T123251Z
LAST-MODIFIED:20250623T123251Z
UID:10021920-1753980600-1753984200@www.dancesoul.com.tw
SUMMARY:Choreography-俊宏xCoffee
DESCRIPTION:
URL:https://www.dancesoul.com.tw/schedule/choreography-%e4%bf%8a%e5%ae%8fxcoffee/2025-07-31/
CATEGORIES:Choreography,特別課程
END:VEVENT
END:VCALENDAR