BEGIN:VCALENDAR
VERSION:2.0
PRODID:-//DANCE SOUL 舞魂街舞學校 - ECPv6.15.18//NONSGML v1.0//EN
CALSCALE:GREGORIAN
METHOD:PUBLISH
X-WR-CALNAME:DANCE SOUL 舞魂街舞學校
X-ORIGINAL-URL:https://www.dancesoul.com.tw
X-WR-CALDESC:Events for DANCE SOUL 舞魂街舞學校
REFRESH-INTERVAL;VALUE=DURATION:PT1H
X-Robots-Tag:noindex
X-PUBLISHED-TTL:PT1H
BEGIN:VTIMEZONE
TZID:Asia/Shanghai
BEGIN:STANDARD
TZOFFSETFROM:+0800
TZOFFSETTO:+0800
TZNAME:CST
DTSTART:20240101T000000
END:STANDARD
END:VTIMEZONE
BEGIN:VEVENT
DTSTART;TZID=Asia/Shanghai:20250811T165000
DTEND;TZID=Asia/Shanghai:20250811T175000
DTSTAMP:20260422T051814
CREATED:20250725T074201Z
LAST-MODIFIED:20250725T074201Z
UID:10022052-1754931000-1754934600@www.dancesoul.com.tw
SUMMARY:Choreography-承達x無盡
DESCRIPTION:
URL:https://www.dancesoul.com.tw/schedule/choreography-%e6%89%bf%e9%81%94x%e7%84%a1%e7%9b%a1/2025-08-11/
CATEGORIES:Choreography,特別課程
END:VEVENT
END:VCALENDAR