BEGIN:VCALENDAR
VERSION:2.0
PRODID:-//DANCE SOUL 舞魂街舞學校 - ECPv6.15.18//NONSGML v1.0//EN
CALSCALE:GREGORIAN
METHOD:PUBLISH
X-ORIGINAL-URL:https://www.dancesoul.com.tw
X-WR-CALDESC:Events for DANCE SOUL 舞魂街舞學校
REFRESH-INTERVAL;VALUE=DURATION:PT1H
X-Robots-Tag:noindex
X-PUBLISHED-TTL:PT1H
BEGIN:VTIMEZONE
TZID:Asia/Shanghai
BEGIN:STANDARD
TZOFFSETFROM:+0800
TZOFFSETTO:+0800
TZNAME:CST
DTSTART:20200101T000000
END:STANDARD
END:VTIMEZONE
BEGIN:VEVENT
DTSTART;TZID=Asia/Shanghai:20250404T163000
DTEND;TZID=Asia/Shanghai:20250404T180000
DTSTAMP:20260421T044127
CREATED:20250328T082141Z
LAST-MODIFIED:20250328T082141Z
UID:10021387-1743784200-1743789600@www.dancesoul.com.tw
SUMMARY:Special Class-Dang X Yeung
DESCRIPTION:
URL:https://www.dancesoul.com.tw/schedule/special-class-dang-x-yeung/
CATEGORIES:特別課程,課程
END:VEVENT
BEGIN:VEVENT
DTSTART;TZID=Asia/Shanghai:20250403T163000
DTEND;TZID=Asia/Shanghai:20250403T180000
DTSTAMP:20260421T044127
CREATED:20250328T081905Z
LAST-MODIFIED:20250328T081905Z
UID:10021386-1743697800-1743703200@www.dancesoul.com.tw
SUMMARY:Special Class-Kyle X Larry
DESCRIPTION:
URL:https://www.dancesoul.com.tw/schedule/special-class-kyle-x-larry/
CATEGORIES:特別課程,課程
END:VEVENT
BEGIN:VEVENT
DTSTART;TZID=Asia/Shanghai:20250403T145000
DTEND;TZID=Asia/Shanghai:20250403T162000
DTSTAMP:20260421T044127
CREATED:20250328T081744Z
LAST-MODIFIED:20250328T081744Z
UID:10021385-1743691800-1743697200@www.dancesoul.com.tw
SUMMARY:Special Class-Zero X Hana
DESCRIPTION:
URL:https://www.dancesoul.com.tw/schedule/special-class-zero-x-hana/
CATEGORIES:常態課_一般,特別課程
END:VEVENT
BEGIN:VEVENT
DTSTART;TZID=Asia/Shanghai:20250205T165000
DTEND;TZID=Asia/Shanghai:20250205T175000
DTSTAMP:20260421T044127
CREATED:20250126T060334Z
LAST-MODIFIED:20250126T060334Z
UID:10021060-1738774200-1738777800@www.dancesoul.com.tw
SUMMARY:特別課程-Kyle X 鈴鐺
DESCRIPTION:
URL:https://www.dancesoul.com.tw/schedule/%e7%89%b9%e5%88%a5%e8%aa%b2%e7%a8%8b-kyle-x-%e9%88%b4%e9%90%ba/
CATEGORIES:特別課程,課程
END:VEVENT
BEGIN:VEVENT
DTSTART;TZID=Asia/Shanghai:20250204T165000
DTEND;TZID=Asia/Shanghai:20250204T175000
DTSTAMP:20260421T044127
CREATED:20250126T060156Z
LAST-MODIFIED:20250126T060156Z
UID:10021059-1738687800-1738691400@www.dancesoul.com.tw
SUMMARY:特別課程-Bigo X Larry
DESCRIPTION:
URL:https://www.dancesoul.com.tw/schedule/%e7%89%b9%e5%88%a5%e8%aa%b2%e7%a8%8b-bigo-x-larry/
CATEGORIES:特別課程,課程
END:VEVENT
BEGIN:VEVENT
DTSTART;TZID=Asia/Shanghai:20250122T165000
DTEND;TZID=Asia/Shanghai:20250122T175000
DTSTAMP:20260421T044127
CREATED:20241231T032448Z
LAST-MODIFIED:20250102T092457Z
UID:10020944-1737564600-1737568200@www.dancesoul.com.tw
SUMMARY:特別課程-俊宏 X Coffee
DESCRIPTION:
URL:https://www.dancesoul.com.tw/schedule/%e7%89%b9%e5%88%a5%e8%aa%b2%e7%a8%8b-%e4%bf%8a%e5%ae%8f-x-coffee/
CATEGORIES:特別課程
END:VEVENT
BEGIN:VEVENT
DTSTART;TZID=Asia/Shanghai:20250121T165000
DTEND;TZID=Asia/Shanghai:20250121T175000
DTSTAMP:20260421T044127
CREATED:20241231T031831Z
LAST-MODIFIED:20250102T092300Z
UID:10020941-1737478200-1737481800@www.dancesoul.com.tw
SUMMARY:特別課程-巴豪 X Cen妹
DESCRIPTION:
URL:https://www.dancesoul.com.tw/schedule/%e7%89%b9%e5%88%a5%e8%aa%b2%e7%a8%8b-%e5%b7%b4%e8%b1%aa-x-cen%e5%a6%b9/
CATEGORIES:特別課程
END:VEVENT
BEGIN:VEVENT
DTSTART;TZID=Asia/Shanghai:20240801T205000
DTEND;TZID=Asia/Shanghai:20240801T215000
DTSTAMP:20260421T044127
CREATED:20240729T060817Z
LAST-MODIFIED:20240729T060817Z
UID:10020128-1722545400-1722549000@www.dancesoul.com.tw
SUMMARY:Afro Style-巴豪 (體驗課)
DESCRIPTION:
URL:https://www.dancesoul.com.tw/schedule/afro-style-%e5%b7%b4%e8%b1%aa-%e9%ab%94%e9%a9%97%e8%aa%b2/
CATEGORIES:Afro Style,特別課程,課程
END:VEVENT
BEGIN:VEVENT
DTSTART;TZID=Asia/Shanghai:20220410T183000
DTEND;TZID=Asia/Shanghai:20220410T200000
DTSTAMP:20260421T044127
CREATED:20220329T095537Z
LAST-MODIFIED:20220329T095537Z
UID:10015743-1649615400-1649620800@www.dancesoul.com.tw
SUMMARY:舞展徵選-Free Style_俊宏X育暉
DESCRIPTION:
URL:https://www.dancesoul.com.tw/schedule/%e8%88%9e%e5%b1%95%e5%be%b5%e9%81%b8-free-style_%e4%bf%8a%e5%ae%8fx%e8%82%b2%e6%9a%89/
LOCATION:仁愛路四段425-1號\, Taipei City\, 104\, 台灣
CATEGORIES:特別課程
END:VEVENT
BEGIN:VEVENT
DTSTART;TZID=Asia/Shanghai:20220406T202000
DTEND;TZID=Asia/Shanghai:20220406T212000
DTSTAMP:20260421T044127
CREATED:20220329T085223Z
LAST-MODIFIED:20220329T085223Z
UID:10013403-1649276400-1649280000@www.dancesoul.com.tw
SUMMARY:舞展徵選-Choreography_小虎
DESCRIPTION:
URL:https://www.dancesoul.com.tw/schedule/%e8%88%9e%e5%b1%95%e5%be%b5%e9%81%b8-choreography_%e5%b0%8f%e8%99%8e/
LOCATION:仁愛路四段425-1號\, Taipei City\, 104\, 台灣
CATEGORIES:特別課程
END:VEVENT
BEGIN:VEVENT
DTSTART;TZID=Asia/Shanghai:20220405T202000
DTEND;TZID=Asia/Shanghai:20220405T212000
DTSTAMP:20260421T044127
CREATED:20220329T083620Z
LAST-MODIFIED:20220329T083620Z
UID:10015636-1649190000-1649193600@www.dancesoul.com.tw
SUMMARY:舞展徵選-Girl Style_ Denis
DESCRIPTION:
URL:https://www.dancesoul.com.tw/schedule/%e8%88%9e%e5%b1%95%e5%be%b5%e9%81%b8-girl-style_-denis/
LOCATION:仁愛路四段425-1號\, Taipei City\, 104\, 台灣
CATEGORIES:特別課程
END:VEVENT
BEGIN:VEVENT
DTSTART;TZID=Asia/Shanghai:20210207T194000
DTEND;TZID=Asia/Shanghai:20210207T211000
DTSTAMP:20260421T044127
CREATED:20210205T114725Z
LAST-MODIFIED:20210205T114725Z
UID:10012427-1612726800-1612732200@www.dancesoul.com.tw
SUMMARY:情人節特別課程-弈夫X沛縈
DESCRIPTION:
URL:https://www.dancesoul.com.tw/schedule/%e6%83%85%e4%ba%ba%e7%af%80%e7%89%b9%e5%88%a5%e8%aa%b2%e7%a8%8b-%e5%bc%88%e5%a4%abx%e6%b2%9b%e7%b8%88/
LOCATION:仁愛路四段425-1號\, Taipei City\, 104\, 台灣
CATEGORIES:特別課程,課程
END:VEVENT
BEGIN:VEVENT
DTSTART;TZID=Asia/Shanghai:20210207T180000
DTEND;TZID=Asia/Shanghai:20210207T193000
DTSTAMP:20260421T044127
CREATED:20210205T114644Z
LAST-MODIFIED:20210205T114644Z
UID:10012426-1612720800-1612726200@www.dancesoul.com.tw
SUMMARY:情人節特別課程-小虎X小卉
DESCRIPTION:
URL:https://www.dancesoul.com.tw/schedule/%e6%83%85%e4%ba%ba%e7%af%80%e7%89%b9%e5%88%a5%e8%aa%b2%e7%a8%8b-%e5%b0%8f%e8%99%8ex%e5%b0%8f%e5%8d%89/
LOCATION:仁愛路四段425-1號\, Taipei City\, 104\, 台灣
CATEGORIES:特別課程,課程
END:VEVENT
BEGIN:VEVENT
DTSTART;TZID=Asia/Shanghai:20210206T194000
DTEND;TZID=Asia/Shanghai:20210206T211000
DTSTAMP:20260421T044127
CREATED:20210205T114618Z
LAST-MODIFIED:20210205T114618Z
UID:10012425-1612640400-1612645800@www.dancesoul.com.tw
SUMMARY:情人節特別課程-俊宏X寶誼
DESCRIPTION:
URL:https://www.dancesoul.com.tw/schedule/%e6%83%85%e4%ba%ba%e7%af%80%e7%89%b9%e5%88%a5%e8%aa%b2%e7%a8%8b-%e4%bf%8a%e5%ae%8fx%e5%af%b6%e8%aa%bc/
LOCATION:仁愛路四段425-1號\, Taipei City\, 104\, 台灣
CATEGORIES:特別課程,課程
END:VEVENT
BEGIN:VEVENT
DTSTART;TZID=Asia/Shanghai:20210206T180000
DTEND;TZID=Asia/Shanghai:20210206T193000
DTSTAMP:20260421T044127
CREATED:20210205T114507Z
LAST-MODIFIED:20210205T114507Z
UID:10012424-1612634400-1612639800@www.dancesoul.com.tw
SUMMARY:情人節特別課程-阿禾X郁文
DESCRIPTION:
URL:https://www.dancesoul.com.tw/schedule/%e6%83%85%e4%ba%ba%e7%af%80%e7%89%b9%e5%88%a5%e8%aa%b2%e7%a8%8b-%e9%98%bf%e7%a6%bex%e9%83%81%e6%96%87/
LOCATION:仁愛路四段425-1號\, Taipei City\, 104\, 台灣
CATEGORIES:特別課程,課程
END:VEVENT
END:VCALENDAR