BEGIN:VCALENDAR
VERSION:2.0
PRODID:-//DANCE SOUL 舞魂街舞學校 - ECPv6.15.18//NONSGML v1.0//EN
CALSCALE:GREGORIAN
METHOD:PUBLISH
X-WR-CALNAME:DANCE SOUL 舞魂街舞學校
X-ORIGINAL-URL:https://www.dancesoul.com.tw
X-WR-CALDESC:Events for DANCE SOUL 舞魂街舞學校
REFRESH-INTERVAL;VALUE=DURATION:PT1H
X-Robots-Tag:noindex
X-PUBLISHED-TTL:PT1H
BEGIN:VTIMEZONE
TZID:Asia/Shanghai
BEGIN:STANDARD
TZOFFSETFROM:+0800
TZOFFSETTO:+0800
TZNAME:CST
DTSTART:20240101T000000
END:STANDARD
END:VTIMEZONE
BEGIN:VEVENT
DTSTART;TZID=Asia/Shanghai:20251101T143000
DTEND;TZID=Asia/Shanghai:20251101T153000
DTSTAMP:20260425T200451
CREATED:20250901T054940Z
LAST-MODIFIED:20250901T054940Z
UID:10027530-1762007400-1762011000@www.dancesoul.com.tw
SUMMARY:兒童MV(BABYMONSTER-HOT SAUCE)-薇臻
DESCRIPTION:
URL:https://www.dancesoul.com.tw/schedule/%e5%85%92%e7%ab%a5mvbabymonster-hot-sauce-%e8%96%87%e8%87%bb/2025-11-01/
CATEGORIES:MV課,兒童MV,課程
END:VEVENT
BEGIN:VEVENT
DTSTART;TZID=Asia/Shanghai:20251101T143000
DTEND;TZID=Asia/Shanghai:20251101T153000
DTSTAMP:20260425T200451
CREATED:20251202T055414Z
LAST-MODIFIED:20260315T072223Z
UID:10031374-1762007400-1762011000@www.dancesoul.com.tw
SUMMARY:兒童MV(IVE - 'BANG BANG')-薇臻
DESCRIPTION:
URL:https://www.dancesoul.com.tw/schedule/%e5%85%92%e7%ab%a5mvbabymonster-hot-sauce-%e8%96%87%e8%87%bb-2/2025-11-01/
CATEGORIES:MV課,兒童MV,課程
END:VEVENT
BEGIN:VEVENT
DTSTART;TZID=Asia/Shanghai:20251101T164000
DTEND;TZID=Asia/Shanghai:20251101T174000
DTSTAMP:20260425T200451
CREATED:20250901T055344Z
LAST-MODIFIED:20251202T055314Z
UID:10027792-1762015200-1762018800@www.dancesoul.com.tw
SUMMARY:MV(BABYMONSTER - ‘PSYCHO’)-凝琦
DESCRIPTION:
URL:https://www.dancesoul.com.tw/schedule/mvive-xoxz-%e5%87%9d%e7%90%a6/2025-11-01/
CATEGORIES:MV課,課程
END:VEVENT
BEGIN:VEVENT
DTSTART;TZID=Asia/Shanghai:20251101T164000
DTEND;TZID=Asia/Shanghai:20251101T174000
DTSTAMP:20260425T200451
CREATED:20260315T072002Z
LAST-MODIFIED:20260315T072518Z
UID:10031436-1762015200-1762018800@www.dancesoul.com.tw
SUMMARY:MV(IVE - ‘BANG BANG’)-薇臻
DESCRIPTION:
URL:https://www.dancesoul.com.tw/schedule/mvive-xoxz-%e5%87%9d%e7%90%a6-2-2/2025-11-01/
CATEGORIES:MV課,課程
END:VEVENT
BEGIN:VEVENT
DTSTART;TZID=Asia/Shanghai:20251102T165000
DTEND;TZID=Asia/Shanghai:20251102T175000
DTSTAMP:20260425T200451
CREATED:20251201T095640Z
LAST-MODIFIED:20260315T071631Z
UID:10031286-1762102200-1762105800@www.dancesoul.com.tw
SUMMARY:MV(Apink - 'Love Me More')-Jenny
DESCRIPTION:
URL:https://www.dancesoul.com.tw/schedule/mvsomi-closer-%e7%91%9c%e5%ba%ad-2/2025-11-02/
CATEGORIES:MV課,課程
END:VEVENT
BEGIN:VEVENT
DTSTART;TZID=Asia/Shanghai:20251108T143000
DTEND;TZID=Asia/Shanghai:20251108T153000
DTSTAMP:20260425T200451
CREATED:20250901T054940Z
LAST-MODIFIED:20250901T054940Z
UID:10027531-1762612200-1762615800@www.dancesoul.com.tw
SUMMARY:兒童MV(BABYMONSTER-HOT SAUCE)-薇臻
DESCRIPTION:
URL:https://www.dancesoul.com.tw/schedule/%e5%85%92%e7%ab%a5mvbabymonster-hot-sauce-%e8%96%87%e8%87%bb/2025-11-08/
CATEGORIES:MV課,兒童MV,課程
END:VEVENT
BEGIN:VEVENT
DTSTART;TZID=Asia/Shanghai:20251108T143000
DTEND;TZID=Asia/Shanghai:20251108T153000
DTSTAMP:20260425T200451
CREATED:20251202T055414Z
LAST-MODIFIED:20260315T072223Z
UID:10031375-1762612200-1762615800@www.dancesoul.com.tw
SUMMARY:兒童MV(IVE - 'BANG BANG')-薇臻
DESCRIPTION:
URL:https://www.dancesoul.com.tw/schedule/%e5%85%92%e7%ab%a5mvbabymonster-hot-sauce-%e8%96%87%e8%87%bb-2/2025-11-08/
CATEGORIES:MV課,兒童MV,課程
END:VEVENT
BEGIN:VEVENT
DTSTART;TZID=Asia/Shanghai:20251108T164000
DTEND;TZID=Asia/Shanghai:20251108T174000
DTSTAMP:20260425T200451
CREATED:20250901T055344Z
LAST-MODIFIED:20251202T055314Z
UID:10027793-1762620000-1762623600@www.dancesoul.com.tw
SUMMARY:MV(BABYMONSTER - ‘PSYCHO’)-凝琦
DESCRIPTION:
URL:https://www.dancesoul.com.tw/schedule/mvive-xoxz-%e5%87%9d%e7%90%a6/2025-11-08/
CATEGORIES:MV課,課程
END:VEVENT
BEGIN:VEVENT
DTSTART;TZID=Asia/Shanghai:20251108T164000
DTEND;TZID=Asia/Shanghai:20251108T174000
DTSTAMP:20260425T200451
CREATED:20260315T072002Z
LAST-MODIFIED:20260315T072518Z
UID:10031437-1762620000-1762623600@www.dancesoul.com.tw
SUMMARY:MV(IVE - ‘BANG BANG’)-薇臻
DESCRIPTION:
URL:https://www.dancesoul.com.tw/schedule/mvive-xoxz-%e5%87%9d%e7%90%a6-2-2/2025-11-08/
CATEGORIES:MV課,課程
END:VEVENT
BEGIN:VEVENT
DTSTART;TZID=Asia/Shanghai:20251109T165000
DTEND;TZID=Asia/Shanghai:20251109T175000
DTSTAMP:20260425T200451
CREATED:20251201T095640Z
LAST-MODIFIED:20260315T071631Z
UID:10031287-1762707000-1762710600@www.dancesoul.com.tw
SUMMARY:MV(Apink - 'Love Me More')-Jenny
DESCRIPTION:
URL:https://www.dancesoul.com.tw/schedule/mvsomi-closer-%e7%91%9c%e5%ba%ad-2/2025-11-09/
CATEGORIES:MV課,課程
END:VEVENT
BEGIN:VEVENT
DTSTART;TZID=Asia/Shanghai:20251115T143000
DTEND;TZID=Asia/Shanghai:20251115T153000
DTSTAMP:20260425T200451
CREATED:20250901T054940Z
LAST-MODIFIED:20250901T054940Z
UID:10027532-1763217000-1763220600@www.dancesoul.com.tw
SUMMARY:兒童MV(BABYMONSTER-HOT SAUCE)-薇臻
DESCRIPTION:
URL:https://www.dancesoul.com.tw/schedule/%e5%85%92%e7%ab%a5mvbabymonster-hot-sauce-%e8%96%87%e8%87%bb/2025-11-15/
CATEGORIES:MV課,兒童MV,課程
END:VEVENT
BEGIN:VEVENT
DTSTART;TZID=Asia/Shanghai:20251115T143000
DTEND;TZID=Asia/Shanghai:20251115T153000
DTSTAMP:20260425T200451
CREATED:20251202T055414Z
LAST-MODIFIED:20260315T072223Z
UID:10031376-1763217000-1763220600@www.dancesoul.com.tw
SUMMARY:兒童MV(IVE - 'BANG BANG')-薇臻
DESCRIPTION:
URL:https://www.dancesoul.com.tw/schedule/%e5%85%92%e7%ab%a5mvbabymonster-hot-sauce-%e8%96%87%e8%87%bb-2/2025-11-15/
CATEGORIES:MV課,兒童MV,課程
END:VEVENT
BEGIN:VEVENT
DTSTART;TZID=Asia/Shanghai:20251115T164000
DTEND;TZID=Asia/Shanghai:20251115T174000
DTSTAMP:20260425T200451
CREATED:20250901T055344Z
LAST-MODIFIED:20251202T055314Z
UID:10027794-1763224800-1763228400@www.dancesoul.com.tw
SUMMARY:MV(BABYMONSTER - ‘PSYCHO’)-凝琦
DESCRIPTION:
URL:https://www.dancesoul.com.tw/schedule/mvive-xoxz-%e5%87%9d%e7%90%a6/2025-11-15/
CATEGORIES:MV課,課程
END:VEVENT
BEGIN:VEVENT
DTSTART;TZID=Asia/Shanghai:20251115T164000
DTEND;TZID=Asia/Shanghai:20251115T174000
DTSTAMP:20260425T200451
CREATED:20260315T072002Z
LAST-MODIFIED:20260315T072518Z
UID:10031438-1763224800-1763228400@www.dancesoul.com.tw
SUMMARY:MV(IVE - ‘BANG BANG’)-薇臻
DESCRIPTION:
URL:https://www.dancesoul.com.tw/schedule/mvive-xoxz-%e5%87%9d%e7%90%a6-2-2/2025-11-15/
CATEGORIES:MV課,課程
END:VEVENT
BEGIN:VEVENT
DTSTART;TZID=Asia/Shanghai:20251116T165000
DTEND;TZID=Asia/Shanghai:20251116T175000
DTSTAMP:20260425T200451
CREATED:20251201T095640Z
LAST-MODIFIED:20260315T071631Z
UID:10031288-1763311800-1763315400@www.dancesoul.com.tw
SUMMARY:MV(Apink - 'Love Me More')-Jenny
DESCRIPTION:
URL:https://www.dancesoul.com.tw/schedule/mvsomi-closer-%e7%91%9c%e5%ba%ad-2/2025-11-16/
CATEGORIES:MV課,課程
END:VEVENT
BEGIN:VEVENT
DTSTART;TZID=Asia/Shanghai:20251122T143000
DTEND;TZID=Asia/Shanghai:20251122T153000
DTSTAMP:20260425T200451
CREATED:20250901T054940Z
LAST-MODIFIED:20250901T054940Z
UID:10027533-1763821800-1763825400@www.dancesoul.com.tw
SUMMARY:兒童MV(BABYMONSTER-HOT SAUCE)-薇臻
DESCRIPTION:
URL:https://www.dancesoul.com.tw/schedule/%e5%85%92%e7%ab%a5mvbabymonster-hot-sauce-%e8%96%87%e8%87%bb/2025-11-22/
CATEGORIES:MV課,兒童MV,課程
END:VEVENT
BEGIN:VEVENT
DTSTART;TZID=Asia/Shanghai:20251122T143000
DTEND;TZID=Asia/Shanghai:20251122T153000
DTSTAMP:20260425T200451
CREATED:20251202T055414Z
LAST-MODIFIED:20260315T072223Z
UID:10031377-1763821800-1763825400@www.dancesoul.com.tw
SUMMARY:兒童MV(IVE - 'BANG BANG')-薇臻
DESCRIPTION:
URL:https://www.dancesoul.com.tw/schedule/%e5%85%92%e7%ab%a5mvbabymonster-hot-sauce-%e8%96%87%e8%87%bb-2/2025-11-22/
CATEGORIES:MV課,兒童MV,課程
END:VEVENT
BEGIN:VEVENT
DTSTART;TZID=Asia/Shanghai:20251122T164000
DTEND;TZID=Asia/Shanghai:20251122T174000
DTSTAMP:20260425T200451
CREATED:20250901T055344Z
LAST-MODIFIED:20251202T055314Z
UID:10027795-1763829600-1763833200@www.dancesoul.com.tw
SUMMARY:MV(BABYMONSTER - ‘PSYCHO’)-凝琦
DESCRIPTION:
URL:https://www.dancesoul.com.tw/schedule/mvive-xoxz-%e5%87%9d%e7%90%a6/2025-11-22/
CATEGORIES:MV課,課程
END:VEVENT
BEGIN:VEVENT
DTSTART;TZID=Asia/Shanghai:20251122T164000
DTEND;TZID=Asia/Shanghai:20251122T174000
DTSTAMP:20260425T200451
CREATED:20260315T072002Z
LAST-MODIFIED:20260315T072518Z
UID:10031439-1763829600-1763833200@www.dancesoul.com.tw
SUMMARY:MV(IVE - ‘BANG BANG’)-薇臻
DESCRIPTION:
URL:https://www.dancesoul.com.tw/schedule/mvive-xoxz-%e5%87%9d%e7%90%a6-2-2/2025-11-22/
CATEGORIES:MV課,課程
END:VEVENT
BEGIN:VEVENT
DTSTART;TZID=Asia/Shanghai:20251123T165000
DTEND;TZID=Asia/Shanghai:20251123T175000
DTSTAMP:20260425T200451
CREATED:20251201T095640Z
LAST-MODIFIED:20260315T071631Z
UID:10031289-1763916600-1763920200@www.dancesoul.com.tw
SUMMARY:MV(Apink - 'Love Me More')-Jenny
DESCRIPTION:
URL:https://www.dancesoul.com.tw/schedule/mvsomi-closer-%e7%91%9c%e5%ba%ad-2/2025-11-23/
CATEGORIES:MV課,課程
END:VEVENT
BEGIN:VEVENT
DTSTART;TZID=Asia/Shanghai:20251129T143000
DTEND;TZID=Asia/Shanghai:20251129T153000
DTSTAMP:20260425T200451
CREATED:20250901T054940Z
LAST-MODIFIED:20250901T054940Z
UID:10027534-1764426600-1764430200@www.dancesoul.com.tw
SUMMARY:兒童MV(BABYMONSTER-HOT SAUCE)-薇臻
DESCRIPTION:
URL:https://www.dancesoul.com.tw/schedule/%e5%85%92%e7%ab%a5mvbabymonster-hot-sauce-%e8%96%87%e8%87%bb/2025-11-29/
CATEGORIES:MV課,兒童MV,課程
END:VEVENT
BEGIN:VEVENT
DTSTART;TZID=Asia/Shanghai:20251129T143000
DTEND;TZID=Asia/Shanghai:20251129T153000
DTSTAMP:20260425T200451
CREATED:20251202T055414Z
LAST-MODIFIED:20260315T072223Z
UID:10031378-1764426600-1764430200@www.dancesoul.com.tw
SUMMARY:兒童MV(IVE - 'BANG BANG')-薇臻
DESCRIPTION:
URL:https://www.dancesoul.com.tw/schedule/%e5%85%92%e7%ab%a5mvbabymonster-hot-sauce-%e8%96%87%e8%87%bb-2/2025-11-29/
CATEGORIES:MV課,兒童MV,課程
END:VEVENT
BEGIN:VEVENT
DTSTART;TZID=Asia/Shanghai:20251129T164000
DTEND;TZID=Asia/Shanghai:20251129T174000
DTSTAMP:20260425T200451
CREATED:20250901T055344Z
LAST-MODIFIED:20251202T055314Z
UID:10027796-1764434400-1764438000@www.dancesoul.com.tw
SUMMARY:MV(BABYMONSTER - ‘PSYCHO’)-凝琦
DESCRIPTION:
URL:https://www.dancesoul.com.tw/schedule/mvive-xoxz-%e5%87%9d%e7%90%a6/2025-11-29/
CATEGORIES:MV課,課程
END:VEVENT
BEGIN:VEVENT
DTSTART;TZID=Asia/Shanghai:20251129T164000
DTEND;TZID=Asia/Shanghai:20251129T174000
DTSTAMP:20260425T200451
CREATED:20260315T072002Z
LAST-MODIFIED:20260315T072518Z
UID:10031440-1764434400-1764438000@www.dancesoul.com.tw
SUMMARY:MV(IVE - ‘BANG BANG’)-薇臻
DESCRIPTION:
URL:https://www.dancesoul.com.tw/schedule/mvive-xoxz-%e5%87%9d%e7%90%a6-2-2/2025-11-29/
CATEGORIES:MV課,課程
END:VEVENT
BEGIN:VEVENT
DTSTART;TZID=Asia/Shanghai:20251130T165000
DTEND;TZID=Asia/Shanghai:20251130T175000
DTSTAMP:20260425T200451
CREATED:20251201T095640Z
LAST-MODIFIED:20260315T071631Z
UID:10031290-1764521400-1764525000@www.dancesoul.com.tw
SUMMARY:MV(Apink - 'Love Me More')-Jenny
DESCRIPTION:
URL:https://www.dancesoul.com.tw/schedule/mvsomi-closer-%e7%91%9c%e5%ba%ad-2/2025-11-30/
CATEGORIES:MV課,課程
END:VEVENT
END:VCALENDAR