BEGIN:VCALENDAR
VERSION:2.0
PRODID:-//DANCE SOUL 舞魂街舞學校 - ECPv6.15.18//NONSGML v1.0//EN
CALSCALE:GREGORIAN
METHOD:PUBLISH
X-ORIGINAL-URL:https://www.dancesoul.com.tw
X-WR-CALDESC:Events for DANCE SOUL 舞魂街舞學校
REFRESH-INTERVAL;VALUE=DURATION:PT1H
X-Robots-Tag:noindex
X-PUBLISHED-TTL:PT1H
BEGIN:VTIMEZONE
TZID:Asia/Shanghai
BEGIN:STANDARD
TZOFFSETFROM:+0800
TZOFFSETTO:+0800
TZNAME:CST
DTSTART:20260101T000000
END:STANDARD
END:VTIMEZONE
BEGIN:VEVENT
DTSTART;TZID=Asia/Shanghai:20270306T143000
DTEND;TZID=Asia/Shanghai:20270306T153000
DTSTAMP:20260422T233855
CREATED:20251202T055414Z
LAST-MODIFIED:20260315T072223Z
UID:10027600-1804343400-1804347000@www.dancesoul.com.tw
SUMMARY:兒童MV(IVE - 'BANG BANG')-薇臻
DESCRIPTION:
URL:https://www.dancesoul.com.tw/schedule/%e5%85%92%e7%ab%a5mvbabymonster-hot-sauce-%e8%96%87%e8%87%bb-2/2027-03-06/
CATEGORIES:MV課,兒童MV,課程
END:VEVENT
BEGIN:VEVENT
DTSTART;TZID=Asia/Shanghai:20270306T164000
DTEND;TZID=Asia/Shanghai:20270306T174000
DTSTAMP:20260422T233855
CREATED:20260315T072002Z
LAST-MODIFIED:20260315T072518Z
UID:10027862-1804351200-1804354800@www.dancesoul.com.tw
SUMMARY:MV(IVE - ‘BANG BANG’)-薇臻
DESCRIPTION:
URL:https://www.dancesoul.com.tw/schedule/mvive-xoxz-%e5%87%9d%e7%90%a6-2-2/2027-03-06/
CATEGORIES:MV課,課程
END:VEVENT
BEGIN:VEVENT
DTSTART;TZID=Asia/Shanghai:20270307T165000
DTEND;TZID=Asia/Shanghai:20270307T175000
DTSTAMP:20260422T233855
CREATED:20251201T095640Z
LAST-MODIFIED:20260315T071631Z
UID:10029689-1804438200-1804441800@www.dancesoul.com.tw
SUMMARY:MV(Apink - 'Love Me More')-Jenny
DESCRIPTION:
URL:https://www.dancesoul.com.tw/schedule/mvsomi-closer-%e7%91%9c%e5%ba%ad-2/2027-03-07/
CATEGORIES:MV課,課程
END:VEVENT
BEGIN:VEVENT
DTSTART;TZID=Asia/Shanghai:20270308T182000
DTEND;TZID=Asia/Shanghai:20270308T192000
DTSTAMP:20260422T233855
CREATED:20260327T084628Z
LAST-MODIFIED:20260327T084933Z
UID:10035347-1804530000-1804533600@www.dancesoul.com.tw
SUMMARY:MV-瑜庭
DESCRIPTION:
URL:https://www.dancesoul.com.tw/schedule/mvtwice-this-is-for-%e7%91%9c%e5%ba%ad-2/2027-03-08/
CATEGORIES:MV課,課程
END:VEVENT
BEGIN:VEVENT
DTSTART;TZID=Asia/Shanghai:20270313T143000
DTEND;TZID=Asia/Shanghai:20270313T153000
DTSTAMP:20260422T233855
CREATED:20251202T055414Z
LAST-MODIFIED:20260315T072223Z
UID:10027601-1804948200-1804951800@www.dancesoul.com.tw
SUMMARY:兒童MV(IVE - 'BANG BANG')-薇臻
DESCRIPTION:
URL:https://www.dancesoul.com.tw/schedule/%e5%85%92%e7%ab%a5mvbabymonster-hot-sauce-%e8%96%87%e8%87%bb-2/2027-03-13/
CATEGORIES:MV課,兒童MV,課程
END:VEVENT
BEGIN:VEVENT
DTSTART;TZID=Asia/Shanghai:20270313T164000
DTEND;TZID=Asia/Shanghai:20270313T174000
DTSTAMP:20260422T233855
CREATED:20260315T072002Z
LAST-MODIFIED:20260315T072518Z
UID:10027863-1804956000-1804959600@www.dancesoul.com.tw
SUMMARY:MV(IVE - ‘BANG BANG’)-薇臻
DESCRIPTION:
URL:https://www.dancesoul.com.tw/schedule/mvive-xoxz-%e5%87%9d%e7%90%a6-2-2/2027-03-13/
CATEGORIES:MV課,課程
END:VEVENT
BEGIN:VEVENT
DTSTART;TZID=Asia/Shanghai:20270314T165000
DTEND;TZID=Asia/Shanghai:20270314T175000
DTSTAMP:20260422T233855
CREATED:20251201T095640Z
LAST-MODIFIED:20260315T071631Z
UID:10029690-1805043000-1805046600@www.dancesoul.com.tw
SUMMARY:MV(Apink - 'Love Me More')-Jenny
DESCRIPTION:
URL:https://www.dancesoul.com.tw/schedule/mvsomi-closer-%e7%91%9c%e5%ba%ad-2/2027-03-14/
CATEGORIES:MV課,課程
END:VEVENT
BEGIN:VEVENT
DTSTART;TZID=Asia/Shanghai:20270315T182000
DTEND;TZID=Asia/Shanghai:20270315T192000
DTSTAMP:20260422T233855
CREATED:20260327T084628Z
LAST-MODIFIED:20260327T084933Z
UID:10035348-1805134800-1805138400@www.dancesoul.com.tw
SUMMARY:MV-瑜庭
DESCRIPTION:
URL:https://www.dancesoul.com.tw/schedule/mvtwice-this-is-for-%e7%91%9c%e5%ba%ad-2/2027-03-15/
CATEGORIES:MV課,課程
END:VEVENT
BEGIN:VEVENT
DTSTART;TZID=Asia/Shanghai:20270320T143000
DTEND;TZID=Asia/Shanghai:20270320T153000
DTSTAMP:20260422T233855
CREATED:20251202T055414Z
LAST-MODIFIED:20260315T072223Z
UID:10027602-1805553000-1805556600@www.dancesoul.com.tw
SUMMARY:兒童MV(IVE - 'BANG BANG')-薇臻
DESCRIPTION:
URL:https://www.dancesoul.com.tw/schedule/%e5%85%92%e7%ab%a5mvbabymonster-hot-sauce-%e8%96%87%e8%87%bb-2/2027-03-20/
CATEGORIES:MV課,兒童MV,課程
END:VEVENT
BEGIN:VEVENT
DTSTART;TZID=Asia/Shanghai:20270320T164000
DTEND;TZID=Asia/Shanghai:20270320T174000
DTSTAMP:20260422T233855
CREATED:20260315T072002Z
LAST-MODIFIED:20260315T072518Z
UID:10027864-1805560800-1805564400@www.dancesoul.com.tw
SUMMARY:MV(IVE - ‘BANG BANG’)-薇臻
DESCRIPTION:
URL:https://www.dancesoul.com.tw/schedule/mvive-xoxz-%e5%87%9d%e7%90%a6-2-2/2027-03-20/
CATEGORIES:MV課,課程
END:VEVENT
BEGIN:VEVENT
DTSTART;TZID=Asia/Shanghai:20270321T165000
DTEND;TZID=Asia/Shanghai:20270321T175000
DTSTAMP:20260422T233855
CREATED:20251201T095640Z
LAST-MODIFIED:20260315T071631Z
UID:10029691-1805647800-1805651400@www.dancesoul.com.tw
SUMMARY:MV(Apink - 'Love Me More')-Jenny
DESCRIPTION:
URL:https://www.dancesoul.com.tw/schedule/mvsomi-closer-%e7%91%9c%e5%ba%ad-2/2027-03-21/
CATEGORIES:MV課,課程
END:VEVENT
BEGIN:VEVENT
DTSTART;TZID=Asia/Shanghai:20270322T182000
DTEND;TZID=Asia/Shanghai:20270322T192000
DTSTAMP:20260422T233855
CREATED:20260327T084628Z
LAST-MODIFIED:20260327T084933Z
UID:10035349-1805739600-1805743200@www.dancesoul.com.tw
SUMMARY:MV-瑜庭
DESCRIPTION:
URL:https://www.dancesoul.com.tw/schedule/mvtwice-this-is-for-%e7%91%9c%e5%ba%ad-2/2027-03-22/
CATEGORIES:MV課,課程
END:VEVENT
BEGIN:VEVENT
DTSTART;TZID=Asia/Shanghai:20270327T143000
DTEND;TZID=Asia/Shanghai:20270327T153000
DTSTAMP:20260422T233855
CREATED:20251202T055414Z
LAST-MODIFIED:20260315T072223Z
UID:10027603-1806157800-1806161400@www.dancesoul.com.tw
SUMMARY:兒童MV(IVE - 'BANG BANG')-薇臻
DESCRIPTION:
URL:https://www.dancesoul.com.tw/schedule/%e5%85%92%e7%ab%a5mvbabymonster-hot-sauce-%e8%96%87%e8%87%bb-2/2027-03-27/
CATEGORIES:MV課,兒童MV,課程
END:VEVENT
BEGIN:VEVENT
DTSTART;TZID=Asia/Shanghai:20270327T164000
DTEND;TZID=Asia/Shanghai:20270327T174000
DTSTAMP:20260422T233855
CREATED:20260315T072002Z
LAST-MODIFIED:20260315T072518Z
UID:10027865-1806165600-1806169200@www.dancesoul.com.tw
SUMMARY:MV(IVE - ‘BANG BANG’)-薇臻
DESCRIPTION:
URL:https://www.dancesoul.com.tw/schedule/mvive-xoxz-%e5%87%9d%e7%90%a6-2-2/2027-03-27/
CATEGORIES:MV課,課程
END:VEVENT
BEGIN:VEVENT
DTSTART;TZID=Asia/Shanghai:20270328T165000
DTEND;TZID=Asia/Shanghai:20270328T175000
DTSTAMP:20260422T233855
CREATED:20251201T095640Z
LAST-MODIFIED:20260315T071631Z
UID:10029692-1806252600-1806256200@www.dancesoul.com.tw
SUMMARY:MV(Apink - 'Love Me More')-Jenny
DESCRIPTION:
URL:https://www.dancesoul.com.tw/schedule/mvsomi-closer-%e7%91%9c%e5%ba%ad-2/2027-03-28/
CATEGORIES:MV課,課程
END:VEVENT
BEGIN:VEVENT
DTSTART;TZID=Asia/Shanghai:20270329T182000
DTEND;TZID=Asia/Shanghai:20270329T192000
DTSTAMP:20260422T233855
CREATED:20260327T084628Z
LAST-MODIFIED:20260327T084933Z
UID:10035350-1806344400-1806348000@www.dancesoul.com.tw
SUMMARY:MV-瑜庭
DESCRIPTION:
URL:https://www.dancesoul.com.tw/schedule/mvtwice-this-is-for-%e7%91%9c%e5%ba%ad-2/2027-03-29/
CATEGORIES:MV課,課程
END:VEVENT
BEGIN:VEVENT
DTSTART;TZID=Asia/Shanghai:20270403T143000
DTEND;TZID=Asia/Shanghai:20270403T153000
DTSTAMP:20260422T233855
CREATED:20251202T055414Z
LAST-MODIFIED:20260315T072223Z
UID:10027604-1806762600-1806766200@www.dancesoul.com.tw
SUMMARY:兒童MV(IVE - 'BANG BANG')-薇臻
DESCRIPTION:
URL:https://www.dancesoul.com.tw/schedule/%e5%85%92%e7%ab%a5mvbabymonster-hot-sauce-%e8%96%87%e8%87%bb-2/2027-04-03/
CATEGORIES:MV課,兒童MV,課程
END:VEVENT
BEGIN:VEVENT
DTSTART;TZID=Asia/Shanghai:20270403T164000
DTEND;TZID=Asia/Shanghai:20270403T174000
DTSTAMP:20260422T233855
CREATED:20260315T072002Z
LAST-MODIFIED:20260315T072518Z
UID:10027866-1806770400-1806774000@www.dancesoul.com.tw
SUMMARY:MV(IVE - ‘BANG BANG’)-薇臻
DESCRIPTION:
URL:https://www.dancesoul.com.tw/schedule/mvive-xoxz-%e5%87%9d%e7%90%a6-2-2/2027-04-03/
CATEGORIES:MV課,課程
END:VEVENT
BEGIN:VEVENT
DTSTART;TZID=Asia/Shanghai:20270404T165000
DTEND;TZID=Asia/Shanghai:20270404T175000
DTSTAMP:20260422T233855
CREATED:20251201T095640Z
LAST-MODIFIED:20260315T071631Z
UID:10029693-1806857400-1806861000@www.dancesoul.com.tw
SUMMARY:MV(Apink - 'Love Me More')-Jenny
DESCRIPTION:
URL:https://www.dancesoul.com.tw/schedule/mvsomi-closer-%e7%91%9c%e5%ba%ad-2/2027-04-04/
CATEGORIES:MV課,課程
END:VEVENT
BEGIN:VEVENT
DTSTART;TZID=Asia/Shanghai:20270405T182000
DTEND;TZID=Asia/Shanghai:20270405T192000
DTSTAMP:20260422T233855
CREATED:20260327T084628Z
LAST-MODIFIED:20260327T084933Z
UID:10035351-1806949200-1806952800@www.dancesoul.com.tw
SUMMARY:MV-瑜庭
DESCRIPTION:
URL:https://www.dancesoul.com.tw/schedule/mvtwice-this-is-for-%e7%91%9c%e5%ba%ad-2/2027-04-05/
CATEGORIES:MV課,課程
END:VEVENT
BEGIN:VEVENT
DTSTART;TZID=Asia/Shanghai:20270410T143000
DTEND;TZID=Asia/Shanghai:20270410T153000
DTSTAMP:20260422T233855
CREATED:20251202T055414Z
LAST-MODIFIED:20260315T072223Z
UID:10027605-1807367400-1807371000@www.dancesoul.com.tw
SUMMARY:兒童MV(IVE - 'BANG BANG')-薇臻
DESCRIPTION:
URL:https://www.dancesoul.com.tw/schedule/%e5%85%92%e7%ab%a5mvbabymonster-hot-sauce-%e8%96%87%e8%87%bb-2/2027-04-10/
CATEGORIES:MV課,兒童MV,課程
END:VEVENT
BEGIN:VEVENT
DTSTART;TZID=Asia/Shanghai:20270410T164000
DTEND;TZID=Asia/Shanghai:20270410T174000
DTSTAMP:20260422T233855
CREATED:20260315T072002Z
LAST-MODIFIED:20260315T072518Z
UID:10027867-1807375200-1807378800@www.dancesoul.com.tw
SUMMARY:MV(IVE - ‘BANG BANG’)-薇臻
DESCRIPTION:
URL:https://www.dancesoul.com.tw/schedule/mvive-xoxz-%e5%87%9d%e7%90%a6-2-2/2027-04-10/
CATEGORIES:MV課,課程
END:VEVENT
BEGIN:VEVENT
DTSTART;TZID=Asia/Shanghai:20270411T165000
DTEND;TZID=Asia/Shanghai:20270411T175000
DTSTAMP:20260422T233855
CREATED:20251201T095640Z
LAST-MODIFIED:20260315T071631Z
UID:10029694-1807462200-1807465800@www.dancesoul.com.tw
SUMMARY:MV(Apink - 'Love Me More')-Jenny
DESCRIPTION:
URL:https://www.dancesoul.com.tw/schedule/mvsomi-closer-%e7%91%9c%e5%ba%ad-2/2027-04-11/
CATEGORIES:MV課,課程
END:VEVENT
BEGIN:VEVENT
DTSTART;TZID=Asia/Shanghai:20270412T182000
DTEND;TZID=Asia/Shanghai:20270412T192000
DTSTAMP:20260422T233855
CREATED:20260327T084628Z
LAST-MODIFIED:20260327T084933Z
UID:10035352-1807554000-1807557600@www.dancesoul.com.tw
SUMMARY:MV-瑜庭
DESCRIPTION:
URL:https://www.dancesoul.com.tw/schedule/mvtwice-this-is-for-%e7%91%9c%e5%ba%ad-2/2027-04-12/
CATEGORIES:MV課,課程
END:VEVENT
BEGIN:VEVENT
DTSTART;TZID=Asia/Shanghai:20270417T143000
DTEND;TZID=Asia/Shanghai:20270417T153000
DTSTAMP:20260422T233855
CREATED:20251202T055414Z
LAST-MODIFIED:20260315T072223Z
UID:10027606-1807972200-1807975800@www.dancesoul.com.tw
SUMMARY:兒童MV(IVE - 'BANG BANG')-薇臻
DESCRIPTION:
URL:https://www.dancesoul.com.tw/schedule/%e5%85%92%e7%ab%a5mvbabymonster-hot-sauce-%e8%96%87%e8%87%bb-2/2027-04-17/
CATEGORIES:MV課,兒童MV,課程
END:VEVENT
BEGIN:VEVENT
DTSTART;TZID=Asia/Shanghai:20270417T164000
DTEND;TZID=Asia/Shanghai:20270417T174000
DTSTAMP:20260422T233855
CREATED:20260315T072002Z
LAST-MODIFIED:20260315T072518Z
UID:10027868-1807980000-1807983600@www.dancesoul.com.tw
SUMMARY:MV(IVE - ‘BANG BANG’)-薇臻
DESCRIPTION:
URL:https://www.dancesoul.com.tw/schedule/mvive-xoxz-%e5%87%9d%e7%90%a6-2-2/2027-04-17/
CATEGORIES:MV課,課程
END:VEVENT
BEGIN:VEVENT
DTSTART;TZID=Asia/Shanghai:20270418T165000
DTEND;TZID=Asia/Shanghai:20270418T175000
DTSTAMP:20260422T233855
CREATED:20251201T095640Z
LAST-MODIFIED:20260315T071631Z
UID:10029695-1808067000-1808070600@www.dancesoul.com.tw
SUMMARY:MV(Apink - 'Love Me More')-Jenny
DESCRIPTION:
URL:https://www.dancesoul.com.tw/schedule/mvsomi-closer-%e7%91%9c%e5%ba%ad-2/2027-04-18/
CATEGORIES:MV課,課程
END:VEVENT
BEGIN:VEVENT
DTSTART;TZID=Asia/Shanghai:20270419T182000
DTEND;TZID=Asia/Shanghai:20270419T192000
DTSTAMP:20260422T233855
CREATED:20260327T084628Z
LAST-MODIFIED:20260327T084933Z
UID:10035353-1808158800-1808162400@www.dancesoul.com.tw
SUMMARY:MV-瑜庭
DESCRIPTION:
URL:https://www.dancesoul.com.tw/schedule/mvtwice-this-is-for-%e7%91%9c%e5%ba%ad-2/2027-04-19/
CATEGORIES:MV課,課程
END:VEVENT
BEGIN:VEVENT
DTSTART;TZID=Asia/Shanghai:20270424T143000
DTEND;TZID=Asia/Shanghai:20270424T153000
DTSTAMP:20260422T233855
CREATED:20251202T055414Z
LAST-MODIFIED:20260315T072223Z
UID:10027607-1808577000-1808580600@www.dancesoul.com.tw
SUMMARY:兒童MV(IVE - 'BANG BANG')-薇臻
DESCRIPTION:
URL:https://www.dancesoul.com.tw/schedule/%e5%85%92%e7%ab%a5mvbabymonster-hot-sauce-%e8%96%87%e8%87%bb-2/2027-04-24/
CATEGORIES:MV課,兒童MV,課程
END:VEVENT
BEGIN:VEVENT
DTSTART;TZID=Asia/Shanghai:20270424T164000
DTEND;TZID=Asia/Shanghai:20270424T174000
DTSTAMP:20260422T233855
CREATED:20260315T072002Z
LAST-MODIFIED:20260315T072518Z
UID:10027869-1808584800-1808588400@www.dancesoul.com.tw
SUMMARY:MV(IVE - ‘BANG BANG’)-薇臻
DESCRIPTION:
URL:https://www.dancesoul.com.tw/schedule/mvive-xoxz-%e5%87%9d%e7%90%a6-2-2/2027-04-24/
CATEGORIES:MV課,課程
END:VEVENT
END:VCALENDAR