BEGIN:VCALENDAR
VERSION:2.0
PRODID:-//DANCE SOUL 舞魂街舞學校 - ECPv6.15.18//NONSGML v1.0//EN
CALSCALE:GREGORIAN
METHOD:PUBLISH
X-WR-CALNAME:DANCE SOUL 舞魂街舞學校
X-ORIGINAL-URL:https://www.dancesoul.com.tw
X-WR-CALDESC:Events for DANCE SOUL 舞魂街舞學校
REFRESH-INTERVAL;VALUE=DURATION:PT1H
X-Robots-Tag:noindex
X-PUBLISHED-TTL:PT1H
BEGIN:VTIMEZONE
TZID:Asia/Shanghai
BEGIN:STANDARD
TZOFFSETFROM:+0800
TZOFFSETTO:+0800
TZNAME:CST
DTSTART:20250101T000000
END:STANDARD
END:VTIMEZONE
BEGIN:VEVENT
DTSTART;TZID=Asia/Shanghai:20260808T143000
DTEND;TZID=Asia/Shanghai:20260808T153000
DTSTAMP:20260421T051104
CREATED:20251202T055414Z
LAST-MODIFIED:20260315T072223Z
UID:10027570-1786199400-1786203000@www.dancesoul.com.tw
SUMMARY:兒童MV(IVE - 'BANG BANG')-薇臻
DESCRIPTION:
URL:https://www.dancesoul.com.tw/schedule/%e5%85%92%e7%ab%a5mvbabymonster-hot-sauce-%e8%96%87%e8%87%bb-2/2026-08-08/
CATEGORIES:MV課,兒童MV,課程
END:VEVENT
BEGIN:VEVENT
DTSTART;TZID=Asia/Shanghai:20260808T164000
DTEND;TZID=Asia/Shanghai:20260808T174000
DTSTAMP:20260421T051104
CREATED:20260315T072002Z
LAST-MODIFIED:20260315T072518Z
UID:10027832-1786207200-1786210800@www.dancesoul.com.tw
SUMMARY:MV(IVE - ‘BANG BANG’)-薇臻
DESCRIPTION:
URL:https://www.dancesoul.com.tw/schedule/mvive-xoxz-%e5%87%9d%e7%90%a6-2-2/2026-08-08/
CATEGORIES:MV課,課程
END:VEVENT
BEGIN:VEVENT
DTSTART;TZID=Asia/Shanghai:20260809T165000
DTEND;TZID=Asia/Shanghai:20260809T175000
DTSTAMP:20260421T051104
CREATED:20251201T095640Z
LAST-MODIFIED:20260315T071631Z
UID:10029659-1786294200-1786297800@www.dancesoul.com.tw
SUMMARY:MV(Apink - 'Love Me More')-Jenny
DESCRIPTION:
URL:https://www.dancesoul.com.tw/schedule/mvsomi-closer-%e7%91%9c%e5%ba%ad-2/2026-08-09/
CATEGORIES:MV課,課程
END:VEVENT
BEGIN:VEVENT
DTSTART;TZID=Asia/Shanghai:20260810T182000
DTEND;TZID=Asia/Shanghai:20260810T192000
DTSTAMP:20260421T051104
CREATED:20260327T084628Z
LAST-MODIFIED:20260327T084933Z
UID:10035317-1786386000-1786389600@www.dancesoul.com.tw
SUMMARY:MV-瑜庭
DESCRIPTION:
URL:https://www.dancesoul.com.tw/schedule/mvtwice-this-is-for-%e7%91%9c%e5%ba%ad-2/2026-08-10/
CATEGORIES:MV課,課程
END:VEVENT
BEGIN:VEVENT
DTSTART;TZID=Asia/Shanghai:20260815T143000
DTEND;TZID=Asia/Shanghai:20260815T153000
DTSTAMP:20260421T051104
CREATED:20251202T055414Z
LAST-MODIFIED:20260315T072223Z
UID:10027571-1786804200-1786807800@www.dancesoul.com.tw
SUMMARY:兒童MV(IVE - 'BANG BANG')-薇臻
DESCRIPTION:
URL:https://www.dancesoul.com.tw/schedule/%e5%85%92%e7%ab%a5mvbabymonster-hot-sauce-%e8%96%87%e8%87%bb-2/2026-08-15/
CATEGORIES:MV課,兒童MV,課程
END:VEVENT
BEGIN:VEVENT
DTSTART;TZID=Asia/Shanghai:20260815T164000
DTEND;TZID=Asia/Shanghai:20260815T174000
DTSTAMP:20260421T051104
CREATED:20260315T072002Z
LAST-MODIFIED:20260315T072518Z
UID:10027833-1786812000-1786815600@www.dancesoul.com.tw
SUMMARY:MV(IVE - ‘BANG BANG’)-薇臻
DESCRIPTION:
URL:https://www.dancesoul.com.tw/schedule/mvive-xoxz-%e5%87%9d%e7%90%a6-2-2/2026-08-15/
CATEGORIES:MV課,課程
END:VEVENT
BEGIN:VEVENT
DTSTART;TZID=Asia/Shanghai:20260816T165000
DTEND;TZID=Asia/Shanghai:20260816T175000
DTSTAMP:20260421T051104
CREATED:20251201T095640Z
LAST-MODIFIED:20260315T071631Z
UID:10029660-1786899000-1786902600@www.dancesoul.com.tw
SUMMARY:MV(Apink - 'Love Me More')-Jenny
DESCRIPTION:
URL:https://www.dancesoul.com.tw/schedule/mvsomi-closer-%e7%91%9c%e5%ba%ad-2/2026-08-16/
CATEGORIES:MV課,課程
END:VEVENT
BEGIN:VEVENT
DTSTART;TZID=Asia/Shanghai:20260817T182000
DTEND;TZID=Asia/Shanghai:20260817T192000
DTSTAMP:20260421T051104
CREATED:20260327T084628Z
LAST-MODIFIED:20260327T084933Z
UID:10035318-1786990800-1786994400@www.dancesoul.com.tw
SUMMARY:MV-瑜庭
DESCRIPTION:
URL:https://www.dancesoul.com.tw/schedule/mvtwice-this-is-for-%e7%91%9c%e5%ba%ad-2/2026-08-17/
CATEGORIES:MV課,課程
END:VEVENT
BEGIN:VEVENT
DTSTART;TZID=Asia/Shanghai:20260822T143000
DTEND;TZID=Asia/Shanghai:20260822T153000
DTSTAMP:20260421T051104
CREATED:20251202T055414Z
LAST-MODIFIED:20260315T072223Z
UID:10027572-1787409000-1787412600@www.dancesoul.com.tw
SUMMARY:兒童MV(IVE - 'BANG BANG')-薇臻
DESCRIPTION:
URL:https://www.dancesoul.com.tw/schedule/%e5%85%92%e7%ab%a5mvbabymonster-hot-sauce-%e8%96%87%e8%87%bb-2/2026-08-22/
CATEGORIES:MV課,兒童MV,課程
END:VEVENT
BEGIN:VEVENT
DTSTART;TZID=Asia/Shanghai:20260822T164000
DTEND;TZID=Asia/Shanghai:20260822T174000
DTSTAMP:20260421T051104
CREATED:20260315T072002Z
LAST-MODIFIED:20260315T072518Z
UID:10027834-1787416800-1787420400@www.dancesoul.com.tw
SUMMARY:MV(IVE - ‘BANG BANG’)-薇臻
DESCRIPTION:
URL:https://www.dancesoul.com.tw/schedule/mvive-xoxz-%e5%87%9d%e7%90%a6-2-2/2026-08-22/
CATEGORIES:MV課,課程
END:VEVENT
BEGIN:VEVENT
DTSTART;TZID=Asia/Shanghai:20260823T165000
DTEND;TZID=Asia/Shanghai:20260823T175000
DTSTAMP:20260421T051104
CREATED:20251201T095640Z
LAST-MODIFIED:20260315T071631Z
UID:10029661-1787503800-1787507400@www.dancesoul.com.tw
SUMMARY:MV(Apink - 'Love Me More')-Jenny
DESCRIPTION:
URL:https://www.dancesoul.com.tw/schedule/mvsomi-closer-%e7%91%9c%e5%ba%ad-2/2026-08-23/
CATEGORIES:MV課,課程
END:VEVENT
BEGIN:VEVENT
DTSTART;TZID=Asia/Shanghai:20260824T182000
DTEND;TZID=Asia/Shanghai:20260824T192000
DTSTAMP:20260421T051104
CREATED:20260327T084628Z
LAST-MODIFIED:20260327T084933Z
UID:10035319-1787595600-1787599200@www.dancesoul.com.tw
SUMMARY:MV-瑜庭
DESCRIPTION:
URL:https://www.dancesoul.com.tw/schedule/mvtwice-this-is-for-%e7%91%9c%e5%ba%ad-2/2026-08-24/
CATEGORIES:MV課,課程
END:VEVENT
BEGIN:VEVENT
DTSTART;TZID=Asia/Shanghai:20260829T143000
DTEND;TZID=Asia/Shanghai:20260829T153000
DTSTAMP:20260421T051104
CREATED:20251202T055414Z
LAST-MODIFIED:20260315T072223Z
UID:10027573-1788013800-1788017400@www.dancesoul.com.tw
SUMMARY:兒童MV(IVE - 'BANG BANG')-薇臻
DESCRIPTION:
URL:https://www.dancesoul.com.tw/schedule/%e5%85%92%e7%ab%a5mvbabymonster-hot-sauce-%e8%96%87%e8%87%bb-2/2026-08-29/
CATEGORIES:MV課,兒童MV,課程
END:VEVENT
BEGIN:VEVENT
DTSTART;TZID=Asia/Shanghai:20260829T164000
DTEND;TZID=Asia/Shanghai:20260829T174000
DTSTAMP:20260421T051104
CREATED:20260315T072002Z
LAST-MODIFIED:20260315T072518Z
UID:10027835-1788021600-1788025200@www.dancesoul.com.tw
SUMMARY:MV(IVE - ‘BANG BANG’)-薇臻
DESCRIPTION:
URL:https://www.dancesoul.com.tw/schedule/mvive-xoxz-%e5%87%9d%e7%90%a6-2-2/2026-08-29/
CATEGORIES:MV課,課程
END:VEVENT
BEGIN:VEVENT
DTSTART;TZID=Asia/Shanghai:20260830T165000
DTEND;TZID=Asia/Shanghai:20260830T175000
DTSTAMP:20260421T051104
CREATED:20251201T095640Z
LAST-MODIFIED:20260315T071631Z
UID:10029662-1788108600-1788112200@www.dancesoul.com.tw
SUMMARY:MV(Apink - 'Love Me More')-Jenny
DESCRIPTION:
URL:https://www.dancesoul.com.tw/schedule/mvsomi-closer-%e7%91%9c%e5%ba%ad-2/2026-08-30/
CATEGORIES:MV課,課程
END:VEVENT
BEGIN:VEVENT
DTSTART;TZID=Asia/Shanghai:20260831T182000
DTEND;TZID=Asia/Shanghai:20260831T192000
DTSTAMP:20260421T051104
CREATED:20260327T084628Z
LAST-MODIFIED:20260327T084933Z
UID:10035320-1788200400-1788204000@www.dancesoul.com.tw
SUMMARY:MV-瑜庭
DESCRIPTION:
URL:https://www.dancesoul.com.tw/schedule/mvtwice-this-is-for-%e7%91%9c%e5%ba%ad-2/2026-08-31/
CATEGORIES:MV課,課程
END:VEVENT
BEGIN:VEVENT
DTSTART;TZID=Asia/Shanghai:20260905T143000
DTEND;TZID=Asia/Shanghai:20260905T153000
DTSTAMP:20260421T051104
CREATED:20251202T055414Z
LAST-MODIFIED:20260315T072223Z
UID:10027574-1788618600-1788622200@www.dancesoul.com.tw
SUMMARY:兒童MV(IVE - 'BANG BANG')-薇臻
DESCRIPTION:
URL:https://www.dancesoul.com.tw/schedule/%e5%85%92%e7%ab%a5mvbabymonster-hot-sauce-%e8%96%87%e8%87%bb-2/2026-09-05/
CATEGORIES:MV課,兒童MV,課程
END:VEVENT
BEGIN:VEVENT
DTSTART;TZID=Asia/Shanghai:20260905T164000
DTEND;TZID=Asia/Shanghai:20260905T174000
DTSTAMP:20260421T051104
CREATED:20260315T072002Z
LAST-MODIFIED:20260315T072518Z
UID:10027836-1788626400-1788630000@www.dancesoul.com.tw
SUMMARY:MV(IVE - ‘BANG BANG’)-薇臻
DESCRIPTION:
URL:https://www.dancesoul.com.tw/schedule/mvive-xoxz-%e5%87%9d%e7%90%a6-2-2/2026-09-05/
CATEGORIES:MV課,課程
END:VEVENT
BEGIN:VEVENT
DTSTART;TZID=Asia/Shanghai:20260906T165000
DTEND;TZID=Asia/Shanghai:20260906T175000
DTSTAMP:20260421T051104
CREATED:20251201T095640Z
LAST-MODIFIED:20260315T071631Z
UID:10029663-1788713400-1788717000@www.dancesoul.com.tw
SUMMARY:MV(Apink - 'Love Me More')-Jenny
DESCRIPTION:
URL:https://www.dancesoul.com.tw/schedule/mvsomi-closer-%e7%91%9c%e5%ba%ad-2/2026-09-06/
CATEGORIES:MV課,課程
END:VEVENT
BEGIN:VEVENT
DTSTART;TZID=Asia/Shanghai:20260907T182000
DTEND;TZID=Asia/Shanghai:20260907T192000
DTSTAMP:20260421T051104
CREATED:20260327T084628Z
LAST-MODIFIED:20260327T084933Z
UID:10035321-1788805200-1788808800@www.dancesoul.com.tw
SUMMARY:MV-瑜庭
DESCRIPTION:
URL:https://www.dancesoul.com.tw/schedule/mvtwice-this-is-for-%e7%91%9c%e5%ba%ad-2/2026-09-07/
CATEGORIES:MV課,課程
END:VEVENT
BEGIN:VEVENT
DTSTART;TZID=Asia/Shanghai:20260912T143000
DTEND;TZID=Asia/Shanghai:20260912T153000
DTSTAMP:20260421T051104
CREATED:20251202T055414Z
LAST-MODIFIED:20260315T072223Z
UID:10027575-1789223400-1789227000@www.dancesoul.com.tw
SUMMARY:兒童MV(IVE - 'BANG BANG')-薇臻
DESCRIPTION:
URL:https://www.dancesoul.com.tw/schedule/%e5%85%92%e7%ab%a5mvbabymonster-hot-sauce-%e8%96%87%e8%87%bb-2/2026-09-12/
CATEGORIES:MV課,兒童MV,課程
END:VEVENT
BEGIN:VEVENT
DTSTART;TZID=Asia/Shanghai:20260912T164000
DTEND;TZID=Asia/Shanghai:20260912T174000
DTSTAMP:20260421T051104
CREATED:20260315T072002Z
LAST-MODIFIED:20260315T072518Z
UID:10027837-1789231200-1789234800@www.dancesoul.com.tw
SUMMARY:MV(IVE - ‘BANG BANG’)-薇臻
DESCRIPTION:
URL:https://www.dancesoul.com.tw/schedule/mvive-xoxz-%e5%87%9d%e7%90%a6-2-2/2026-09-12/
CATEGORIES:MV課,課程
END:VEVENT
BEGIN:VEVENT
DTSTART;TZID=Asia/Shanghai:20260913T165000
DTEND;TZID=Asia/Shanghai:20260913T175000
DTSTAMP:20260421T051104
CREATED:20251201T095640Z
LAST-MODIFIED:20260315T071631Z
UID:10029664-1789318200-1789321800@www.dancesoul.com.tw
SUMMARY:MV(Apink - 'Love Me More')-Jenny
DESCRIPTION:
URL:https://www.dancesoul.com.tw/schedule/mvsomi-closer-%e7%91%9c%e5%ba%ad-2/2026-09-13/
CATEGORIES:MV課,課程
END:VEVENT
BEGIN:VEVENT
DTSTART;TZID=Asia/Shanghai:20260914T182000
DTEND;TZID=Asia/Shanghai:20260914T192000
DTSTAMP:20260421T051104
CREATED:20260327T084628Z
LAST-MODIFIED:20260327T084933Z
UID:10035322-1789410000-1789413600@www.dancesoul.com.tw
SUMMARY:MV-瑜庭
DESCRIPTION:
URL:https://www.dancesoul.com.tw/schedule/mvtwice-this-is-for-%e7%91%9c%e5%ba%ad-2/2026-09-14/
CATEGORIES:MV課,課程
END:VEVENT
BEGIN:VEVENT
DTSTART;TZID=Asia/Shanghai:20260919T143000
DTEND;TZID=Asia/Shanghai:20260919T153000
DTSTAMP:20260421T051104
CREATED:20251202T055414Z
LAST-MODIFIED:20260315T072223Z
UID:10027576-1789828200-1789831800@www.dancesoul.com.tw
SUMMARY:兒童MV(IVE - 'BANG BANG')-薇臻
DESCRIPTION:
URL:https://www.dancesoul.com.tw/schedule/%e5%85%92%e7%ab%a5mvbabymonster-hot-sauce-%e8%96%87%e8%87%bb-2/2026-09-19/
CATEGORIES:MV課,兒童MV,課程
END:VEVENT
BEGIN:VEVENT
DTSTART;TZID=Asia/Shanghai:20260919T164000
DTEND;TZID=Asia/Shanghai:20260919T174000
DTSTAMP:20260421T051104
CREATED:20260315T072002Z
LAST-MODIFIED:20260315T072518Z
UID:10027838-1789836000-1789839600@www.dancesoul.com.tw
SUMMARY:MV(IVE - ‘BANG BANG’)-薇臻
DESCRIPTION:
URL:https://www.dancesoul.com.tw/schedule/mvive-xoxz-%e5%87%9d%e7%90%a6-2-2/2026-09-19/
CATEGORIES:MV課,課程
END:VEVENT
BEGIN:VEVENT
DTSTART;TZID=Asia/Shanghai:20260920T165000
DTEND;TZID=Asia/Shanghai:20260920T175000
DTSTAMP:20260421T051104
CREATED:20251201T095640Z
LAST-MODIFIED:20260315T071631Z
UID:10029665-1789923000-1789926600@www.dancesoul.com.tw
SUMMARY:MV(Apink - 'Love Me More')-Jenny
DESCRIPTION:
URL:https://www.dancesoul.com.tw/schedule/mvsomi-closer-%e7%91%9c%e5%ba%ad-2/2026-09-20/
CATEGORIES:MV課,課程
END:VEVENT
BEGIN:VEVENT
DTSTART;TZID=Asia/Shanghai:20260921T182000
DTEND;TZID=Asia/Shanghai:20260921T192000
DTSTAMP:20260421T051104
CREATED:20260327T084628Z
LAST-MODIFIED:20260327T084933Z
UID:10035323-1790014800-1790018400@www.dancesoul.com.tw
SUMMARY:MV-瑜庭
DESCRIPTION:
URL:https://www.dancesoul.com.tw/schedule/mvtwice-this-is-for-%e7%91%9c%e5%ba%ad-2/2026-09-21/
CATEGORIES:MV課,課程
END:VEVENT
BEGIN:VEVENT
DTSTART;TZID=Asia/Shanghai:20260926T143000
DTEND;TZID=Asia/Shanghai:20260926T153000
DTSTAMP:20260421T051104
CREATED:20251202T055414Z
LAST-MODIFIED:20260315T072223Z
UID:10027577-1790433000-1790436600@www.dancesoul.com.tw
SUMMARY:兒童MV(IVE - 'BANG BANG')-薇臻
DESCRIPTION:
URL:https://www.dancesoul.com.tw/schedule/%e5%85%92%e7%ab%a5mvbabymonster-hot-sauce-%e8%96%87%e8%87%bb-2/2026-09-26/
CATEGORIES:MV課,兒童MV,課程
END:VEVENT
BEGIN:VEVENT
DTSTART;TZID=Asia/Shanghai:20260926T164000
DTEND;TZID=Asia/Shanghai:20260926T174000
DTSTAMP:20260421T051104
CREATED:20260315T072002Z
LAST-MODIFIED:20260315T072518Z
UID:10027839-1790440800-1790444400@www.dancesoul.com.tw
SUMMARY:MV(IVE - ‘BANG BANG’)-薇臻
DESCRIPTION:
URL:https://www.dancesoul.com.tw/schedule/mvive-xoxz-%e5%87%9d%e7%90%a6-2-2/2026-09-26/
CATEGORIES:MV課,課程
END:VEVENT
END:VCALENDAR